BEGIN:VCALENDAR
VERSION:2.0
PRODID:-//Lake Sunapee Living - ECPv6.15.13//NONSGML v1.0//EN
CALSCALE:GREGORIAN
METHOD:PUBLISH
X-WR-CALNAME:Lake Sunapee Living
X-ORIGINAL-URL:https://lake-sunapee-living.com
X-WR-CALDESC:Events for Lake Sunapee Living
REFRESH-INTERVAL;VALUE=DURATION:PT1H
X-Robots-Tag:noindex
X-PUBLISHED-TTL:PT1H
BEGIN:VTIMEZONE
TZID:America/New_York
BEGIN:DAYLIGHT
TZOFFSETFROM:-0500
TZOFFSETTO:-0400
TZNAME:EDT
DTSTART:20170312T070000
END:DAYLIGHT
BEGIN:STANDARD
TZOFFSETFROM:-0400
TZOFFSETTO:-0500
TZNAME:EST
DTSTART:20171105T060000
END:STANDARD
BEGIN:DAYLIGHT
TZOFFSETFROM:-0500
TZOFFSETTO:-0400
TZNAME:EDT
DTSTART:20180311T070000
END:DAYLIGHT
BEGIN:STANDARD
TZOFFSETFROM:-0400
TZOFFSETTO:-0500
TZNAME:EST
DTSTART:20181104T060000
END:STANDARD
BEGIN:DAYLIGHT
TZOFFSETFROM:-0500
TZOFFSETTO:-0400
TZNAME:EDT
DTSTART:20190310T070000
END:DAYLIGHT
BEGIN:STANDARD
TZOFFSETFROM:-0400
TZOFFSETTO:-0500
TZNAME:EST
DTSTART:20191103T060000
END:STANDARD
BEGIN:DAYLIGHT
TZOFFSETFROM:-0500
TZOFFSETTO:-0400
TZNAME:EDT
DTSTART:20200308T070000
END:DAYLIGHT
BEGIN:STANDARD
TZOFFSETFROM:-0400
TZOFFSETTO:-0500
TZNAME:EST
DTSTART:20201101T060000
END:STANDARD
BEGIN:DAYLIGHT
TZOFFSETFROM:-0500
TZOFFSETTO:-0400
TZNAME:EDT
DTSTART:20210314T070000
END:DAYLIGHT
BEGIN:STANDARD
TZOFFSETFROM:-0400
TZOFFSETTO:-0500
TZNAME:EST
DTSTART:20211107T060000
END:STANDARD
BEGIN:DAYLIGHT
TZOFFSETFROM:-0500
TZOFFSETTO:-0400
TZNAME:EDT
DTSTART:20220313T070000
END:DAYLIGHT
BEGIN:STANDARD
TZOFFSETFROM:-0400
TZOFFSETTO:-0500
TZNAME:EST
DTSTART:20221106T060000
END:STANDARD
BEGIN:DAYLIGHT
TZOFFSETFROM:-0500
TZOFFSETTO:-0400
TZNAME:EDT
DTSTART:20230312T070000
END:DAYLIGHT
BEGIN:STANDARD
TZOFFSETFROM:-0400
TZOFFSETTO:-0500
TZNAME:EST
DTSTART:20231105T060000
END:STANDARD
BEGIN:DAYLIGHT
TZOFFSETFROM:-0500
TZOFFSETTO:-0400
TZNAME:EDT
DTSTART:20240310T070000
END:DAYLIGHT
BEGIN:STANDARD
TZOFFSETFROM:-0400
TZOFFSETTO:-0500
TZNAME:EST
DTSTART:20241103T060000
END:STANDARD
BEGIN:DAYLIGHT
TZOFFSETFROM:-0500
TZOFFSETTO:-0400
TZNAME:EDT
DTSTART:20250309T070000
END:DAYLIGHT
BEGIN:STANDARD
TZOFFSETFROM:-0400
TZOFFSETTO:-0500
TZNAME:EST
DTSTART:20251102T060000
END:STANDARD
END:VTIMEZONE
BEGIN:VEVENT
DTSTART;TZID=America/New_York:20240727T090000
DTEND;TZID=America/New_York:20240727T223000
DTSTAMP:20260424T214403
CREATED:20240727T125138Z
LAST-MODIFIED:20240727T125211Z
UID:10004325-1722070800-1722119400@lake-sunapee-living.com
SUMMARY:Frenzy in the Forest Trail Run at Webb Forest
DESCRIPTION:15th annual running of the Frenzy in the Forest is a fun 5’ish mile trail run through Webb’s Forest to benefit the Sunapee High School Track & Field program. Enjoy scenic mountain vistas\, single-tracks\, downhills\, and varied terrain in the beautiful Webb Forest. Cost: $20 adults\, $15 15-19\, Free under 12 and 12-14 race day only. Add $5 for race day registration. Extensive raffle for all participants. Wear a hat on race day to participate in the Deerfly Patch contest! www.wnhtrs.com Race Contact Jon Reed jreed@sunapeeschools.org or 603-763-4627 603-727-8821 (text) \n\n\n	Related
URL:https://lake-sunapee-living.com/event/frenzy-in-the-forest-trail-run-at-webb-forest/
LOCATION:Webb Forest\, 200 Harding Hill Road\, Sunapee\, NH\, 03782\, United States
CATEGORIES:Trail Run
ORGANIZER;CN="Louis Bradbard":MAILTO:lbradbard@mac.com
GEO:43.3500034;-72.1042955
X-APPLE-STRUCTURED-LOCATION;VALUE=URI;X-ADDRESS=Webb Forest 200 Harding Hill Road Sunapee NH 03782 United States;X-APPLE-RADIUS=500;X-TITLE=200 Harding Hill Road:geo:-72.1042955,43.3500034
END:VEVENT
BEGIN:VEVENT
DTSTART;TZID=America/New_York:20200726T090000
DTEND;TZID=America/New_York:20200726T110000
DTSTAMP:20260424T214403
CREATED:20200725T003714Z
LAST-MODIFIED:20200725T003714Z
UID:10000418-1595754000-1595761200@lake-sunapee-living.com
SUMMARY:The Horror at Harding Hill mountain bike race
DESCRIPTION:The Horror at Harding Hill\, Webb  Forest\, Sunapee. A premier mountain bike race with a very challenging 5 mile loop through the woods of Sunapee. Junior Race (under 12): Shortened course: 9 am. Parent presence required – registration at race. Prizes and awards presented at the conclusion of the race.Registra-tion at www.bikereg.com \n\n\n	Related
URL:https://lake-sunapee-living.com/event/the-horror-at-harding-hill-mountain-bike-race/
LOCATION:Webb Forest\, 200 Harding Hill Road\, Sunapee\, NH\, 03782\, United States
CATEGORIES:Mountain Bike Race
GEO:43.3500034;-72.1042955
X-APPLE-STRUCTURED-LOCATION;VALUE=URI;X-ADDRESS=Webb Forest 200 Harding Hill Road Sunapee NH 03782 United States;X-APPLE-RADIUS=500;X-TITLE=200 Harding Hill Road:geo:-72.1042955,43.3500034
END:VEVENT
BEGIN:VEVENT
DTSTART;TZID=America/New_York:20180715T090000
DTEND;TZID=America/New_York:20180715T110000
DTSTAMP:20260424T214403
CREATED:20180604T234225Z
LAST-MODIFIED:20180604T234225Z
UID:10000376-1531645200-1531652400@lake-sunapee-living.com
SUMMARY:Mountain Bike Race: The Horror at Harding Hill
DESCRIPTION:THE HORROR AT HARDING HILL Sunday\, July 15th Webb Forest\, Sunapee \nThe Horror at Harding Hill is a premier mountain bike race with a very challenging 5 mile loop through the woods of Sunapee.  \nRiders in the past claim that our course combines the best of single and double track riding.  \nSeveral areas of the course are technical while others allow you to grind it out.  \nJunior Race (under 12): Shortened course: 9 am. Parent presence required – registration at race. Prizes and awards presented at the conclusion of the race. \n Registration at http://www.bikereg.com Contact: Mark Gurney at 603-727-8015 \n\n\n	Related
URL:https://lake-sunapee-living.com/event/mountain-bike-race-the-horror-at-harding-hill/
LOCATION:Webb Forest\, 200 Harding Hill Road\, Sunapee\, NH\, 03782\, United States
CATEGORIES:Mountain Bike Race
GEO:43.3500034;-72.1042955
X-APPLE-STRUCTURED-LOCATION;VALUE=URI;X-ADDRESS=Webb Forest 200 Harding Hill Road Sunapee NH 03782 United States;X-APPLE-RADIUS=500;X-TITLE=200 Harding Hill Road:geo:-72.1042955,43.3500034
END:VEVENT
BEGIN:VEVENT
DTSTART;TZID=America/New_York:20180714T090000
DTEND;TZID=America/New_York:20180714T110000
DTSTAMP:20260424T214403
CREATED:20180604T233747Z
LAST-MODIFIED:20180604T233811Z
UID:10000375-1531558800-1531566000@lake-sunapee-living.com
SUMMARY:Webb Forest: Frenzy in the Forest Trail Run
DESCRIPTION:Frenzy in the Forest Trail Run  \nWebb Forest\, Harding Hill Rd\, Sunapee \nSeventh annual running of the Frenzy in the Forest is a fun 5’ish mile trail run through Webb Forest to benefit the Sunapee High School Athletic Leadership Council.\n \nEnjoy scenic mountain vistas\, single-tracks\, downhills\, and varied terrain in the beautiful Webb Forest.  \nKids up to 16 are free; please visit www.wnhtrs.com for more info and registration. \n  \n  \n\n\n	Related
URL:https://lake-sunapee-living.com/event/webb-forest-frenzy-in-the-forest-trail-run/
LOCATION:Webb Forest\, 200 Harding Hill Road\, Sunapee\, NH\, 03782\, United States
CATEGORIES:Forest Trail Run
GEO:43.3500034;-72.1042955
X-APPLE-STRUCTURED-LOCATION;VALUE=URI;X-ADDRESS=Webb Forest 200 Harding Hill Road Sunapee NH 03782 United States;X-APPLE-RADIUS=500;X-TITLE=200 Harding Hill Road:geo:-72.1042955,43.3500034
END:VEVENT
END:VCALENDAR