BEGIN:VCALENDAR
VERSION:2.0
PRODID:-//Lake Sunapee Living - ECPv6.15.13//NONSGML v1.0//EN
CALSCALE:GREGORIAN
METHOD:PUBLISH
X-ORIGINAL-URL:https://lake-sunapee-living.com
X-WR-CALDESC:Events for Lake Sunapee Living
REFRESH-INTERVAL;VALUE=DURATION:PT1H
X-Robots-Tag:noindex
X-PUBLISHED-TTL:PT1H
BEGIN:VTIMEZONE
TZID:America/New_York
BEGIN:DAYLIGHT
TZOFFSETFROM:-0500
TZOFFSETTO:-0400
TZNAME:EDT
DTSTART:20180311T070000
END:DAYLIGHT
BEGIN:STANDARD
TZOFFSETFROM:-0400
TZOFFSETTO:-0500
TZNAME:EST
DTSTART:20181104T060000
END:STANDARD
BEGIN:DAYLIGHT
TZOFFSETFROM:-0500
TZOFFSETTO:-0400
TZNAME:EDT
DTSTART:20190310T070000
END:DAYLIGHT
BEGIN:STANDARD
TZOFFSETFROM:-0400
TZOFFSETTO:-0500
TZNAME:EST
DTSTART:20191103T060000
END:STANDARD
BEGIN:DAYLIGHT
TZOFFSETFROM:-0500
TZOFFSETTO:-0400
TZNAME:EDT
DTSTART:20200308T070000
END:DAYLIGHT
BEGIN:STANDARD
TZOFFSETFROM:-0400
TZOFFSETTO:-0500
TZNAME:EST
DTSTART:20201101T060000
END:STANDARD
END:VTIMEZONE
BEGIN:VEVENT
DTSTART;TZID=America/New_York:20191012T100000
DTEND;TZID=America/New_York:20191012T130000
DTSTAMP:20260424T180617
CREATED:20190620T001905Z
LAST-MODIFIED:20190620T001905Z
UID:10003784-1570874400-1570885200@lake-sunapee-living.com
SUMMARY:Washington Farmer's Market
DESCRIPTION:A local farmer’s market on the beautiful Washington Town Common. \nDuring the summer we gather on the town common every Saturday from 10-1 Memorial Day weekend until Columbus Day weekend. \nWe also hold a Winter Farmer’s Market the last Sat. of each month from 9-12 in the town hall. \n\n\n	Related
URL:https://lake-sunapee-living.com/event/washington-farmers-market/2019-10-12/
LOCATION:Washington Town Common.\, 7 Halfmoon Pond Rd\, Washington\, NH\, 03280\, United States
CATEGORIES:Farmers Market
GEO:43.176579;-72.0961859
X-APPLE-STRUCTURED-LOCATION;VALUE=URI;X-ADDRESS=Washington Town Common. 7 Halfmoon Pond Rd Washington NH 03280 United States;X-APPLE-RADIUS=500;X-TITLE=7 Halfmoon Pond Rd:geo:-72.0961859,43.176579
END:VEVENT
END:VCALENDAR