BEGIN:VCALENDAR
VERSION:2.0
PRODID:-//Lake Sunapee Living - ECPv6.15.13//NONSGML v1.0//EN
CALSCALE:GREGORIAN
METHOD:PUBLISH
X-WR-CALNAME:Lake Sunapee Living
X-ORIGINAL-URL:https://lake-sunapee-living.com
X-WR-CALDESC:Events for Lake Sunapee Living
REFRESH-INTERVAL;VALUE=DURATION:PT1H
X-Robots-Tag:noindex
X-PUBLISHED-TTL:PT1H
BEGIN:VTIMEZONE
TZID:America/New_York
BEGIN:DAYLIGHT
TZOFFSETFROM:-0500
TZOFFSETTO:-0400
TZNAME:EDT
DTSTART:20210314T070000
END:DAYLIGHT
BEGIN:STANDARD
TZOFFSETFROM:-0400
TZOFFSETTO:-0500
TZNAME:EST
DTSTART:20211107T060000
END:STANDARD
BEGIN:DAYLIGHT
TZOFFSETFROM:-0500
TZOFFSETTO:-0400
TZNAME:EDT
DTSTART:20220313T070000
END:DAYLIGHT
BEGIN:STANDARD
TZOFFSETFROM:-0400
TZOFFSETTO:-0500
TZNAME:EST
DTSTART:20221106T060000
END:STANDARD
BEGIN:DAYLIGHT
TZOFFSETFROM:-0500
TZOFFSETTO:-0400
TZNAME:EDT
DTSTART:20230312T070000
END:DAYLIGHT
BEGIN:STANDARD
TZOFFSETFROM:-0400
TZOFFSETTO:-0500
TZNAME:EST
DTSTART:20231105T060000
END:STANDARD
BEGIN:DAYLIGHT
TZOFFSETFROM:-0500
TZOFFSETTO:-0400
TZNAME:EDT
DTSTART:20240310T070000
END:DAYLIGHT
BEGIN:STANDARD
TZOFFSETFROM:-0400
TZOFFSETTO:-0500
TZNAME:EST
DTSTART:20241103T060000
END:STANDARD
END:VTIMEZONE
BEGIN:VEVENT
DTSTART;TZID=America/New_York:20230708T080000
DTEND;TZID=America/New_York:20230708T140000
DTSTAMP:20260424T152512
CREATED:20230618T123319Z
LAST-MODIFIED:20230618T123425Z
UID:10004163-1688803200-1688824800@lake-sunapee-living.com
SUMMARY:Fundraiser: Sandy's Ride at The Old Man's Junk
DESCRIPTION:July 8th fundraiser !\nStarting with a motorcycle ride at 8 am\nCoffee & donuts free\nKickstands up at 9am\nReturn to lunch buffet and music under the tent! \nRain or shine! Cost $20 Per person \ndetails: Facebook.com/oneman.junk \n\n\n	Related
URL:https://lake-sunapee-living.com/event/fundraiser-sandys-ride-at-the-old-mans-junk/
LOCATION:The Old Man’s Junk\, 2 Mill Village Road\, Goshen\, NH\, 03752\, United States
CATEGORIES:Charity Benefit
GEO:43.3006896;-72.1496427
X-APPLE-STRUCTURED-LOCATION;VALUE=URI;X-ADDRESS=The Old Man’s Junk 2 Mill Village Road Goshen NH 03752 United States;X-APPLE-RADIUS=500;X-TITLE=2 Mill Village Road:geo:-72.1496427,43.3006896
END:VEVENT
BEGIN:VEVENT
DTSTART;TZID=America/New_York:20220730T080000
DTEND;TZID=America/New_York:20220730T130000
DTSTAMP:20260424T152512
CREATED:20220629T023457Z
LAST-MODIFIED:20220629T023914Z
UID:10004126-1659168000-1659186000@lake-sunapee-living.com
SUMMARY:4th annual Ride for Sandy from The Old Man's Junk
DESCRIPTION:Ride for Sandy 2022\nMotorcycle ride 4th annual Ride for Sandy\nRegistration time for riders 8 am at The Old Mans Junk \nKickstands up 10 am. \nRide & lunch donation $20\nLunch only $10 \nEntertainment to be announced\, 50 / 50 raffle and other events !! \nTICKETS AVAILABLE AT The Old Mans Junk. \nAll money raised goes to defray the travel cost for Sandy’s children/grand children to visit \nMore info on facebook: Ride Sandy 2022 \n  \n\n\n	Related
URL:https://lake-sunapee-living.com/event/4th-annual-ride-for-sandy-from-the-old-mans-junk/
LOCATION:The Old Man’s Junk\, 2 Mill Village Road\, Goshen\, NH\, 03752\, United States
CATEGORIES:Charity Benefit
GEO:43.3006896;-72.1496427
X-APPLE-STRUCTURED-LOCATION;VALUE=URI;X-ADDRESS=The Old Man’s Junk 2 Mill Village Road Goshen NH 03752 United States;X-APPLE-RADIUS=500;X-TITLE=2 Mill Village Road:geo:-72.1496427,43.3006896
END:VEVENT
BEGIN:VEVENT
DTSTART;TZID=America/New_York:20220402T100000
DTEND;TZID=America/New_York:20220402T160000
DTSTAMP:20260424T152512
CREATED:20220326T155045Z
LAST-MODIFIED:20220328T030213Z
UID:10000516-1648893600-1648915200@lake-sunapee-living.com
SUMMARY:Open House at The Old Man's Junk
DESCRIPTION:Open house 4/2/22 10 to 4 pm at the Old Man’s Junk\n\nOn stage: the Steve & Kevin show\nDrinks available (you’ll need them)\n\n\n\nThe Old Man is showing off his Florida trip purchases\nAll for sale to pay for the Old Man’s vacation !!\n\nLink to the Old Man’s Junk Facebook page\n\n\n\n\n\n\n\n\n        \n                            \n                                                    \n                                \n                            \n                        \n                        \n                                            \n                                        \n                                                    \n                                \n                            \n                        \n                        \n                                            \n                                        \n                                                    \n                                \n                            \n                        \n                        \n                                            \n                                        \n                                                    \n                                \n                            \n                        \n                        \n                                            \n                        \n    \n\n\n\n\n\n\n\n\n	Related
URL:https://lake-sunapee-living.com/event/open-house-at-the-old-mans-junk/
LOCATION:The Old Man’s Junk\, 2 Mill Village Road\, Goshen\, NH\, 03752\, United States
ATTACH;FMTTYPE=image/jpeg:https://lake-sunapee-living.com/wp-content/uploads/2022/03/Old-Mans-Junk-1031.jpg
GEO:43.3006896;-72.1496427
X-APPLE-STRUCTURED-LOCATION;VALUE=URI;X-ADDRESS=The Old Man’s Junk 2 Mill Village Road Goshen NH 03752 United States;X-APPLE-RADIUS=500;X-TITLE=2 Mill Village Road:geo:-72.1496427,43.3006896
END:VEVENT
END:VCALENDAR