BEGIN:VCALENDAR
VERSION:2.0
PRODID:-//Lake Sunapee Living - ECPv6.15.13//NONSGML v1.0//EN
CALSCALE:GREGORIAN
METHOD:PUBLISH
X-ORIGINAL-URL:https://lake-sunapee-living.com
X-WR-CALDESC:Events for Lake Sunapee Living
REFRESH-INTERVAL;VALUE=DURATION:PT1H
X-Robots-Tag:noindex
X-PUBLISHED-TTL:PT1H
BEGIN:VTIMEZONE
TZID:America/New_York
BEGIN:DAYLIGHT
TZOFFSETFROM:-0500
TZOFFSETTO:-0400
TZNAME:EDT
DTSTART:20170312T070000
END:DAYLIGHT
BEGIN:STANDARD
TZOFFSETFROM:-0400
TZOFFSETTO:-0500
TZNAME:EST
DTSTART:20171105T060000
END:STANDARD
BEGIN:DAYLIGHT
TZOFFSETFROM:-0500
TZOFFSETTO:-0400
TZNAME:EDT
DTSTART:20180311T070000
END:DAYLIGHT
BEGIN:STANDARD
TZOFFSETFROM:-0400
TZOFFSETTO:-0500
TZNAME:EST
DTSTART:20181104T060000
END:STANDARD
BEGIN:DAYLIGHT
TZOFFSETFROM:-0500
TZOFFSETTO:-0400
TZNAME:EDT
DTSTART:20190310T070000
END:DAYLIGHT
BEGIN:STANDARD
TZOFFSETFROM:-0400
TZOFFSETTO:-0500
TZNAME:EST
DTSTART:20191103T060000
END:STANDARD
BEGIN:DAYLIGHT
TZOFFSETFROM:-0500
TZOFFSETTO:-0400
TZNAME:EDT
DTSTART:20200308T070000
END:DAYLIGHT
BEGIN:STANDARD
TZOFFSETFROM:-0400
TZOFFSETTO:-0500
TZNAME:EST
DTSTART:20201101T060000
END:STANDARD
BEGIN:DAYLIGHT
TZOFFSETFROM:-0500
TZOFFSETTO:-0400
TZNAME:EDT
DTSTART:20210314T070000
END:DAYLIGHT
BEGIN:STANDARD
TZOFFSETFROM:-0400
TZOFFSETTO:-0500
TZNAME:EST
DTSTART:20211107T060000
END:STANDARD
END:VTIMEZONE
BEGIN:VEVENT
DTSTART;TZID=America/New_York:20200718T170000
DTEND;TZID=America/New_York:20200718T200000
DTSTAMP:20260424T175253
CREATED:20200710T024256Z
LAST-MODIFIED:20200710T024351Z
UID:10003971-1595091600-1595102400@lake-sunapee-living.com
SUMMARY:Live Music Under the Tent at The Old Courthouse Restaurant
DESCRIPTION:NEW ORLEANS NIGHT – Live Dixieland quartet  \nJoin us under the tent for a fabulous (served) buffet\, prepared by Chef Robert\, and designed by former New Orleans resident Priscilla Hagebusch.  \nCall 863-8360 for reservations \n\n\n	Related
URL:https://lake-sunapee-living.com/event/live-music-under-the-tent-at-the-old-courthouse-restaurant/
LOCATION:The Old Courthouse Restaurant\, 30 Main St\, Newport\, NH\, 03773\, United States
CATEGORIES:Live Music
GEO:43.3623236;-72.1711152
X-APPLE-STRUCTURED-LOCATION;VALUE=URI;X-ADDRESS=The Old Courthouse Restaurant 30 Main St Newport NH 03773 United States;X-APPLE-RADIUS=500;X-TITLE=30 Main St:geo:-72.1711152,43.3623236
END:VEVENT
BEGIN:VEVENT
DTSTART;TZID=America/New_York:20200710T173000
DTEND;TZID=America/New_York:20200710T193000
DTSTAMP:20260424T175253
CREATED:20200709T111130Z
LAST-MODIFIED:20200709T111130Z
UID:10003968-1594402200-1594409400@lake-sunapee-living.com
SUMMARY:Live Music: Friday’s Under the Tent at The Old Courthouse Restaurant
DESCRIPTION:Live music(5:30-7:30) with Newport’s own Second Wind\nSmall plates menu as well as regular dinner menu\nReservations 863-8360 \n\n\n	Related
URL:https://lake-sunapee-living.com/event/live-music-fridays-under-the-tent-at-the-old-courthouse-restaurant/
LOCATION:The Old Courthouse Restaurant\, 30 Main St\, Newport\, NH\, 03773\, United States
CATEGORIES:Live Music
GEO:43.3623236;-72.1711152
X-APPLE-STRUCTURED-LOCATION;VALUE=URI;X-ADDRESS=The Old Courthouse Restaurant 30 Main St Newport NH 03773 United States;X-APPLE-RADIUS=500;X-TITLE=30 Main St:geo:-72.1711152,43.3623236
END:VEVENT
BEGIN:VEVENT
DTSTART;TZID=America/New_York:20200321T180000
DTEND;TZID=America/New_York:20200321T210000
DTSTAMP:20260424T175253
CREATED:20200315T145211Z
LAST-MODIFIED:20200315T145211Z
UID:10000380-1584813600-1584824400@lake-sunapee-living.com
SUMMARY:Maple Madness Dinner Hosted by The Old Courthouse Restaurant
DESCRIPTION:Beat the “Mud Season Blues” at our Maple Madness Dinner featuring Maple Syrup from East Mountain Maple and benefiting the Library Arts Center and music by renowned local fiddler Jane Orzechowski \n\n\n	Related
URL:https://lake-sunapee-living.com/event/maple-madness-dinner-hosted-by-the-old-courthouse-restaurant/
LOCATION:The Old Courthouse Restaurant\, 30 Main St\, Newport\, NH\, 03773\, United States
CATEGORIES:Theme Dinner
GEO:43.3623236;-72.1711152
X-APPLE-STRUCTURED-LOCATION;VALUE=URI;X-ADDRESS=The Old Courthouse Restaurant 30 Main St Newport NH 03773 United States;X-APPLE-RADIUS=500;X-TITLE=30 Main St:geo:-72.1711152,43.3623236
END:VEVENT
BEGIN:VEVENT
DTSTART;TZID=America/New_York:20200118T190000
DTEND;TZID=America/New_York:20200118T210000
DTSTAMP:20260424T175253
CREATED:20200104T211446Z
LAST-MODIFIED:20200104T211446Z
UID:10003862-1579374000-1579381200@lake-sunapee-living.com
SUMMARY:Soul Food and Soulful Music with Senie Hunt at The Old Courthouse Restaurant
DESCRIPTION:Soul Food and Soulful Music with Senie Hunt \nJoin us for a night of Soul Food with the Soulful music stylings of Senie Hunt. \n(To learn more about Senie Hunt and hear a sampling of his music\, please visit www.seniehunt.com) \nThe buffet includes southern fried chicken with a honey glaze\, shrimp and grits\, smothered pork chops\, collard greens\, cornbread and more…. \n\n\n	Related
URL:https://lake-sunapee-living.com/event/soul-food-and-soulful-music-with-senie-hunt-at-the-old-courthouse-restaurant/
LOCATION:The Old Courthouse Restaurant\, 30 Main St\, Newport\, NH\, 03773\, United States
CATEGORIES:Live Music
GEO:43.3623236;-72.1711152
X-APPLE-STRUCTURED-LOCATION;VALUE=URI;X-ADDRESS=The Old Courthouse Restaurant 30 Main St Newport NH 03773 United States;X-APPLE-RADIUS=500;X-TITLE=30 Main St:geo:-72.1711152,43.3623236
END:VEVENT
BEGIN:VEVENT
DTSTART;TZID=America/New_York:20181231T170000
DTEND;TZID=America/New_York:20181231T210000
DTSTAMP:20260424T175253
CREATED:20181201T020417Z
LAST-MODIFIED:20181201T020417Z
UID:10003687-1546275600-1546290000@lake-sunapee-living.com
SUMMARY:New Years Eve with dinner at The Old Courthouse Restaurant
DESCRIPTION:Come celebrate New Years Eve with dinner at The Old Courthouse. \nWe will have live entertainment with Gerry Grimo’s Trio. \nFabulous 4 course price fix meal featuring Lobster\, Rack of Lamb\, Sea Scallops or Filet Mignon. \nCall 863-8360 for reservations \n\n\n	Related
URL:https://lake-sunapee-living.com/event/new-years-eve-with-dinner-at-the-old-courthouse-restaurant/
LOCATION:The Old Courthouse Restaurant\, 30 Main St\, Newport\, NH\, 03773\, United States
CATEGORIES:New Years Eve
GEO:43.3623236;-72.1711152
X-APPLE-STRUCTURED-LOCATION;VALUE=URI;X-ADDRESS=The Old Courthouse Restaurant 30 Main St Newport NH 03773 United States;X-APPLE-RADIUS=500;X-TITLE=30 Main St:geo:-72.1711152,43.3623236
END:VEVENT
BEGIN:VEVENT
DTSTART;TZID=America/New_York:20180831T170000
DTEND;TZID=America/New_York:20180831T190000
DTSTAMP:20260424T175253
CREATED:20180629T003644Z
LAST-MODIFIED:20180629T003755Z
UID:10000589-1535734800-1535742000@lake-sunapee-living.com
SUMMARY:Live Music: Fridays Under the Tent at The Old Courthouse
DESCRIPTION:Join us all summer on Fridays 5-7 under the tent to wind down the work week. \nWe will have live music\, small plates menu and limited free appetizers. \nCash Bar \n\n\n	Related
URL:https://lake-sunapee-living.com/event/live-music-fridays-under-the-tent-at-the-old-courthouse/2018-08-31/
LOCATION:The Old Courthouse Restaurant\, 30 Main St\, Newport\, NH\, 03773\, United States
CATEGORIES:Live Music
GEO:43.3623236;-72.1711152
X-APPLE-STRUCTURED-LOCATION;VALUE=URI;X-ADDRESS=The Old Courthouse Restaurant 30 Main St Newport NH 03773 United States;X-APPLE-RADIUS=500;X-TITLE=30 Main St:geo:-72.1711152,43.3623236
END:VEVENT
BEGIN:VEVENT
DTSTART;TZID=America/New_York:20180818T190000
DTEND;TZID=America/New_York:20180818T210000
DTSTAMP:20260424T175253
CREATED:20180701T145022Z
LAST-MODIFIED:20180701T145052Z
UID:10000592-1534618800-1534626000@lake-sunapee-living.com
SUMMARY:Live Music: Elisabeth Von Trapp at The Old Courthouse
DESCRIPTION:Join us under the tent for a fabulous Austrian Buffet and an evening of music with Elisabeth Von Trapp. \nShe will be singing some favorite Rogers and Hammerstein show tunes along with some of her own favorites. \nCall 863-8360 for reservations. \n\n\n	Related
URL:https://lake-sunapee-living.com/event/live-music-elisabeth-von-trapp-at-the-old-courthouse/
LOCATION:The Old Courthouse Restaurant\, 30 Main St\, Newport\, NH\, 03773\, United States
CATEGORIES:Live Theater
GEO:43.3623236;-72.1711152
X-APPLE-STRUCTURED-LOCATION;VALUE=URI;X-ADDRESS=The Old Courthouse Restaurant 30 Main St Newport NH 03773 United States;X-APPLE-RADIUS=500;X-TITLE=30 Main St:geo:-72.1711152,43.3623236
END:VEVENT
BEGIN:VEVENT
DTSTART;TZID=America/New_York:20180804T190000
DTEND;TZID=America/New_York:20180804T210000
DTSTAMP:20260424T175253
CREATED:20180701T145731Z
LAST-MODIFIED:20180701T150314Z
UID:10000596-1533409200-1533416400@lake-sunapee-living.com
SUMMARY:Live Music: Caribbean Night at The Old Courthouse
DESCRIPTION:Monadnock Island Steel Drum Band returns for their tenth year!! \nChef Robert’s amazing Caribbean buffet compliments the music for a wonderful evening under the tent. \nCall 863-8360 for reservations \n\n\n	Related
URL:https://lake-sunapee-living.com/event/live-music-caribbean-night-at-the-old-courthouse/
LOCATION:The Old Courthouse Restaurant\, 30 Main St\, Newport\, NH\, 03773\, United States
CATEGORIES:Live Music
GEO:43.3623236;-72.1711152
X-APPLE-STRUCTURED-LOCATION;VALUE=URI;X-ADDRESS=The Old Courthouse Restaurant 30 Main St Newport NH 03773 United States;X-APPLE-RADIUS=500;X-TITLE=30 Main St:geo:-72.1711152,43.3623236
END:VEVENT
BEGIN:VEVENT
DTSTART;TZID=America/New_York:20180721T190000
DTEND;TZID=America/New_York:20180721T210000
DTSTAMP:20260424T175253
CREATED:20180701T145530Z
LAST-MODIFIED:20180701T145530Z
UID:10000594-1532199600-1532206800@lake-sunapee-living.com
SUMMARY:Live Music: New Orleans Night at The Old Courthouse
DESCRIPTION:Join us under the tent for a fabulous buffet\, prepared by our Chef\, Robert\, and designed by former New Orleans resident\, Priscilla Hagebusch. \nLive Dixieland quartet. \nCall 863-8360 for reservations. \n\n\n	Related
URL:https://lake-sunapee-living.com/event/live-music-new-orleans-night-at-the-old-courthouse/
LOCATION:The Old Courthouse Restaurant\, 30 Main St\, Newport\, NH\, 03773\, United States
CATEGORIES:Live Music
GEO:43.3623236;-72.1711152
X-APPLE-STRUCTURED-LOCATION;VALUE=URI;X-ADDRESS=The Old Courthouse Restaurant 30 Main St Newport NH 03773 United States;X-APPLE-RADIUS=500;X-TITLE=30 Main St:geo:-72.1711152,43.3623236
END:VEVENT
END:VCALENDAR