BEGIN:VCALENDAR
VERSION:2.0
PRODID:-//Lake Sunapee Living - ECPv6.15.13//NONSGML v1.0//EN
CALSCALE:GREGORIAN
METHOD:PUBLISH
X-ORIGINAL-URL:https://lake-sunapee-living.com
X-WR-CALDESC:Events for Lake Sunapee Living
REFRESH-INTERVAL;VALUE=DURATION:PT1H
X-Robots-Tag:noindex
X-PUBLISHED-TTL:PT1H
BEGIN:VTIMEZONE
TZID:America/New_York
BEGIN:DAYLIGHT
TZOFFSETFROM:-0500
TZOFFSETTO:-0400
TZNAME:EDT
DTSTART:20170312T070000
END:DAYLIGHT
BEGIN:STANDARD
TZOFFSETFROM:-0400
TZOFFSETTO:-0500
TZNAME:EST
DTSTART:20171105T060000
END:STANDARD
BEGIN:DAYLIGHT
TZOFFSETFROM:-0500
TZOFFSETTO:-0400
TZNAME:EDT
DTSTART:20180311T070000
END:DAYLIGHT
BEGIN:STANDARD
TZOFFSETFROM:-0400
TZOFFSETTO:-0500
TZNAME:EST
DTSTART:20181104T060000
END:STANDARD
BEGIN:DAYLIGHT
TZOFFSETFROM:-0500
TZOFFSETTO:-0400
TZNAME:EDT
DTSTART:20190310T070000
END:DAYLIGHT
BEGIN:STANDARD
TZOFFSETFROM:-0400
TZOFFSETTO:-0500
TZNAME:EST
DTSTART:20191103T060000
END:STANDARD
BEGIN:DAYLIGHT
TZOFFSETFROM:-0500
TZOFFSETTO:-0400
TZNAME:EDT
DTSTART:20200308T070000
END:DAYLIGHT
BEGIN:STANDARD
TZOFFSETFROM:-0400
TZOFFSETTO:-0500
TZNAME:EST
DTSTART:20201101T060000
END:STANDARD
END:VTIMEZONE
BEGIN:VEVENT
DTSTART;TZID=America/New_York:20190816T193000
DTEND;TZID=America/New_York:20190816T210000
DTSTAMP:20260424T192713
CREATED:20190716T122427Z
LAST-MODIFIED:20190716T122556Z
UID:10000348-1565983800-1565989200@lake-sunapee-living.com
SUMMARY:Live Music at The Livery: Cecil Abels
DESCRIPTION:Cecil Abels – Live at The Livery 4th Annual Friday Music Series \n“The Best Bluegrass!”…\nsays everything about Cecil Abels. \nThe New England Bluegrass Band is\, simply put\, a high caliber\, tradition based Bluegrass music ensemble with an emphasis on powerful vocals with just the right instrumental backing and hot picking. It includes Cecil Abels (voc\, gtr)\, “Lonesome” David Kiphuth (Banjo/Vocals) “Old Time” Dave Talmage. with frequent “Often Time” Members to be announced! They are the recipients of the Seacoast Favorite Bluegrass Band Award from Spotlight Magazine\, and are well renowned in New England for providing a solid\, entertaining bluegrass experience. \nMore info: Sunapeeheritage.org \n\n\n	Related
URL:https://lake-sunapee-living.com/event/live-music-at-the-livery-cecil-abels/
LOCATION:The Livery\, 58 Main St.\, Sunapee\, NH\, 03782\, United States
CATEGORIES:Live Music
GEO:43.3860983;-72.0826955
X-APPLE-STRUCTURED-LOCATION;VALUE=URI;X-ADDRESS=The Livery 58 Main St. Sunapee NH 03782 United States;X-APPLE-RADIUS=500;X-TITLE=58 Main St.:geo:-72.0826955,43.3860983
END:VEVENT
BEGIN:VEVENT
DTSTART;TZID=America/New_York:20190809T193000
DTEND;TZID=America/New_York:20190809T210000
DTSTAMP:20260424T192713
CREATED:20190716T122113Z
LAST-MODIFIED:20190716T122238Z
UID:10000349-1565379000-1565384400@lake-sunapee-living.com
SUMMARY:Live Music at The Livery: Harvey Reid & Joyce Andersen
DESCRIPTION:Harvey Reid & Joyce Andersen – Live at The Livery 4th Annual Friday Music Series \nOften referred to as a troubadour or minstrel singer as well as a folk singer\, Harvey is considered a master of many musical instruments including the six and twelve string acoustic guitar\, slide guitar (dobro)\, six string banjo\, and autoharp. Reid is married to Joyce Andersen\, an accomplished fiddler\, guitarist and singer/songwriter. \nMore info: Sunapeeheritage.org \n\n\n	Related
URL:https://lake-sunapee-living.com/event/harvey-reid-joyce-andersen/
LOCATION:The Livery\, 58 Main St.\, Sunapee\, NH\, 03782\, United States
CATEGORIES:Live Music
GEO:43.3860983;-72.0826955
X-APPLE-STRUCTURED-LOCATION;VALUE=URI;X-ADDRESS=The Livery 58 Main St. Sunapee NH 03782 United States;X-APPLE-RADIUS=500;X-TITLE=58 Main St.:geo:-72.0826955,43.3860983
END:VEVENT
BEGIN:VEVENT
DTSTART;VALUE=DATE:20190802
DTEND;VALUE=DATE:20190812
DTSTAMP:20260424T192713
CREATED:20181118T143945Z
LAST-MODIFIED:20181118T143945Z
UID:10003607-1564704000-1565567999@lake-sunapee-living.com
SUMMARY:“Naturally New England" 2nd Annual Summer Fine Art Show
DESCRIPTION:“Naturally New England” FREE 2nd Annual Summer Fine Art Show \nFifty Juried Artists Show and Sell their work \nThe Livery\, Sunapee Harbor \nFor times and more information visit their website \nwww.CenterForTheArtsNH.org \n\n\n	Related
URL:https://lake-sunapee-living.com/event/naturally-new-england-2nd-annual-summer-fine-art-show/
LOCATION:The Livery\, 58 Main St.\, Sunapee\, NH\, 03782\, United States
CATEGORIES:Art Exhibition
GEO:43.3860983;-72.0826955
X-APPLE-STRUCTURED-LOCATION;VALUE=URI;X-ADDRESS=The Livery 58 Main St. Sunapee NH 03782 United States;X-APPLE-RADIUS=500;X-TITLE=58 Main St.:geo:-72.0826955,43.3860983
END:VEVENT
BEGIN:VEVENT
DTSTART;TZID=America/New_York:20190726T193000
DTEND;TZID=America/New_York:20190726T210000
DTSTAMP:20260424T192713
CREATED:20190716T121708Z
LAST-MODIFIED:20190716T121733Z
UID:10000342-1564169400-1564174800@lake-sunapee-living.com
SUMMARY:Live Music at The Livery: Jordan Tirrell-Wysocki
DESCRIPTION:Jordan Tirrell-Wysocki – Live at The Livery 4th Annual Friday Music Series \nBringing fresh energy to traditional Celtic music\, Jordan is an award-winning New Hampshire-based fiddler/singer who has been performing professionally for over two decades. He has toured nationally with bands in various genres\, performed across Ireland\, and released multiple recordings of Celtic music that can be heard on radio stations in Ireland and Scotland as well as around New England. He has also written soundtracks for audiobooks and television and appeared as a guest on over 75 albums. \nMore info: Sunapeeheritage.org \n\n\n	Related
URL:https://lake-sunapee-living.com/event/7120/
LOCATION:The Livery\, 58 Main St.\, Sunapee\, NH\, 03782\, United States
CATEGORIES:Live Music
GEO:43.3860983;-72.0826955
X-APPLE-STRUCTURED-LOCATION;VALUE=URI;X-ADDRESS=The Livery 58 Main St. Sunapee NH 03782 United States;X-APPLE-RADIUS=500;X-TITLE=58 Main St.:geo:-72.0826955,43.3860983
END:VEVENT
BEGIN:VEVENT
DTSTART;TZID=America/New_York:20190719T193000
DTEND;TZID=America/New_York:20190719T210000
DTSTAMP:20260424T192713
CREATED:20190716T121528Z
LAST-MODIFIED:20190716T121528Z
UID:10000346-1563564600-1563570000@lake-sunapee-living.com
SUMMARY:Live Music at The Livery: Tom Pirozzoli
DESCRIPTION:Tom Pirozzoli – Live at The Livery 4th Annual Friday Music Series \nIt’s early morning cold – 18°. Snowshoes crunch through frozen field grass. Sun gives way to dappled forest light. Another day begins….It’s warm back at Tom’s art-filled studio. \nPaints mingle with memories from past journeys: a Tibetan bowl\, Peruvian weavings\, prayer flags. Hours at the easel await. Tom’s guitar leans against an old\, milky blue cupboard. Who was the 19th century artisan who crafted this timeworn piece? Would he love the music that is about to come? \nMore info: Sunapeeheritage.org \n\n\n	Related
URL:https://lake-sunapee-living.com/event/live-music-at-the-livery-tom-pirozzoli/
LOCATION:The Livery\, 58 Main St.\, Sunapee\, NH\, 03782\, United States
CATEGORIES:Live Music
GEO:43.3860983;-72.0826955
X-APPLE-STRUCTURED-LOCATION;VALUE=URI;X-ADDRESS=The Livery 58 Main St. Sunapee NH 03782 United States;X-APPLE-RADIUS=500;X-TITLE=58 Main St.:geo:-72.0826955,43.3860983
END:VEVENT
BEGIN:VEVENT
DTSTART;TZID=America/New_York:20181208T130000
DTEND;TZID=America/New_York:20181208T160000
DTSTAMP:20260424T192713
CREATED:20181120T003318Z
LAST-MODIFIED:20181120T003335Z
UID:10003676-1544274000-1544284800@lake-sunapee-living.com
SUMMARY:Christmas at the Livery with Santa and Mrs. Claus
DESCRIPTION:Christmas at the Livery with Santa and Mrs. Claus at the Livery\, 58 Main Street\, Sunapee Harbor \nFace painting • Crafts • Storytelling • Singing \nBring an unwrapped Toys for Joy gift and/or a Food Pantry donation to have your name entered in a drawing for a magical prize.  \nHosted by the Sunapee Recreation Department and Sunapee Volunteers. \n\n\n	Related
URL:https://lake-sunapee-living.com/event/christmas-at-the-livery-with-santa-and-mrs-claus/
LOCATION:The Livery\, 58 Main St.\, Sunapee\, NH\, 03782\, United States
CATEGORIES:Holiday Gifts
GEO:43.3860983;-72.0826955
X-APPLE-STRUCTURED-LOCATION;VALUE=URI;X-ADDRESS=The Livery 58 Main St. Sunapee NH 03782 United States;X-APPLE-RADIUS=500;X-TITLE=58 Main St.:geo:-72.0826955,43.3860983
END:VEVENT
BEGIN:VEVENT
DTSTART;TZID=America/New_York:20181019T180000
DTEND;TZID=America/New_York:20181019T220000
DTSTAMP:20260424T192713
CREATED:20181010T020051Z
LAST-MODIFIED:20181010T020152Z
UID:10003595-1539972000-1539986400@lake-sunapee-living.com
SUMMARY:Fall Community Dinner & Dance At the Livery
DESCRIPTION:FALL COMMUNITY DINNER & DANCE \nAt the Livery – $25 Per Person \nPlease come and enjoy a casual fun evening featuring local foods and great music.\nBring any hot dishes ready to eat and we will keep them warm.\nAttendance  limited to 60 people – buy your tickets now! \nSunapee Heritage Alliance invites you to a Fundraiser to support the Livery in Sunapee Harbor  \nARRIVE 6PM – DINNER 7PM – DANCING 8PM \nTo purchase tickets: sunapeeheritage.org \nWe are providing: Appetizers – Organic Free Range Roast Chicken – Beer & Wine \nNeighbors and friends are bringing Salads – Side Dishes – Desserts to Share \n  \n  \n\n\n	Related
URL:https://lake-sunapee-living.com/event/fall-community-dinner-dance-at-the-livery/
LOCATION:The Livery\, 58 Main St.\, Sunapee\, NH\, 03782\, United States
CATEGORIES:Fall Festival
GEO:43.3860983;-72.0826955
X-APPLE-STRUCTURED-LOCATION;VALUE=URI;X-ADDRESS=The Livery 58 Main St. Sunapee NH 03782 United States;X-APPLE-RADIUS=500;X-TITLE=58 Main St.:geo:-72.0826955,43.3860983
END:VEVENT
BEGIN:VEVENT
DTSTART;TZID=America/New_York:20181012T180000
DTEND;TZID=America/New_York:20181012T210000
DTSTAMP:20260424T192713
CREATED:20180911T005412Z
LAST-MODIFIED:20180911T005412Z
UID:10000624-1539367200-1539378000@lake-sunapee-living.com
SUMMARY:Latin Night at the Livery in Sunapee Harbor
DESCRIPTION:GET YOUR TICKETS!\nLatin Night at the Livery\n(Historic Livery House in Sunapee) \nMusic by Fun with Marie\nSpecial Menu and Drinks\, Silent Auction and Pinyata chances to win a dress watch from MJ Harringtons. \nTickets Limited to 75\nhttp://lakesunapeeregionchamber.com/events/details/latin-night-at-the-livery-3532 \n\n\n	Related
URL:https://lake-sunapee-living.com/event/latin-night-at-the-livery-in-sunapee-harbor/
LOCATION:The Livery\, 58 Main St.\, Sunapee\, NH\, 03782\, United States
CATEGORIES:Concert
GEO:43.3860983;-72.0826955
X-APPLE-STRUCTURED-LOCATION;VALUE=URI;X-ADDRESS=The Livery 58 Main St. Sunapee NH 03782 United States;X-APPLE-RADIUS=500;X-TITLE=58 Main St.:geo:-72.0826955,43.3860983
END:VEVENT
BEGIN:VEVENT
DTSTART;TZID=America/New_York:20181007T110000
DTEND;TZID=America/New_York:20181007T160000
DTSTAMP:20260424T192713
CREATED:20180606T002344Z
LAST-MODIFIED:20180606T002344Z
UID:10000139-1538910000-1538928000@lake-sunapee-living.com
SUMMARY:7th Annual Arts & Crafts Exhibit & Sale at The Livery
DESCRIPTION:7th Annual Arts & Crafts Exhibit & Sale at the Historic Livery\, Sunapee Harbor \nMeet a Potter\, Painter\, Photographer & Printmaker. Jewelers\, Mixed Media & Fiber Artists & Purveyor of Incredible Edibles. \nwww.projectsunapee.org \n  \n\n\n	Related
URL:https://lake-sunapee-living.com/event/7th-annual-arts-crafts-exhibit-sale-at-the-livery/
LOCATION:The Livery\, 58 Main St.\, Sunapee\, NH\, 03782\, United States
CATEGORIES:Art Exhibition
GEO:43.3860983;-72.0826955
X-APPLE-STRUCTURED-LOCATION;VALUE=URI;X-ADDRESS=The Livery 58 Main St. Sunapee NH 03782 United States;X-APPLE-RADIUS=500;X-TITLE=58 Main St.:geo:-72.0826955,43.3860983
END:VEVENT
BEGIN:VEVENT
DTSTART;TZID=America/New_York:20180818T200000
DTEND;TZID=America/New_York:20180818T213000
DTSTAMP:20260424T192713
CREATED:20180727T002204Z
LAST-MODIFIED:20180727T002204Z
UID:10000618-1534622400-1534627800@lake-sunapee-living.com
SUMMARY:Live Music: The Flames at The Livery
DESCRIPTION:Put on your dancing shoes and be prepared to dance the night away with John Lovejoy and The Flames\, as the Livery transforms into a BYOB Cabaret for Sunapee’s Sestercentennial Celebration!  ” \nBUY TICKETS HERE for The Flames \n\n\n	Related
URL:https://lake-sunapee-living.com/event/live-music-the-flames-at-the-livery/
LOCATION:The Livery\, 58 Main St.\, Sunapee\, NH\, 03782\, United States
CATEGORIES:Concert
GEO:43.3860983;-72.0826955
X-APPLE-STRUCTURED-LOCATION;VALUE=URI;X-ADDRESS=The Livery 58 Main St. Sunapee NH 03782 United States;X-APPLE-RADIUS=500;X-TITLE=58 Main St.:geo:-72.0826955,43.3860983
END:VEVENT
BEGIN:VEVENT
DTSTART;TZID=America/New_York:20180810T190000
DTEND;TZID=America/New_York:20180810T210000
DTSTAMP:20260424T192713
CREATED:20180727T002035Z
LAST-MODIFIED:20180727T002035Z
UID:10000228-1533927600-1533934800@lake-sunapee-living.com
SUMMARY:Live Music: Honest Millie at The Livery
DESCRIPTION:Stellar harmony singing and strong instrumentation by four gals. Valerie on bass\, Agnes on piano\, Lee on Sax and Ellen on  violin\, with the spice of Jim on guitar\, enjoy bringing you music from the 30’s\, 40’s & 50’s.  Lots of swing\, jazz\, and a bit of blues and bossa. \nWebsite:  honestmillie.com \nBUY TICKETS HERE for Honest Millie \n\n\n	Related
URL:https://lake-sunapee-living.com/event/live-music-honest-millie-at-the-livery/
LOCATION:The Livery\, 58 Main St.\, Sunapee\, NH\, 03782\, United States
CATEGORIES:Concert
GEO:43.3860983;-72.0826955
X-APPLE-STRUCTURED-LOCATION;VALUE=URI;X-ADDRESS=The Livery 58 Main St. Sunapee NH 03782 United States;X-APPLE-RADIUS=500;X-TITLE=58 Main St.:geo:-72.0826955,43.3860983
END:VEVENT
BEGIN:VEVENT
DTSTART;TZID=America/New_York:20180803T190000
DTEND;TZID=America/New_York:20180803T210000
DTSTAMP:20260424T192713
CREATED:20180727T001907Z
LAST-MODIFIED:20180727T001907Z
UID:10000227-1533322800-1533330000@lake-sunapee-living.com
SUMMARY:Live Music: Tom Pirozzoli at The Livery
DESCRIPTION:This passionate painter\, philosopher\, musician\, songwriter captures a variety of musical styles in his original songs\, invoking a feeling of comfortable familiarity\, like spending time with a good friend. \nView Website Here \nBUY TICKETS HERE for Tom Pirozzoli \n\n\n	Related
URL:https://lake-sunapee-living.com/event/live-music-tom-pirozzoli-at-the-livery/
LOCATION:The Livery\, 58 Main St.\, Sunapee\, NH\, 03782\, United States
CATEGORIES:Concert
GEO:43.3860983;-72.0826955
X-APPLE-STRUCTURED-LOCATION;VALUE=URI;X-ADDRESS=The Livery 58 Main St. Sunapee NH 03782 United States;X-APPLE-RADIUS=500;X-TITLE=58 Main St.:geo:-72.0826955,43.3860983
END:VEVENT
BEGIN:VEVENT
DTSTART;TZID=America/New_York:20180727T190000
DTEND;TZID=America/New_York:20180727T210000
DTSTAMP:20260424T192713
CREATED:20180727T001606Z
LAST-MODIFIED:20180727T001659Z
UID:10000226-1532718000-1532725200@lake-sunapee-living.com
SUMMARY:Live Music: Patrick Ross at The Livery
DESCRIPTION:Vermont born\, fifth generation fiddle player\, Patrick has shared the stage with Willie Nelson & Paul McCartney and played at the Grand Ole Opry and Kennedy Center for Performing Arts.  He composes for and plays fiddle\, guitar\, mandolin & cello.. \nWebsite: www.patrickrossmusic.com \n\n\n	Related
URL:https://lake-sunapee-living.com/event/live-music-patrick-ross-at-the-livery/
LOCATION:The Livery\, 58 Main St.\, Sunapee\, NH\, 03782\, United States
CATEGORIES:Concert
GEO:43.3860983;-72.0826955
X-APPLE-STRUCTURED-LOCATION;VALUE=URI;X-ADDRESS=The Livery 58 Main St. Sunapee NH 03782 United States;X-APPLE-RADIUS=500;X-TITLE=58 Main St.:geo:-72.0826955,43.3860983
END:VEVENT
BEGIN:VEVENT
DTSTART;TZID=America/New_York:20180721T180000
DTEND;TZID=America/New_York:20180721T190000
DTSTAMP:20260424T192713
CREATED:20180607T231859Z
LAST-MODIFIED:20180607T232356Z
UID:10000449-1532196000-1532199600@lake-sunapee-living.com
SUMMARY:Happenings at The Livery: Storyteller Simon Brooks
DESCRIPTION:Voice actor and British\, award-winning storyteller Simon Brooks will be performing at the historic Livery in Sunapee. \nCome listen to Simon’s folk and fairy tales at this wonderful venue. \nFree to all \n\n\n	Related
URL:https://lake-sunapee-living.com/event/happenings-at-the-livery-simon-brooks/
LOCATION:The Livery\, 58 Main St.\, Sunapee\, NH\, 03782\, United States
CATEGORIES:Storytelling
GEO:43.3860983;-72.0826955
X-APPLE-STRUCTURED-LOCATION;VALUE=URI;X-ADDRESS=The Livery 58 Main St. Sunapee NH 03782 United States;X-APPLE-RADIUS=500;X-TITLE=58 Main St.:geo:-72.0826955,43.3860983
END:VEVENT
END:VCALENDAR