BEGIN:VCALENDAR
VERSION:2.0
PRODID:-//Lake Sunapee Living - ECPv6.15.13//NONSGML v1.0//EN
CALSCALE:GREGORIAN
METHOD:PUBLISH
X-ORIGINAL-URL:https://lake-sunapee-living.com
X-WR-CALDESC:Events for Lake Sunapee Living
REFRESH-INTERVAL;VALUE=DURATION:PT1H
X-Robots-Tag:noindex
X-PUBLISHED-TTL:PT1H
BEGIN:VTIMEZONE
TZID:America/New_York
BEGIN:DAYLIGHT
TZOFFSETFROM:-0500
TZOFFSETTO:-0400
TZNAME:EDT
DTSTART:20170312T070000
END:DAYLIGHT
BEGIN:STANDARD
TZOFFSETFROM:-0400
TZOFFSETTO:-0500
TZNAME:EST
DTSTART:20171105T060000
END:STANDARD
BEGIN:DAYLIGHT
TZOFFSETFROM:-0500
TZOFFSETTO:-0400
TZNAME:EDT
DTSTART:20180311T070000
END:DAYLIGHT
BEGIN:STANDARD
TZOFFSETFROM:-0400
TZOFFSETTO:-0500
TZNAME:EST
DTSTART:20181104T060000
END:STANDARD
BEGIN:DAYLIGHT
TZOFFSETFROM:-0500
TZOFFSETTO:-0400
TZNAME:EDT
DTSTART:20190310T070000
END:DAYLIGHT
BEGIN:STANDARD
TZOFFSETFROM:-0400
TZOFFSETTO:-0500
TZNAME:EST
DTSTART:20191103T060000
END:STANDARD
END:VTIMEZONE
BEGIN:VEVENT
DTSTART;VALUE=DATE:20180218
DTEND;VALUE=DATE:20180219
DTSTAMP:20260424T174855
CREATED:20180107T222407Z
LAST-MODIFIED:20180107T222407Z
UID:10000215-1518912000-1518998399@lake-sunapee-living.com
SUMMARY:SRKG XC Ski: Backcountry Ski on Cardigan Mountain
DESCRIPTION:Join Charlie Baughman on a backcountry ski up and down Cardigan Mountain. A 4.4 mile ski on the Alexandria trail system starting at AMC Cardigan Lodge. This iconic backcountry ski trail will challenge and delight any skier. Appropriate gear necessary. Please contact Charlie Baugman for more info: (603) 667-3551. \n\n\n	Related
URL:https://lake-sunapee-living.com/event/srkg-xc-ski-backcountry-ski-cardigan-mountain/
LOCATION:Sunapee Ragged Kearsarge Greenway
CATEGORIES:Hike
END:VEVENT
BEGIN:VEVENT
DTSTART;VALUE=DATE:20180211
DTEND;VALUE=DATE:20180212
DTSTAMP:20260424T174855
CREATED:20180107T214711Z
LAST-MODIFIED:20180107T214711Z
UID:10000214-1518307200-1518393599@lake-sunapee-living.com
SUMMARY:SRKG Hike: Winter Adventure on Proctor Academy Trails
DESCRIPTION:Learn about winter tracking\, trees and animal biology from Proctor Academy teacher\, Dave Pilla. Leaving from the Proctor Woodlands Office Dave and Sooze Hodgson will lead a 4-mile snowshoe hike on the Proctor trails. \nFor more information email Sooze Hodgson at doctorsooze at gmail.com. \n\n\n	Related
URL:https://lake-sunapee-living.com/event/srkg-hike-winter-adventure-proctor-academy-trails/
LOCATION:Sunapee Ragged Kearsarge Greenway
CATEGORIES:Hike
END:VEVENT
BEGIN:VEVENT
DTSTART;VALUE=DATE:20180204
DTEND;VALUE=DATE:20180205
DTSTAMP:20260424T174855
CREATED:20180107T213643Z
LAST-MODIFIED:20180107T213659Z
UID:10000213-1517702400-1517788799@lake-sunapee-living.com
SUMMARY:SRKG XC Ski: Morgan Pond
DESCRIPTION:Visit secluded Morgan Pond in the winter on this XC ski with Andy Hager. Starting on the stone bridge behind Twin Lake Villa\, ski for about 5-miles round trip over moderate terrain. Contact Andy Hager to sign up (603) 526-2846. \n\n\n	Related
URL:https://lake-sunapee-living.com/event/srkg-xc-ski-morgan-pond/
LOCATION:Sunapee Ragged Kearsarge Greenway
CATEGORIES:Hike
END:VEVENT
END:VCALENDAR