BEGIN:VCALENDAR
VERSION:2.0
PRODID:-//Lake Sunapee Living - ECPv6.15.13//NONSGML v1.0//EN
CALSCALE:GREGORIAN
METHOD:PUBLISH
X-WR-CALNAME:Lake Sunapee Living
X-ORIGINAL-URL:https://lake-sunapee-living.com
X-WR-CALDESC:Events for Lake Sunapee Living
REFRESH-INTERVAL;VALUE=DURATION:PT1H
X-Robots-Tag:noindex
X-PUBLISHED-TTL:PT1H
BEGIN:VTIMEZONE
TZID:America/New_York
BEGIN:DAYLIGHT
TZOFFSETFROM:-0500
TZOFFSETTO:-0400
TZNAME:EDT
DTSTART:20190310T070000
END:DAYLIGHT
BEGIN:STANDARD
TZOFFSETFROM:-0400
TZOFFSETTO:-0500
TZNAME:EST
DTSTART:20191103T060000
END:STANDARD
BEGIN:DAYLIGHT
TZOFFSETFROM:-0500
TZOFFSETTO:-0400
TZNAME:EDT
DTSTART:20200308T070000
END:DAYLIGHT
BEGIN:STANDARD
TZOFFSETFROM:-0400
TZOFFSETTO:-0500
TZNAME:EST
DTSTART:20201101T060000
END:STANDARD
BEGIN:DAYLIGHT
TZOFFSETFROM:-0500
TZOFFSETTO:-0400
TZNAME:EDT
DTSTART:20210314T070000
END:DAYLIGHT
BEGIN:STANDARD
TZOFFSETFROM:-0400
TZOFFSETTO:-0500
TZNAME:EST
DTSTART:20211107T060000
END:STANDARD
END:VTIMEZONE
BEGIN:VEVENT
DTSTART;TZID=America/New_York:20200704T140000
DTEND;TZID=America/New_York:20200704T170000
DTSTAMP:20260424T231409
CREATED:20200701T011231Z
LAST-MODIFIED:20200701T011231Z
UID:10003967-1593871200-1593882000@lake-sunapee-living.com
SUMMARY:July 4th Biker BBQ at Sunapee Landing Trading Company
DESCRIPTION:Biker BBQ ( no bike\, still welcome).\nStarts at 2pm \nThis is our 1st big event. Swing in and hang out with us! ( family friendly) \nRob & Christine will be offering smoked brisket/burnt ends/ pulled pork and maybe a hotdog or two! Classic potato salad – coleslaw & Robs baked beans \nVinnie will be serving his Thai Spring rolls-Thai chicken sticks and cucumber salad \nFood price- donation \n\n\n	Related
URL:https://lake-sunapee-living.com/event/july-4th-biker-bbq-at-sunapee-landing-trading-company/
LOCATION:Sunapee Landing Trading Company\, 356 State Route 103\, Sunapee\, NH\, 03782\, United States
CATEGORIES:BBQ
GEO:43.3521312;-72.1119462
X-APPLE-STRUCTURED-LOCATION;VALUE=URI;X-ADDRESS=Sunapee Landing Trading Company 356 State Route 103 Sunapee NH 03782 United States;X-APPLE-RADIUS=500;X-TITLE=356 State Route 103:geo:-72.1119462,43.3521312
END:VEVENT
END:VCALENDAR