BEGIN:VCALENDAR
VERSION:2.0
PRODID:-//Lake Sunapee Living - ECPv6.15.13//NONSGML v1.0//EN
CALSCALE:GREGORIAN
METHOD:PUBLISH
X-WR-CALNAME:Lake Sunapee Living
X-ORIGINAL-URL:https://lake-sunapee-living.com
X-WR-CALDESC:Events for Lake Sunapee Living
REFRESH-INTERVAL;VALUE=DURATION:PT1H
X-Robots-Tag:noindex
X-PUBLISHED-TTL:PT1H
BEGIN:VTIMEZONE
TZID:America/New_York
BEGIN:DAYLIGHT
TZOFFSETFROM:-0500
TZOFFSETTO:-0400
TZNAME:EDT
DTSTART:20170312T070000
END:DAYLIGHT
BEGIN:STANDARD
TZOFFSETFROM:-0400
TZOFFSETTO:-0500
TZNAME:EST
DTSTART:20171105T060000
END:STANDARD
BEGIN:DAYLIGHT
TZOFFSETFROM:-0500
TZOFFSETTO:-0400
TZNAME:EDT
DTSTART:20180311T070000
END:DAYLIGHT
BEGIN:STANDARD
TZOFFSETFROM:-0400
TZOFFSETTO:-0500
TZNAME:EST
DTSTART:20181104T060000
END:STANDARD
BEGIN:DAYLIGHT
TZOFFSETFROM:-0500
TZOFFSETTO:-0400
TZNAME:EDT
DTSTART:20190310T070000
END:DAYLIGHT
BEGIN:STANDARD
TZOFFSETFROM:-0400
TZOFFSETTO:-0500
TZNAME:EST
DTSTART:20191103T060000
END:STANDARD
END:VTIMEZONE
BEGIN:VEVENT
DTSTART;TZID=America/New_York:20180823T190000
DTEND;TZID=America/New_York:20180823T203000
DTSTAMP:20260424T170045
CREATED:20180605T004921Z
LAST-MODIFIED:20180605T004921Z
UID:10000383-1535050800-1535056200@lake-sunapee-living.com
SUMMARY:Sunapee Historical Society Crackerbarrel Talk - Sunapee Folklore
DESCRIPTION:Crackerbarrel Talk – Sunapee Folklore\, Mysteries\, Trivia\, 7pm at the Sunapee Historical Society Museum. \n  \n\n\n	Related
URL:https://lake-sunapee-living.com/event/sunapee-historical-society-crackerbarrel-talk-sunapee-folklore/
LOCATION:Sunapee Historical Society\, 74 Main St\, Sunapee\, NH\, 03782\, United States
CATEGORIES:Crackerbarrel Talk
GEO:43.3853485;-72.0815125
X-APPLE-STRUCTURED-LOCATION;VALUE=URI;X-ADDRESS=Sunapee Historical Society 74 Main St Sunapee NH 03782 United States;X-APPLE-RADIUS=500;X-TITLE=74 Main St:geo:-72.0815125,43.3853485
END:VEVENT
BEGIN:VEVENT
DTSTART;TZID=America/New_York:20180702T173000
DTEND;TZID=America/New_York:20180702T190000
DTSTAMP:20260424T170045
CREATED:20180527T152646Z
LAST-MODIFIED:20180527T152646Z
UID:10000320-1530552600-1530558000@lake-sunapee-living.com
SUMMARY:3rd Annual History Cruise on the MV Mt Sunapee II
DESCRIPTION:Sunapee Historical Society 3rd Annual History Cruise on the MV Mt Sunapee II \nJuly 2 at 5:30 PM: 3rd Annual History Cruise on the MV Mt Sunapee II.  Tickets $30/person. \nSunapeeHistoricalSociety.org/programs/ \n\n\n	Related
URL:https://lake-sunapee-living.com/event/3rd-annual-history-cruise-on-the-mv-mt-sunapee-ii/
LOCATION:Sunapee Historical Society\, 74 Main St\, Sunapee\, NH\, 03782\, United States
CATEGORIES:History Cruise
GEO:43.3853485;-72.0815125
X-APPLE-STRUCTURED-LOCATION;VALUE=URI;X-ADDRESS=Sunapee Historical Society 74 Main St Sunapee NH 03782 United States;X-APPLE-RADIUS=500;X-TITLE=74 Main St:geo:-72.0815125,43.3853485
END:VEVENT
END:VCALENDAR