BEGIN:VCALENDAR
VERSION:2.0
PRODID:-//Lake Sunapee Living - ECPv6.15.13//NONSGML v1.0//EN
CALSCALE:GREGORIAN
METHOD:PUBLISH
X-WR-CALNAME:Lake Sunapee Living
X-ORIGINAL-URL:https://lake-sunapee-living.com
X-WR-CALDESC:Events for Lake Sunapee Living
REFRESH-INTERVAL;VALUE=DURATION:PT1H
X-Robots-Tag:noindex
X-PUBLISHED-TTL:PT1H
BEGIN:VTIMEZONE
TZID:America/New_York
BEGIN:DAYLIGHT
TZOFFSETFROM:-0500
TZOFFSETTO:-0400
TZNAME:EDT
DTSTART:20170312T070000
END:DAYLIGHT
BEGIN:STANDARD
TZOFFSETFROM:-0400
TZOFFSETTO:-0500
TZNAME:EST
DTSTART:20171105T060000
END:STANDARD
BEGIN:DAYLIGHT
TZOFFSETFROM:-0500
TZOFFSETTO:-0400
TZNAME:EDT
DTSTART:20180311T070000
END:DAYLIGHT
BEGIN:STANDARD
TZOFFSETFROM:-0400
TZOFFSETTO:-0500
TZNAME:EST
DTSTART:20181104T060000
END:STANDARD
BEGIN:DAYLIGHT
TZOFFSETFROM:-0500
TZOFFSETTO:-0400
TZNAME:EDT
DTSTART:20190310T070000
END:DAYLIGHT
BEGIN:STANDARD
TZOFFSETFROM:-0400
TZOFFSETTO:-0500
TZNAME:EST
DTSTART:20191103T060000
END:STANDARD
END:VTIMEZONE
BEGIN:VEVENT
DTSTART;TZID=America/New_York:20180825T100000
DTEND;TZID=America/New_York:20180825T110000
DTSTAMP:20260424T192709
CREATED:20180621T214634Z
LAST-MODIFIED:20180621T214734Z
UID:10000502-1535191200-1535194800@lake-sunapee-living.com
SUMMARY:Sunapee Harbor Rubber Duck Race
DESCRIPTION:Benefits SMHS CloseUp Trip To Washington DC \n1st Place: $300 cash • 2nd Place: $200 cash • 3rd Place: $100 cash \nTickets $5 each or 5 for $20 \nFor more information\, contact Meagan Reed @ mreed@sunapeeschools.org \nSponsored by The Sunapee Lions Club \n\n\n	Related
URL:https://lake-sunapee-living.com/event/sunapee-harbor-rubber-duck-race/
LOCATION:Sunapee Harbor\, 67 Main Street\, Sunapee\, NH\, 03782\, United States
CATEGORIES:Rubber Duck Race
GEO:43.3856379;-72.0816099
X-APPLE-STRUCTURED-LOCATION;VALUE=URI;X-ADDRESS=Sunapee Harbor 67 Main Street Sunapee NH 03782 United States;X-APPLE-RADIUS=500;X-TITLE=67 Main Street:geo:-72.0816099,43.3856379
END:VEVENT
BEGIN:VEVENT
DTSTART;TZID=America/New_York:20180820T173000
DTEND;TZID=America/New_York:20180820T193000
DTSTAMP:20260424T192709
CREATED:20180605T004638Z
LAST-MODIFIED:20180605T004638Z
UID:10000382-1534786200-1534793400@lake-sunapee-living.com
SUMMARY:Lake Sunapee History Cruise
DESCRIPTION:Lake Sunapee History Cruise – 5:30pm at MV Sunapee II\, Sunapee Harbor.  \nNarrated tour – Hastings – Soo-Nipi – Blodgett’s Landing.  \nLight refreshments provided\, cash bar. Limited seating\, reservations required. $30 per person \nSunapeeHistoricalSociety.org/programs/ \n\n\n	Related
URL:https://lake-sunapee-living.com/event/lake-sunapee-history-cruise/
LOCATION:Sunapee Harbor\, 67 Main Street\, Sunapee\, NH\, 03782\, United States
CATEGORIES:History Cruise
GEO:43.3856379;-72.0816099
X-APPLE-STRUCTURED-LOCATION;VALUE=URI;X-ADDRESS=Sunapee Harbor 67 Main Street Sunapee NH 03782 United States;X-APPLE-RADIUS=500;X-TITLE=67 Main Street:geo:-72.0816099,43.3856379
END:VEVENT
BEGIN:VEVENT
DTSTART;TZID=America/New_York:20180819T100000
DTEND;TZID=America/New_York:20180819T140000
DTSTAMP:20260424T192709
CREATED:20180611T235910Z
LAST-MODIFIED:20180611T235911Z
UID:10000183-1534672800-1534687200@lake-sunapee-living.com
SUMMARY:Sunapee Harbor Love Your Lakes Day & Antique Boat Parade
DESCRIPTION:This years event will coincide with the Town of Sunapee’s 250 sestercentennial. \n\n\n	Related
URL:https://lake-sunapee-living.com/event/sunapee-harbor-love-your-lakes-day-antique-boat-parade/
LOCATION:Sunapee Harbor\, 67 Main Street\, Sunapee\, NH\, 03782\, United States
CATEGORIES:Community Event
GEO:43.3856379;-72.0816099
X-APPLE-STRUCTURED-LOCATION;VALUE=URI;X-ADDRESS=Sunapee Harbor 67 Main Street Sunapee NH 03782 United States;X-APPLE-RADIUS=500;X-TITLE=67 Main Street:geo:-72.0816099,43.3856379
END:VEVENT
BEGIN:VEVENT
DTSTART;TZID=America/New_York:20180818T203000
DTEND;TZID=America/New_York:20180818T220000
DTSTAMP:20260424T192709
CREATED:20180723T013739Z
LAST-MODIFIED:20180817T000905Z
UID:10000220-1534624200-1534629600@lake-sunapee-living.com
SUMMARY:DATE MOVED TO SATURDAY: Sunapee 250th Fireworks in Sunapee Harbor
DESCRIPTION:Fireworks in Sunapee Harbor \nSponsored by Stacies Smoothies \n\n 08:30 pm to 10:00 pm\n\n\n\n\nThis is a free event!\n\n\n\n\nCONTACT the Sunapee Sestercentennial Committee at 603-763-2212 \n\nSunapeeNH250.org\n\n\n\n	Related
URL:https://lake-sunapee-living.com/event/fireworks-in-sunapee-harbor-2/
LOCATION:Sunapee Harbor\, 67 Main Street\, Sunapee\, NH\, 03782\, United States
CATEGORIES:Fireworks
GEO:43.3856379;-72.0816099
X-APPLE-STRUCTURED-LOCATION;VALUE=URI;X-ADDRESS=Sunapee Harbor 67 Main Street Sunapee NH 03782 United States;X-APPLE-RADIUS=500;X-TITLE=67 Main Street:geo:-72.0816099,43.3856379
END:VEVENT
BEGIN:VEVENT
DTSTART;TZID=America/New_York:20180811T060000
DTEND;TZID=America/New_York:20180811T193000
DTSTAMP:20260424T192709
CREATED:20180605T005658Z
LAST-MODIFIED:20180605T005718Z
UID:10000140-1533967200-1534015800@lake-sunapee-living.com
SUMMARY:Sunapee Harbor Rock Bass Fishing Derby
DESCRIPTION:Join us for our annual Lake Sunapee Rock Bass Derby. \nWeigh-in 11:00am Sunapee Harbor  \nOur Derby has become a summer tradition around the lake with young and old alike having fun and earning prizes while controlling these pesky fish.  \nAll are welcome! No limit to team sizes.  \nPre-register at Dewey Beach. Fish all day starting at 6am.  \nWeigh-in is at 11am sharp in Sunapee Harbor.  \nNo cost to participate. Fishing license required for 16 years and older and can be purchased online at http://wildlife.state.nh.us/Licensing/licenses.htm.  \nMany prizes for participants. For more information\, please call 763-5996. \n\n\n	Related
URL:https://lake-sunapee-living.com/event/rock-bass-fishing-derby/
LOCATION:Sunapee Harbor\, 67 Main Street\, Sunapee\, NH\, 03782\, United States
CATEGORIES:Fishing Derby
GEO:43.3856379;-72.0816099
X-APPLE-STRUCTURED-LOCATION;VALUE=URI;X-ADDRESS=Sunapee Harbor 67 Main Street Sunapee NH 03782 United States;X-APPLE-RADIUS=500;X-TITLE=67 Main Street:geo:-72.0816099,43.3856379
END:VEVENT
BEGIN:VEVENT
DTSTART;TZID=America/New_York:20180726T130000
DTEND;TZID=America/New_York:20180726T170000
DTSTAMP:20260424T192709
CREATED:20180604T235913Z
LAST-MODIFIED:20180604T235913Z
UID:10000379-1532610000-1532624400@lake-sunapee-living.com
SUMMARY:7th Annual Lake Sunapee Sailing Day
DESCRIPTION:(Weather Day Sunday\, July 27th) \nA fun day on the lake\, sponsored by the Lake Sunapee Cruising Fleet.  \nIt is a “Poker Cruise” open to all sailboats.  \nSailboats meet at just outside the entrance to Sunapee Harbor at 1:00pm.  \nA reception follows at 4:00pm at the Knowlton House in Sunapee Harbor with refreshments and prizes for the best poker hands and crew costumes.  \nMore information at Iscf.us or katebruce.mccloy@gmail.com. 603-763-9610. \n  \n\n\n	Related
URL:https://lake-sunapee-living.com/event/7th-annual-lake-sunapee-sailing-day/
LOCATION:Sunapee Harbor\, 67 Main Street\, Sunapee\, NH\, 03782\, United States
CATEGORIES:Sailing Day
GEO:43.3856379;-72.0816099
X-APPLE-STRUCTURED-LOCATION;VALUE=URI;X-ADDRESS=Sunapee Harbor 67 Main Street Sunapee NH 03782 United States;X-APPLE-RADIUS=500;X-TITLE=67 Main Street:geo:-72.0816099,43.3856379
END:VEVENT
BEGIN:VEVENT
DTSTART;TZID=America/New_York:20180714T113000
DTEND;TZID=America/New_York:20180714T130000
DTSTAMP:20260424T192709
CREATED:20180604T235353Z
LAST-MODIFIED:20180604T235602Z
UID:10000378-1531567800-1531573200@lake-sunapee-living.com
SUMMARY:Teddy Bear Picnic in Sunapee Harbor
DESCRIPTION:Bring your Teddy\, a blanket & picnic.  \nEntertainment\, prizes & the Traditional Teddy Parade.  \nEveryone welcome. Free.  \nInfo: www.projectsunapee.org  \nSponsored by Project Sunapee and Sunapee Recreation. \n  \n\n\n	Related
URL:https://lake-sunapee-living.com/event/teddy-bear-picnic-in-sunapee-harbor/
LOCATION:Sunapee Harbor\, 67 Main Street\, Sunapee\, NH\, 03782\, United States
CATEGORIES:Teddy Bear Picnic
GEO:43.3856379;-72.0816099
X-APPLE-STRUCTURED-LOCATION;VALUE=URI;X-ADDRESS=Sunapee Harbor 67 Main Street Sunapee NH 03782 United States;X-APPLE-RADIUS=500;X-TITLE=67 Main Street:geo:-72.0816099,43.3856379
END:VEVENT
BEGIN:VEVENT
DTSTART;TZID=America/New_York:20180707T203000
DTEND;TZID=America/New_York:20180707T213000
DTSTAMP:20260424T192709
CREATED:20180604T015205Z
LAST-MODIFIED:20180624T234457Z
UID:10000373-1530995400-1530999000@lake-sunapee-living.com
SUMMARY:Fireworks in Sunapee Harbor
DESCRIPTION:Please Donate to the Firework Funds: We are looking for donations to help make this year’s display spectacular\, $13\,000 is needed\, please consider donating to this festive event!  \nContributions can be made/sent directly to the Town Hall\, 23 Edgemont Rd. Sunapee\, NH 03782 and will have a BOOMING impact!  \nFireworks Cruise aboard the MV MT Sunapee Saturday\, July 7th\nEnjoy a one hour evening cruise to watch the fireworks from the water. Meet at the boat by 8pm.  \nSunapee Rec Fireworks Fundraiser Donated by Sunapee Cruises $25/person. Visit www.sunapeecruises.com to buy tickets. \n  \n\n\n	Related
URL:https://lake-sunapee-living.com/event/fireworks-in-sunapee-harbor/
LOCATION:Sunapee Harbor\, 67 Main Street\, Sunapee\, NH\, 03782\, United States
CATEGORIES:Fireworks
GEO:43.3856379;-72.0816099
X-APPLE-STRUCTURED-LOCATION;VALUE=URI;X-ADDRESS=Sunapee Harbor 67 Main Street Sunapee NH 03782 United States;X-APPLE-RADIUS=500;X-TITLE=67 Main Street:geo:-72.0816099,43.3856379
END:VEVENT
BEGIN:VEVENT
DTSTART;TZID=America/New_York:20180707T130000
DTEND;TZID=America/New_York:20180707T140000
DTSTAMP:20260424T192709
CREATED:20180604T014604Z
LAST-MODIFIED:20180604T014604Z
UID:10000372-1530968400-1530972000@lake-sunapee-living.com
SUMMARY:Sunapee Independance Day Parade
DESCRIPTION:Independance Day Parade Saturday\, July 7th\, 1pm  \nTheme: Sunapee Memories  \nWanted: marching bands\, clowns (happy or sad)\, sports teams\, school classes\, old cars/trucks\, John Deere gators\, fire trucks\, farming tractors\, Indian Cave residents\, Sunapee Gardeners\, old town roller\, Bruins and Red Sox fans\, etc.  \nIf you like to have fun\, join our parade! Make a float and join the parade.  \nLine up at noon at the Catholic Church\, parade starts at 1pm.  \nOrganized by Sunapee Fire Department. \n\n\n	Related
URL:https://lake-sunapee-living.com/event/sunapee-independance-day-parade/
LOCATION:Sunapee Harbor\, 67 Main Street\, Sunapee\, NH\, 03782\, United States
CATEGORIES:Parade
GEO:43.3856379;-72.0816099
X-APPLE-STRUCTURED-LOCATION;VALUE=URI;X-ADDRESS=Sunapee Harbor 67 Main Street Sunapee NH 03782 United States;X-APPLE-RADIUS=500;X-TITLE=67 Main Street:geo:-72.0816099,43.3856379
END:VEVENT
BEGIN:VEVENT
DTSTART;TZID=America/New_York:20180706T180000
DTEND;TZID=America/New_York:20180706T183000
DTSTAMP:20260424T192709
CREATED:20180604T014029Z
LAST-MODIFIED:20180604T014029Z
UID:10000368-1530900000-1530901800@lake-sunapee-living.com
SUMMARY:Sunapee Harbor Great Watermelon Race
DESCRIPTION:Great Watermelon Race Friday\, July 6th 6:00pm in Sunapee Harbor \nTake one watermelon\, add axels and wheels (any size) decorate and get ready to race down Maple Street\, across from Pete’s Shed. \nCategories and prizes for all ages! Fun to watch too. \nOfficial Watermelon Race Rules: \nRULE #1 Craft your Watermelon Race Car using a single Watermelon.\nRULE #2 Insert two independent axles through your Watermelon and attach wheels to the axles. Spice up your racer with style.\nRULE #3 You may not attach your Watermelon onto a pre-fabricated chassis of any kind (skateboard\, stroller\, Tonka truck\, etc.) A.K.A. The “Anti-Stealth” Rule.\nRULE #4 NO EXPLOSIVES or PYROTECHNICS.\nRULE #5 No pushing or “helping your Watermelon Racer on the starting line. Our Race Officials have seen it all – the last minute shove\, the hidden thumb flick\, the early release\, the remote control chassis\, etc. See Rule #6.\nRULE #6 NO CHEATING. Feel great about being honest and fair. \n\n\n	Related
URL:https://lake-sunapee-living.com/event/sunapee-harbor-great-watermelon-race/
LOCATION:Sunapee Harbor\, 67 Main Street\, Sunapee\, NH\, 03782\, United States
CATEGORIES:Watermelon Race
GEO:43.3856379;-72.0816099
X-APPLE-STRUCTURED-LOCATION;VALUE=URI;X-ADDRESS=Sunapee Harbor 67 Main Street Sunapee NH 03782 United States;X-APPLE-RADIUS=500;X-TITLE=67 Main Street:geo:-72.0816099,43.3856379
END:VEVENT
BEGIN:VEVENT
DTSTART;TZID=America/New_York:20180703T203000
DTEND;TZID=America/New_York:20180703T213000
DTSTAMP:20260424T192709
CREATED:20180604T014242Z
LAST-MODIFIED:20180624T234234Z
UID:10000370-1530649800-1530653400@lake-sunapee-living.com
SUMMARY:Fireworks from Sunapee Yacht Club
DESCRIPTION:Fireworks from Sunapee Yacht Club Friday\, July 3rd  \nBest viewed by boat. Or enjoy a Fireworks Cruise! Visit www.sunapeecruises.com for more information. \n\n\n	Related
URL:https://lake-sunapee-living.com/event/fireworks-from-sunapee-yacht-club/
LOCATION:Sunapee Harbor\, 67 Main Street\, Sunapee\, NH\, 03782\, United States
CATEGORIES:Fireworks
GEO:43.3856379;-72.0816099
X-APPLE-STRUCTURED-LOCATION;VALUE=URI;X-ADDRESS=Sunapee Harbor 67 Main Street Sunapee NH 03782 United States;X-APPLE-RADIUS=500;X-TITLE=67 Main Street:geo:-72.0816099,43.3856379
END:VEVENT
BEGIN:VEVENT
DTSTART;TZID=America/New_York:20180608T170000
DTEND;TZID=America/New_York:20180608T220000
DTSTAMP:20260424T192709
CREATED:20180603T154437Z
LAST-MODIFIED:20180603T154511Z
UID:10000357-1528477200-1528495200@lake-sunapee-living.com
SUMMARY:Sunapee Harbor Special Opening Night
DESCRIPTION:Sunapee Celebrates Summer Friday\, June 8th Special Harbor Opening Night. \nShops\, restaurants\, the Historical Museum and the Livery all will be open with special offerings for your pleasure.  \nwww.projectsunapee.org \n  \n\n\n	Related
URL:https://lake-sunapee-living.com/event/sunapee-harbor-special-opening-night/
LOCATION:Sunapee Harbor\, 67 Main Street\, Sunapee\, NH\, 03782\, United States
CATEGORIES:Friday Event
GEO:43.3856379;-72.0816099
X-APPLE-STRUCTURED-LOCATION;VALUE=URI;X-ADDRESS=Sunapee Harbor 67 Main Street Sunapee NH 03782 United States;X-APPLE-RADIUS=500;X-TITLE=67 Main Street:geo:-72.0816099,43.3856379
END:VEVENT
END:VCALENDAR