BEGIN:VCALENDAR
VERSION:2.0
PRODID:-//Lake Sunapee Living - ECPv6.15.13//NONSGML v1.0//EN
CALSCALE:GREGORIAN
METHOD:PUBLISH
X-WR-CALNAME:Lake Sunapee Living
X-ORIGINAL-URL:https://lake-sunapee-living.com
X-WR-CALDESC:Events for Lake Sunapee Living
REFRESH-INTERVAL;VALUE=DURATION:PT1H
X-Robots-Tag:noindex
X-PUBLISHED-TTL:PT1H
BEGIN:VTIMEZONE
TZID:America/New_York
BEGIN:DAYLIGHT
TZOFFSETFROM:-0500
TZOFFSETTO:-0400
TZNAME:EDT
DTSTART:20210314T070000
END:DAYLIGHT
BEGIN:STANDARD
TZOFFSETFROM:-0400
TZOFFSETTO:-0500
TZNAME:EST
DTSTART:20211107T060000
END:STANDARD
BEGIN:DAYLIGHT
TZOFFSETFROM:-0500
TZOFFSETTO:-0400
TZNAME:EDT
DTSTART:20220313T070000
END:DAYLIGHT
BEGIN:STANDARD
TZOFFSETFROM:-0400
TZOFFSETTO:-0500
TZNAME:EST
DTSTART:20221106T060000
END:STANDARD
BEGIN:DAYLIGHT
TZOFFSETFROM:-0500
TZOFFSETTO:-0400
TZNAME:EDT
DTSTART:20230312T070000
END:DAYLIGHT
BEGIN:STANDARD
TZOFFSETFROM:-0400
TZOFFSETTO:-0500
TZNAME:EST
DTSTART:20231105T060000
END:STANDARD
BEGIN:DAYLIGHT
TZOFFSETFROM:-0500
TZOFFSETTO:-0400
TZNAME:EDT
DTSTART:20240310T070000
END:DAYLIGHT
BEGIN:STANDARD
TZOFFSETFROM:-0400
TZOFFSETTO:-0500
TZNAME:EST
DTSTART:20241103T060000
END:STANDARD
BEGIN:DAYLIGHT
TZOFFSETFROM:-0500
TZOFFSETTO:-0400
TZNAME:EDT
DTSTART:20250309T070000
END:DAYLIGHT
BEGIN:STANDARD
TZOFFSETFROM:-0400
TZOFFSETTO:-0500
TZNAME:EST
DTSTART:20251102T060000
END:STANDARD
BEGIN:DAYLIGHT
TZOFFSETFROM:-0500
TZOFFSETTO:-0400
TZNAME:EDT
DTSTART:20260308T070000
END:DAYLIGHT
BEGIN:STANDARD
TZOFFSETFROM:-0400
TZOFFSETTO:-0500
TZNAME:EST
DTSTART:20261101T060000
END:STANDARD
END:VTIMEZONE
BEGIN:VEVENT
DTSTART;TZID=America/New_York:20251127T090000
DTEND;TZID=America/New_York:20251127T110000
DTSTAMP:20260424T125600
CREATED:20251122T134749Z
LAST-MODIFIED:20251122T134749Z
UID:10004622-1764234000-1764241200@lake-sunapee-living.com
SUMMARY:Lake Sunapee Turkey Trot
DESCRIPTION:Now in its 19th year\, the Lake Sunapee Turkey Trot has become a wonderful family tradition for more than 800 racers. Grab your family and friends\, throw on a costume (optional\, but really fun and highly encouraged)\, work off some calories\, and make this great event a part of your Thanksgiving tradition! \nThis year\, proceeds will go toward supporting the Recreation Department’s mission to enhance community facilities\, with funds evenly distributed among Dewey Field\, Veterans Field\, and Tilton Park. \n*ONLINE REGISTRATION IS NOW OPEN*\nRacers can also register in person on the evening before the race Every racer needs to fill out a race application\, sign a waiver form\, and collect a bib and pins in order to receive a time.\n\n\n	Related
URL:https://lake-sunapee-living.com/event/lake-sunapee-turkey-trot/
LOCATION:Sunapee Harbor\, 67 Main Street\, Sunapee\, NH\, 03782\, United States
CATEGORIES:Sunapee Harbor
GEO:43.3856379;-72.0816099
X-APPLE-STRUCTURED-LOCATION;VALUE=URI;X-ADDRESS=Sunapee Harbor 67 Main Street Sunapee NH 03782 United States;X-APPLE-RADIUS=500;X-TITLE=67 Main Street:geo:-72.0816099,43.3856379
END:VEVENT
BEGIN:VEVENT
DTSTART;TZID=America/New_York:20250712T100000
DTEND;TZID=America/New_York:20250712T160000
DTSTAMP:20260424T125600
CREATED:20250704T114637Z
LAST-MODIFIED:20250704T114637Z
UID:10004609-1752314400-1752336000@lake-sunapee-living.com
SUMMARY:Arts in the Harbor
DESCRIPTION:Join us for Arts in the Harbor\, a one-day outdoor juried show celebrating the vibrant talent of artists across the region. Explore oil\, acrylic\, and watercolor paintings\, photography\, pottery\, handcrafted jewelry\, and more—all in the charming setting of Sunapee Harbor. \nLearn More \n\n\n	Related
URL:https://lake-sunapee-living.com/event/arts-in-the-harbor/
LOCATION:Sunapee Harbor\, 67 Main Street\, Sunapee\, NH\, 03782\, United States
CATEGORIES:Art Exhibition
GEO:43.3856379;-72.0816099
X-APPLE-STRUCTURED-LOCATION;VALUE=URI;X-ADDRESS=Sunapee Harbor 67 Main Street Sunapee NH 03782 United States;X-APPLE-RADIUS=500;X-TITLE=67 Main Street:geo:-72.0816099,43.3856379
END:VEVENT
BEGIN:VEVENT
DTSTART;TZID=America/New_York:20250705T210000
DTEND;TZID=America/New_York:20250705T213000
DTSTAMP:20260424T125600
CREATED:20250629T114229Z
LAST-MODIFIED:20250629T114229Z
UID:10004600-1751749200-1751751000@lake-sunapee-living.com
SUMMARY:Town of Sunapee Fourth of July Fireworks
DESCRIPTION:Town of Sunapee Fourth of July Fireworks\n\nSat\, Jul 5 2025\, 9 – 9:30pm\n\n\n\n\n\n\n\n	Related
URL:https://lake-sunapee-living.com/event/town-of-sunapee-fourth-of-july-fireworks/
LOCATION:Sunapee Harbor\, 67 Main Street\, Sunapee\, NH\, 03782\, United States
CATEGORIES:Fireworks
GEO:43.3856379;-72.0816099
X-APPLE-STRUCTURED-LOCATION;VALUE=URI;X-ADDRESS=Sunapee Harbor 67 Main Street Sunapee NH 03782 United States;X-APPLE-RADIUS=500;X-TITLE=67 Main Street:geo:-72.0816099,43.3856379
END:VEVENT
BEGIN:VEVENT
DTSTART;TZID=America/New_York:20250524T070000
DTEND;TZID=America/New_York:20250524T160000
DTSTAMP:20260424T125600
CREATED:20250518T214059Z
LAST-MODIFIED:20250518T214059Z
UID:10004510-1748070000-1748102400@lake-sunapee-living.com
SUMMARY:Sunapee Harbor: Stacy's Smoothies opening for the season
DESCRIPTION:Stacy’s Smoothies opening for the season\nStacyssmoothies.com \n\n\n	Related
URL:https://lake-sunapee-living.com/event/sunapee-harbor-stacys-smoothies-opening-for-the-season/
LOCATION:Sunapee Harbor\, 67 Main Street\, Sunapee\, NH\, 03782\, United States
GEO:43.3856379;-72.0816099
X-APPLE-STRUCTURED-LOCATION;VALUE=URI;X-ADDRESS=Sunapee Harbor 67 Main Street Sunapee NH 03782 United States;X-APPLE-RADIUS=500;X-TITLE=67 Main Street:geo:-72.0816099,43.3856379
END:VEVENT
BEGIN:VEVENT
DTSTART;TZID=America/New_York:20241214T130000
DTEND;TZID=America/New_York:20241214T160000
DTSTAMP:20260424T125600
CREATED:20240727T160158Z
LAST-MODIFIED:20240727T160158Z
UID:10004345-1734181200-1734192000@lake-sunapee-living.com
SUMMARY:Sunapee Christmas Village
DESCRIPTION:* Santa Fire Truck Parade\n* Write a Letter to Santa\n* Visit Santa and Ms. Claus\n* Gingerbread House Contest\n* Holiday Cardboard Vilage\nand More\nwww.projectsunapee.org \n\n\n	Related
URL:https://lake-sunapee-living.com/event/sunapee-christmas-village/
LOCATION:Sunapee Harbor\, 67 Main Street\, Sunapee\, NH\, 03782\, United States
CATEGORIES:Christmas
ORGANIZER;CN="Louis Bradbard":MAILTO:lbradbard@mac.com
GEO:43.3856379;-72.0816099
X-APPLE-STRUCTURED-LOCATION;VALUE=URI;X-ADDRESS=Sunapee Harbor 67 Main Street Sunapee NH 03782 United States;X-APPLE-RADIUS=500;X-TITLE=67 Main Street:geo:-72.0816099,43.3856379
END:VEVENT
BEGIN:VEVENT
DTSTART;TZID=America/New_York:20241127T090000
DTEND;TZID=America/New_York:20241127T120000
DTSTAMP:20260424T125600
CREATED:20240726T130156Z
LAST-MODIFIED:20240919T193458Z
UID:10004321-1732698000-1732708800@lake-sunapee-living.com
SUMMARY:18th Annual Sunapee Turkey Trot 5K at Sunapee Harbor
DESCRIPTION:Chicken Run: 8am\nWhether you walk\, push a stroller\, jog or run\, this is a great event for all to enjoy. Your participation is a great way to raise money for the Sunapee Recreation Department so we can keep making memories for years to come. This fantastic walk/run is truly a community event from local businesses sponsoring the race\, to all of our wonderful volunteers who make it all happen! Race day registration available from 7-8am. There will be an awards ceremony after the race. Register and pay online at www.sunapeeturkeytrot.com \n\n\n	Related
URL:https://lake-sunapee-living.com/event/18th-annual-sunapee-turkey-trot-5k-at-sunapee-harbor/
LOCATION:Sunapee Harbor\, 67 Main Street\, Sunapee\, NH\, 03782\, United States
CATEGORIES:Fun Run
ORGANIZER;CN="Louis Bradbard":MAILTO:lbradbard@mac.com
GEO:43.3856379;-72.0816099
X-APPLE-STRUCTURED-LOCATION;VALUE=URI;X-ADDRESS=Sunapee Harbor 67 Main Street Sunapee NH 03782 United States;X-APPLE-RADIUS=500;X-TITLE=67 Main Street:geo:-72.0816099,43.3856379
END:VEVENT
BEGIN:VEVENT
DTSTART;TZID=America/New_York:20241005T190000
DTEND;TZID=America/New_York:20241005T203000
DTSTAMP:20260424T125600
CREATED:20240727T155125Z
LAST-MODIFIED:20240728T202509Z
UID:10004343-1728154800-1728160200@lake-sunapee-living.com
SUMMARY:Sunapee Historical Society Program
DESCRIPTION:Related
URL:https://lake-sunapee-living.com/event/sunapee-historical-society-program-6/
LOCATION:Sunapee Harbor\, 67 Main Street\, Sunapee\, NH\, 03782\, United States
CATEGORIES:History Cruise
GEO:43.3856379;-72.0816099
X-APPLE-STRUCTURED-LOCATION;VALUE=URI;X-ADDRESS=Sunapee Harbor 67 Main Street Sunapee NH 03782 United States;X-APPLE-RADIUS=500;X-TITLE=67 Main Street:geo:-72.0816099,43.3856379
END:VEVENT
BEGIN:VEVENT
DTSTART;TZID=America/New_York:20240917T190000
DTEND;TZID=America/New_York:20240917T203000
DTSTAMP:20260424T125600
CREATED:20240727T154008Z
LAST-MODIFIED:20240728T202613Z
UID:10004341-1726599600-1726605000@lake-sunapee-living.com
SUMMARY:Sunapee Historical Society Program
DESCRIPTION:Related
URL:https://lake-sunapee-living.com/event/sunapee-historical-society-program-5/
LOCATION:Sunapee Harbor\, 67 Main Street\, Sunapee\, NH\, 03782\, United States
CATEGORIES:History Cruise
GEO:43.3856379;-72.0816099
X-APPLE-STRUCTURED-LOCATION;VALUE=URI;X-ADDRESS=Sunapee Harbor 67 Main Street Sunapee NH 03782 United States;X-APPLE-RADIUS=500;X-TITLE=67 Main Street:geo:-72.0816099,43.3856379
END:VEVENT
BEGIN:VEVENT
DTSTART;TZID=America/New_York:20240907T090000
DTEND;TZID=America/New_York:20240907T120000
DTSTAMP:20260424T125600
CREATED:20240721T221434Z
LAST-MODIFIED:20240721T230114Z
UID:10004253-1725699600-1725710400@lake-sunapee-living.com
SUMMARY:Sunapee Farmer's Market - Every Saturday\, 9:00 – Noon Rain or Shine
DESCRIPTION:Kids Programs 9am – 12pm\nKids programs are free. No sign up is necessary.\nMay 25 – Decorate Kids Tent\nJune 1\, 8\, 16 Paper Crafts/ Lawn games\nJune 22 Coffee Filter Flowers\nJune 29 Paper Flower Crown\nJuly 6 Paper Lanterns\nJuly 13 Fairy Houses\nJuly 20 Glitter Tattoos\nJuly 27 Egg Carton Mushrooms\nAug 3 Spinner toy craft\nAug 10\, 17 Paper Crafts/ Lawn games\nAug 24 TBD\nAug 31 Farm Play/ Stories \n\n\n	Related
URL:https://lake-sunapee-living.com/event/sunapee-farmers-market-every-saturday-900-noon-rain-or-shine/2024-09-07/
LOCATION:Sunapee Harbor\, 67 Main Street\, Sunapee\, NH\, 03782\, United States
CATEGORIES:Farmers Market
GEO:43.3856379;-72.0816099
X-APPLE-STRUCTURED-LOCATION;VALUE=URI;X-ADDRESS=Sunapee Harbor 67 Main Street Sunapee NH 03782 United States;X-APPLE-RADIUS=500;X-TITLE=67 Main Street:geo:-72.0816099,43.3856379
END:VEVENT
BEGIN:VEVENT
DTSTART;VALUE=DATE:20240831
DTEND;VALUE=DATE:20240901
DTSTAMP:20260424T125600
CREATED:20240727T153316Z
LAST-MODIFIED:20240728T202343Z
UID:10004339-1725062400-1725148799@lake-sunapee-living.com
SUMMARY:Sunapee Farmers Market closes for the season
DESCRIPTION:Related
URL:https://lake-sunapee-living.com/event/sunapee-farmers-market-closes-for-the-season/
LOCATION:Sunapee Harbor\, 67 Main Street\, Sunapee\, NH\, 03782\, United States
CATEGORIES:Farmers Market
GEO:43.3856379;-72.0816099
X-APPLE-STRUCTURED-LOCATION;VALUE=URI;X-ADDRESS=Sunapee Harbor 67 Main Street Sunapee NH 03782 United States;X-APPLE-RADIUS=500;X-TITLE=67 Main Street:geo:-72.0816099,43.3856379
END:VEVENT
BEGIN:VEVENT
DTSTART;VALUE=DATE:20240830
DTEND;VALUE=DATE:20240831
DTSTAMP:20260424T125600
CREATED:20240727T152657Z
LAST-MODIFIED:20240728T202331Z
UID:10004337-1724976000-1725062399@lake-sunapee-living.com
SUMMARY:Outdoor Movie at Ben Mere Bandstand
DESCRIPTION:FREE family event. ( Movies TBD)\nSee www.projectsunapee.com for more information \n\n\n	Related
URL:https://lake-sunapee-living.com/event/outdoor-movie-at-ben-mere-bandstand-3/
LOCATION:Sunapee Harbor\, 67 Main Street\, Sunapee\, NH\, 03782\, United States
CATEGORIES:Movie
GEO:43.3856379;-72.0816099
X-APPLE-STRUCTURED-LOCATION;VALUE=URI;X-ADDRESS=Sunapee Harbor 67 Main Street Sunapee NH 03782 United States;X-APPLE-RADIUS=500;X-TITLE=67 Main Street:geo:-72.0816099,43.3856379
END:VEVENT
BEGIN:VEVENT
DTSTART;TZID=America/New_York:20240822T190000
DTEND;TZID=America/New_York:20240822T203000
DTSTAMP:20260424T125600
CREATED:20240727T152002Z
LAST-MODIFIED:20240728T201728Z
UID:10004336-1724353200-1724358600@lake-sunapee-living.com
SUMMARY:Sunapee Historical Society Program
DESCRIPTION:Related
URL:https://lake-sunapee-living.com/event/sunapee-historical-society-program-4/
LOCATION:Sunapee Harbor\, 67 Main Street\, Sunapee\, NH\, 03782\, United States
CATEGORIES:History Cruise
GEO:43.3856379;-72.0816099
X-APPLE-STRUCTURED-LOCATION;VALUE=URI;X-ADDRESS=Sunapee Harbor 67 Main Street Sunapee NH 03782 United States;X-APPLE-RADIUS=500;X-TITLE=67 Main Street:geo:-72.0816099,43.3856379
END:VEVENT
BEGIN:VEVENT
DTSTART;TZID=America/New_York:20240815T190000
DTEND;TZID=America/New_York:20240815T203000
DTSTAMP:20260424T125600
CREATED:20240727T144848Z
LAST-MODIFIED:20240728T201621Z
UID:10004333-1723748400-1723753800@lake-sunapee-living.com
SUMMARY:Sunapee Historical Society Program
DESCRIPTION:Related
URL:https://lake-sunapee-living.com/event/sunapee-historical-society-program-3/
LOCATION:Sunapee Harbor\, 67 Main Street\, Sunapee\, NH\, 03782\, United States
CATEGORIES:History Cruise
ORGANIZER;CN="Louis Bradbard":MAILTO:lbradbard@mac.com
GEO:43.3856379;-72.0816099
X-APPLE-STRUCTURED-LOCATION;VALUE=URI;X-ADDRESS=Sunapee Harbor 67 Main Street Sunapee NH 03782 United States;X-APPLE-RADIUS=500;X-TITLE=67 Main Street:geo:-72.0816099,43.3856379
END:VEVENT
BEGIN:VEVENT
DTSTART;TZID=America/New_York:20240812T190000
DTEND;TZID=America/New_York:20240812T203000
DTSTAMP:20260424T125600
CREATED:20240727T141438Z
LAST-MODIFIED:20240727T141438Z
UID:10004330-1723489200-1723494600@lake-sunapee-living.com
SUMMARY:Sunapee Historical Society Program
DESCRIPTION:Related
URL:https://lake-sunapee-living.com/event/sunapee-historical-society-program-2/
LOCATION:Sunapee Harbor\, 67 Main Street\, Sunapee\, NH\, 03782\, United States
CATEGORIES:History Cruise
ORGANIZER;CN="Louis Bradbard":MAILTO:lbradbard@mac.com
GEO:43.3856379;-72.0816099
X-APPLE-STRUCTURED-LOCATION;VALUE=URI;X-ADDRESS=Sunapee Harbor 67 Main Street Sunapee NH 03782 United States;X-APPLE-RADIUS=500;X-TITLE=67 Main Street:geo:-72.0816099,43.3856379
END:VEVENT
BEGIN:VEVENT
DTSTART;TZID=America/New_York:20240811T093000
DTEND;TZID=America/New_York:20240811T110000
DTSTAMP:20260424T125600
CREATED:20240727T143131Z
LAST-MODIFIED:20240728T201605Z
UID:10004331-1723368600-1723374000@lake-sunapee-living.com
SUMMARY:LSPA Summer Programs: Love Your Lakes Day & Antique Boat Parade
DESCRIPTION:There will be exciting exhibits\, face painting\, games\, crafts for the kids\, and a live animals presentation by The Squam Lake Science Center. Join us as we celebrate our love and appreciation for the incredible gifts Lake Sunapee shares with us all year long. Antique boats will be on display in Sunapee Harbor throughout the morning\, followed by the parade with the route starting in Gardner Bay. The boats will head south past Dewey Beach\, enter Sunapee Harbor\, then travel along the shoreline toward Birch Point\, passing Fishers Bay and Oakledge\, the State Beach and ending in Newbury Harbor. \n\n\n	Related
URL:https://lake-sunapee-living.com/event/lspa-summer-programs-love-your-lakes-day-antique-boat-parade/
LOCATION:Sunapee Harbor\, 67 Main Street\, Sunapee\, NH\, 03782\, United States
CATEGORIES:LSPA Summer Programs
GEO:43.3856379;-72.0816099
X-APPLE-STRUCTURED-LOCATION;VALUE=URI;X-ADDRESS=Sunapee Harbor 67 Main Street Sunapee NH 03782 United States;X-APPLE-RADIUS=500;X-TITLE=67 Main Street:geo:-72.0816099,43.3856379
END:VEVENT
BEGIN:VEVENT
DTSTART;TZID=America/New_York:20240810T110000
DTEND;TZID=America/New_York:20240810T130000
DTSTAMP:20260424T125600
CREATED:20240725T154157Z
LAST-MODIFIED:20240728T201554Z
UID:10004315-1723287600-1723294800@lake-sunapee-living.com
SUMMARY:Rock Bass Fishing Derby at Sunapee Harbor
DESCRIPTION:The annual Lake Sunapee Rock Bass Derby has become a summer tradition around the lake with young and old alike having fun and earning prizes while controlling these pesky fish. All are welcome! No limit to team sizes. No cost to participate. Fishing license required for 16 years and older and can be purchased online at http://wildlife.state.nh.us/Licensing/licenses.htm. For more information about permits and licenses\, please call 603-843-7613 \nWant to Volunteer? Town of Sunapee is in need of volunteers to help continue with this tradition. If you can help please contact Steve Bourque\, Recreation Coordinator\, 603-843-7613. \n\n\n	Related
URL:https://lake-sunapee-living.com/event/rock-bass-fishing-derby-at-sunapee-harbor/
LOCATION:Sunapee Harbor\, 67 Main Street\, Sunapee\, NH\, 03782\, United States
CATEGORIES:Fishing Derby
GEO:43.3856379;-72.0816099
X-APPLE-STRUCTURED-LOCATION;VALUE=URI;X-ADDRESS=Sunapee Harbor 67 Main Street Sunapee NH 03782 United States;X-APPLE-RADIUS=500;X-TITLE=67 Main Street:geo:-72.0816099,43.3856379
END:VEVENT
BEGIN:VEVENT
DTSTART;TZID=America/New_York:20240807T190000
DTEND;TZID=America/New_York:20240807T203000
DTSTAMP:20260424T125600
CREATED:20240727T140929Z
LAST-MODIFIED:20240728T201440Z
UID:10004329-1723057200-1723062600@lake-sunapee-living.com
SUMMARY:Sunapee Historical Society Program
DESCRIPTION:Related
URL:https://lake-sunapee-living.com/event/sunapee-historical-society-program/
LOCATION:Sunapee Harbor\, 67 Main Street\, Sunapee\, NH\, 03782\, United States
CATEGORIES:History Cruise
GEO:43.3856379;-72.0816099
X-APPLE-STRUCTURED-LOCATION;VALUE=URI;X-ADDRESS=Sunapee Harbor 67 Main Street Sunapee NH 03782 United States;X-APPLE-RADIUS=500;X-TITLE=67 Main Street:geo:-72.0816099,43.3856379
END:VEVENT
BEGIN:VEVENT
DTSTART;TZID=America/New_York:20240805T173000
DTEND;TZID=America/New_York:20240805T190000
DTSTAMP:20260424T125600
CREATED:20240727T123145Z
LAST-MODIFIED:20240728T201420Z
UID:10004323-1722879000-1722884400@lake-sunapee-living.com
SUMMARY:Sunapee Historical Society Program at History Cruise
DESCRIPTION:Explore early lakeshore development from north of the Fells\, past Newbury Harbor\, and up the west shore to Fisher’s Bay; $45 per person. Reservations required: (603) 763-9872 or sunapeehistory@gmail.com \n\n\n	Related
URL:https://lake-sunapee-living.com/event/sunapee-historical-society-program-at-history-cruise/
LOCATION:Sunapee Harbor\, 67 Main Street\, Sunapee\, NH\, 03782\, United States
CATEGORIES:History Cruise
GEO:43.3856379;-72.0816099
X-APPLE-STRUCTURED-LOCATION;VALUE=URI;X-ADDRESS=Sunapee Harbor 67 Main Street Sunapee NH 03782 United States;X-APPLE-RADIUS=500;X-TITLE=67 Main Street:geo:-72.0816099,43.3856379
END:VEVENT
BEGIN:VEVENT
DTSTART;VALUE=DATE:20240801
DTEND;VALUE=DATE:20240802
DTSTAMP:20260424T125600
CREATED:20240727T121723Z
LAST-MODIFIED:20240728T200948Z
UID:10004322-1722470400-1722556799@lake-sunapee-living.com
SUMMARY:Outdoor Movie in Sunapee Harbor at Dusk
DESCRIPTION:FREE family event. ( Movies TBD)\nSee www.projectsunapee.com for more information \n\n\n	Related
URL:https://lake-sunapee-living.com/event/outdoor-movie-in-sunapee-harbor-at-dusk/
LOCATION:Sunapee Harbor\, 67 Main Street\, Sunapee\, NH\, 03782\, United States
CATEGORIES:Movie
GEO:43.3856379;-72.0816099
X-APPLE-STRUCTURED-LOCATION;VALUE=URI;X-ADDRESS=Sunapee Harbor 67 Main Street Sunapee NH 03782 United States;X-APPLE-RADIUS=500;X-TITLE=67 Main Street:geo:-72.0816099,43.3856379
END:VEVENT
BEGIN:VEVENT
DTSTART;TZID=America/New_York:20240731T173000
DTEND;TZID=America/New_York:20240731T190000
DTSTAMP:20260424T125600
CREATED:20240727T135008Z
LAST-MODIFIED:20240728T200932Z
UID:10004328-1722447000-1722452400@lake-sunapee-living.com
SUMMARY:Sunapee Historical Society Program at History Cruise
DESCRIPTION:Explore early lakeshore development from north of the Fells\, past Newbury Harbor\, and up the west shore to Fisher’s Bay; $45 per person. Reservations required: (603) 763-9872 or sunapeehistory@gmail.com \n\n\n	Related
URL:https://lake-sunapee-living.com/event/sunapee-historical-society-program-at-history-cruise-2/
LOCATION:Sunapee Harbor\, 67 Main Street\, Sunapee\, NH\, 03782\, United States
CATEGORIES:History Cruise
GEO:43.3856379;-72.0816099
X-APPLE-STRUCTURED-LOCATION;VALUE=URI;X-ADDRESS=Sunapee Harbor 67 Main Street Sunapee NH 03782 United States;X-APPLE-RADIUS=500;X-TITLE=67 Main Street:geo:-72.0816099,43.3856379
END:VEVENT
BEGIN:VEVENT
DTSTART;TZID=America/New_York:20240629T150000
DTEND;TZID=America/New_York:20240629T170000
DTSTAMP:20260424T125600
CREATED:20240629T161946Z
LAST-MODIFIED:20240629T162006Z
UID:10004185-1719673200-1719680400@lake-sunapee-living.com
SUMMARY:Lake Sunapee Drone Show Setup - Sunapee Harbor
DESCRIPTION:David Goddard\, Commodore of the Lake Sunapee Yacht Club will give us his thoughts about fireworks on our lakes. \n\n\n	Related
URL:https://lake-sunapee-living.com/event/lake-sunapee-drone-show-setup-sunapee-harbor/
LOCATION:Sunapee Harbor\, 67 Main Street\, Sunapee\, NH\, 03782\, United States
CATEGORIES:Holiday
GEO:43.3856379;-72.0816099
X-APPLE-STRUCTURED-LOCATION;VALUE=URI;X-ADDRESS=Sunapee Harbor 67 Main Street Sunapee NH 03782 United States;X-APPLE-RADIUS=500;X-TITLE=67 Main Street:geo:-72.0816099,43.3856379
END:VEVENT
BEGIN:VEVENT
DTSTART;TZID=America/New_York:20230831T200000
DTEND;TZID=America/New_York:20230831T213000
DTSTAMP:20260424T125600
CREATED:20230709T222134Z
LAST-MODIFIED:20230709T222134Z
UID:10004176-1693512000-1693517400@lake-sunapee-living.com
SUMMARY:Movies Under the Stars at Sunapee Harbor: Mario Brothers
DESCRIPTION:Movies Under the Stars – Sunapee Harbor at the Ben Mere Bandstand – Thursdays at Sunset \nprojectsunapee.org \n\n\n	Related
URL:https://lake-sunapee-living.com/event/movies-under-the-stars-at-sunapee-harbor-mario-brothers/
LOCATION:Sunapee Harbor\, 67 Main Street\, Sunapee\, NH\, 03782\, United States
CATEGORIES:Movies Under the Stars
GEO:43.3856379;-72.0816099
X-APPLE-STRUCTURED-LOCATION;VALUE=URI;X-ADDRESS=Sunapee Harbor 67 Main Street Sunapee NH 03782 United States;X-APPLE-RADIUS=500;X-TITLE=67 Main Street:geo:-72.0816099,43.3856379
END:VEVENT
BEGIN:VEVENT
DTSTART;TZID=America/New_York:20230824T200000
DTEND;TZID=America/New_York:20230824T213000
DTSTAMP:20260424T125600
CREATED:20230709T221959Z
LAST-MODIFIED:20230709T221959Z
UID:10004175-1692907200-1692912600@lake-sunapee-living.com
SUMMARY:Movies Under the Stars at Sunapee Harbor: How to Train Your Dragon
DESCRIPTION:Movies Under the Stars – Sunapee Harbor at the Ben Mere Bandstand – Thursdays at Sunset \nprojectsunapee.org \n\n\n	Related
URL:https://lake-sunapee-living.com/event/movies-under-the-stars-at-sunapee-harbor-how-to-train-your-dragon/
LOCATION:Sunapee Harbor\, 67 Main Street\, Sunapee\, NH\, 03782\, United States
CATEGORIES:Movies Under the Stars
GEO:43.3856379;-72.0816099
X-APPLE-STRUCTURED-LOCATION;VALUE=URI;X-ADDRESS=Sunapee Harbor 67 Main Street Sunapee NH 03782 United States;X-APPLE-RADIUS=500;X-TITLE=67 Main Street:geo:-72.0816099,43.3856379
END:VEVENT
BEGIN:VEVENT
DTSTART;TZID=America/New_York:20230817T200000
DTEND;TZID=America/New_York:20230817T213000
DTSTAMP:20260424T125600
CREATED:20230709T221539Z
LAST-MODIFIED:20230709T221823Z
UID:10004174-1692302400-1692307800@lake-sunapee-living.com
SUMMARY:Movies Under the Stars at Sunapee Harbor: Beauty and the Beast
DESCRIPTION:Movies Under the Stars – Sunapee Harbor at the Ben Mere Bandstand – Thursdays at Sunset \nprojectsunapee.org \n\n\n	Related
URL:https://lake-sunapee-living.com/event/movies-under-the-stars-at-sunapee-harbor-beauty-and-the-beast/
LOCATION:Sunapee Harbor\, 67 Main Street\, Sunapee\, NH\, 03782\, United States
CATEGORIES:Movies Under the Stars
GEO:43.3856379;-72.0816099
X-APPLE-STRUCTURED-LOCATION;VALUE=URI;X-ADDRESS=Sunapee Harbor 67 Main Street Sunapee NH 03782 United States;X-APPLE-RADIUS=500;X-TITLE=67 Main Street:geo:-72.0816099,43.3856379
END:VEVENT
BEGIN:VEVENT
DTSTART;TZID=America/New_York:20230810T200000
DTEND;TZID=America/New_York:20230810T200000
DTSTAMP:20260424T125600
CREATED:20230709T221209Z
LAST-MODIFIED:20230709T221209Z
UID:10004173-1691697600-1691697600@lake-sunapee-living.com
SUMMARY:Movies Under the Stars at Sunapee Harbor: Top Gun
DESCRIPTION:Movies Under the Stars – Sunapee Harbor at the Ben Mere Bandstand – Thursdays at Sunset \n\n\n	Related
URL:https://lake-sunapee-living.com/event/movies-under-the-stars-at-sunapee-harbor-top-gun/
LOCATION:Sunapee Harbor\, 67 Main Street\, Sunapee\, NH\, 03782\, United States
CATEGORIES:Movies Under the Stars
GEO:43.3856379;-72.0816099
X-APPLE-STRUCTURED-LOCATION;VALUE=URI;X-ADDRESS=Sunapee Harbor 67 Main Street Sunapee NH 03782 United States;X-APPLE-RADIUS=500;X-TITLE=67 Main Street:geo:-72.0816099,43.3856379
END:VEVENT
BEGIN:VEVENT
DTSTART;TZID=America/New_York:20230803T200000
DTEND;TZID=America/New_York:20230803T213000
DTSTAMP:20260424T125600
CREATED:20230709T221024Z
LAST-MODIFIED:20230709T221024Z
UID:10004172-1691092800-1691098200@lake-sunapee-living.com
SUMMARY:Movies Under the Stars at Sunapee Harbor: My Big Fat Greek Wedding
DESCRIPTION:Movies Under the Stars – Sunapee Harbor at the Ben Mere Bandstand – Thursdays at Sunset \n\n\n	Related
URL:https://lake-sunapee-living.com/event/movies-under-the-stars-at-sunapee-harbor-my-big-fat-greek-wedding/
LOCATION:Sunapee Harbor\, 67 Main Street\, Sunapee\, NH\, 03782\, United States
CATEGORIES:Movies Under the Stars
GEO:43.3856379;-72.0816099
X-APPLE-STRUCTURED-LOCATION;VALUE=URI;X-ADDRESS=Sunapee Harbor 67 Main Street Sunapee NH 03782 United States;X-APPLE-RADIUS=500;X-TITLE=67 Main Street:geo:-72.0816099,43.3856379
END:VEVENT
BEGIN:VEVENT
DTSTART;TZID=America/New_York:20230701T200000
DTEND;TZID=America/New_York:20230701T220000
DTSTAMP:20260424T125600
CREATED:20230701T130240Z
LAST-MODIFIED:20230701T130302Z
UID:10004164-1688241600-1688248800@lake-sunapee-living.com
SUMMARY:Sunapee Harbor Fireworks
DESCRIPTION:Sunapee Harbor Fireworks 8:00 to 10:00 pm\nIndependence Day Parade 11:00 am to 1:00 pm \nThe Independence Day Parade is normally held on the morning of the Fireworks display. It starts at Old Georges Mills Road\, goes up Central Street\, through the Harbor\, and down River Road\, finishing at the end of Central St. \n\n\n	Related
URL:https://lake-sunapee-living.com/event/sunapee-harbor-fireworks-2/
LOCATION:Sunapee Harbor\, 67 Main Street\, Sunapee\, NH\, 03782\, United States
GEO:43.3856379;-72.0816099
X-APPLE-STRUCTURED-LOCATION;VALUE=URI;X-ADDRESS=Sunapee Harbor 67 Main Street Sunapee NH 03782 United States;X-APPLE-RADIUS=500;X-TITLE=67 Main Street:geo:-72.0816099,43.3856379
END:VEVENT
BEGIN:VEVENT
DTSTART;TZID=America/New_York:20220903T083000
DTEND;TZID=America/New_York:20220903T113000
DTSTAMP:20260424T125600
CREATED:20220404T023515Z
LAST-MODIFIED:20220430T012125Z
UID:10000531-1662193800-1662204600@lake-sunapee-living.com
SUMMARY:Sunapee Farmers Market
DESCRIPTION:The Sunapee Farmers Market runs Saturdays\, May 28th – Sept 3rd 8:30 a.m. – 11:30 a.m. located in Historic Sunapee Harbor (58 Main St.\, Sunapee). \nThe market is sponsored by Project Sunapee. SFM sells items grown\, raised\, baked\, created or prepared within 75 miles of Sunapee. \nOur farm vendors offer their own fresh fruits and vegetables\, cheeses\, meats\, eggs\, honey and maple. \nYou’ll find all manner of baked goods\, sweet and savor\, from our prepared food vendors. \nEach week we have different craftspeople\, a non profit and a kids activity table. \n\n\n	Related
URL:https://lake-sunapee-living.com/event/sunapee-farmers-market-2/2022-09-03/
LOCATION:Sunapee Harbor\, 67 Main Street\, Sunapee\, NH\, 03782\, United States
CATEGORIES:Farmers Market
GEO:43.3856379;-72.0816099
X-APPLE-STRUCTURED-LOCATION;VALUE=URI;X-ADDRESS=Sunapee Harbor 67 Main Street Sunapee NH 03782 United States;X-APPLE-RADIUS=500;X-TITLE=67 Main Street:geo:-72.0816099,43.3856379
END:VEVENT
BEGIN:VEVENT
DTSTART;TZID=America/New_York:20220814T100000
DTEND;TZID=America/New_York:20220814T140000
DTSTAMP:20260424T125600
CREATED:20220616T002454Z
LAST-MODIFIED:20220616T023016Z
UID:10004124-1660471200-1660485600@lake-sunapee-living.com
SUMMARY:Love Your Lakes Day & Antique Boat Parade
DESCRIPTION:Love Your Lakes Day will be from 10-2 and the Antique Boat Parade usually starts around 1 pm (going into the Harbor). \n\n\n	Related
URL:https://lake-sunapee-living.com/event/love-your-lakes-day-antique-boat-parade/
LOCATION:Sunapee Harbor\, 67 Main Street\, Sunapee\, NH\, 03782\, United States
CATEGORIES:Community Event
GEO:43.3856379;-72.0816099
X-APPLE-STRUCTURED-LOCATION;VALUE=URI;X-ADDRESS=Sunapee Harbor 67 Main Street Sunapee NH 03782 United States;X-APPLE-RADIUS=500;X-TITLE=67 Main Street:geo:-72.0816099,43.3856379
END:VEVENT
BEGIN:VEVENT
DTSTART;TZID=America/New_York:20220716T100000
DTEND;TZID=America/New_York:20220716T160000
DTSTAMP:20260424T125600
CREATED:20220426T000938Z
LAST-MODIFIED:20220426T001010Z
UID:10004118-1657965600-1657987200@lake-sunapee-living.com
SUMMARY:“Art in the Harbor” in Sunapee Harbor
DESCRIPTION:“Art in the Harbor” in Sunapee Harbor! \nOutdoor Fine Arts and Crafts Show and Sale “Rain or Shine” For more information visit\nwww.centerfortheartsnh.org/arts-in-the-harbor \n\n\n	Related
URL:https://lake-sunapee-living.com/event/art-in-the-harbor-in-sunapee-harbor/
LOCATION:Sunapee Harbor\, 67 Main Street\, Sunapee\, NH\, 03782\, United States
CATEGORIES:Art Exhibition
GEO:43.3856379;-72.0816099
X-APPLE-STRUCTURED-LOCATION;VALUE=URI;X-ADDRESS=Sunapee Harbor 67 Main Street Sunapee NH 03782 United States;X-APPLE-RADIUS=500;X-TITLE=67 Main Street:geo:-72.0816099,43.3856379
END:VEVENT
END:VCALENDAR