BEGIN:VCALENDAR
VERSION:2.0
PRODID:-//Lake Sunapee Living - ECPv6.15.13//NONSGML v1.0//EN
CALSCALE:GREGORIAN
METHOD:PUBLISH
X-ORIGINAL-URL:https://lake-sunapee-living.com
X-WR-CALDESC:Events for Lake Sunapee Living
REFRESH-INTERVAL;VALUE=DURATION:PT1H
X-Robots-Tag:noindex
X-PUBLISHED-TTL:PT1H
BEGIN:VTIMEZONE
TZID:America/New_York
BEGIN:DAYLIGHT
TZOFFSETFROM:-0500
TZOFFSETTO:-0400
TZNAME:EDT
DTSTART:20170312T070000
END:DAYLIGHT
BEGIN:STANDARD
TZOFFSETFROM:-0400
TZOFFSETTO:-0500
TZNAME:EST
DTSTART:20171105T060000
END:STANDARD
BEGIN:DAYLIGHT
TZOFFSETFROM:-0500
TZOFFSETTO:-0400
TZNAME:EDT
DTSTART:20180311T070000
END:DAYLIGHT
BEGIN:STANDARD
TZOFFSETFROM:-0400
TZOFFSETTO:-0500
TZNAME:EST
DTSTART:20181104T060000
END:STANDARD
BEGIN:DAYLIGHT
TZOFFSETFROM:-0500
TZOFFSETTO:-0400
TZNAME:EDT
DTSTART:20190310T070000
END:DAYLIGHT
BEGIN:STANDARD
TZOFFSETFROM:-0400
TZOFFSETTO:-0500
TZNAME:EST
DTSTART:20191103T060000
END:STANDARD
END:VTIMEZONE
BEGIN:VEVENT
DTSTART;TZID=America/New_York:20180801T183000
DTEND;TZID=America/New_York:20180801T210000
DTSTAMP:20260424T180606
CREATED:20180613T211238Z
LAST-MODIFIED:20180613T211238Z
UID:10000179-1533148200-1533157200@lake-sunapee-living.com
SUMMARY:Perfecta Wine Cruise aboard the MV Mount Sunapee II
DESCRIPTION:Join us aboard the MV Mount Sunapee II for a wine tasting and pairing cruise!  \nEnjoy our beautiful lake for a 2 1/2 hour cruise while learning about a portion of our wine selection and a tasting of delicious appetizers. \n$65.99 per person\, all inclusive. \nPlease call 603-938-6465 for reservations\, limited seating available. \n\n\n	Related
URL:https://lake-sunapee-living.com/event/perfecta-wine-cruise-aboard-the-mv-mount-sunapee-ii/
LOCATION:Sunapee Cruises\, 1 Lake Ave\, Sunapee\, NH\, 03751\, United States
CATEGORIES:Wine Tasting
GEO:43.3856701;-72.0800489
X-APPLE-STRUCTURED-LOCATION;VALUE=URI;X-ADDRESS=Sunapee Cruises 1 Lake Ave Sunapee NH 03751 United States;X-APPLE-RADIUS=500;X-TITLE=1 Lake Ave:geo:-72.0800489,43.3856701
END:VEVENT
BEGIN:VEVENT
DTSTART;TZID=America/New_York:20180711T183000
DTEND;TZID=America/New_York:20180711T210000
DTSTAMP:20260424T180606
CREATED:20180613T211733Z
LAST-MODIFIED:20180613T211839Z
UID:10000175-1531333800-1531342800@lake-sunapee-living.com
SUMMARY:Perfecta Wine Cruise aboard the MV Mount Sunapee II
DESCRIPTION:Join us aboard the MV Mount Sunapee II for a wine tasting and pairing cruise!  \nEnjoy our beautiful lake for a 2 1/2 hour cruise while learning about a portion of our wine selection and a tasting of delicious appetizers. \n$65.99 per person\, all inclusive. \nPlease call 603-938-6465 for reservations\, limited seating available. \n\n\n	Related
URL:https://lake-sunapee-living.com/event/perfecta-wine-cruise-aboard-the-mv-mount-sunape/
LOCATION:Sunapee Cruises\, 1 Lake Ave\, Sunapee\, NH\, 03751\, United States
CATEGORIES:Wine Tasting
GEO:43.3856701;-72.0800489
X-APPLE-STRUCTURED-LOCATION;VALUE=URI;X-ADDRESS=Sunapee Cruises 1 Lake Ave Sunapee NH 03751 United States;X-APPLE-RADIUS=500;X-TITLE=1 Lake Ave:geo:-72.0800489,43.3856701
END:VEVENT
BEGIN:VEVENT
DTSTART;TZID=America/New_York:20180701T160000
DTEND;TZID=America/New_York:20180701T190000
DTSTAMP:20260424T180606
CREATED:20180622T010725Z
LAST-MODIFIED:20180622T010725Z
UID:10000536-1530460800-1530471600@lake-sunapee-living.com
SUMMARY:Sunapee Cruises: Captain Al's Retirement Party
DESCRIPTION:After 38 year of driving the dinner and tour boats on Lake Sunapee\, Captain Al is retiring! \nPlease stop by to celebrate his milestone. \n4:00 pm – 6:00 pm: Open house with dessert social\n6:00 pm – 7:00 pm: Join us on a cruise with Captain Al aboard the MV Mt Sunapee II \nWe hope to see you there! \n\n\n	Related
URL:https://lake-sunapee-living.com/event/sunapee-cruises-captain-als-retirement-party/
LOCATION:Sunapee Cruises\, 1 Lake Ave\, Sunapee\, NH\, 03751\, United States
CATEGORIES:Retirement Party
GEO:43.3856701;-72.0800489
X-APPLE-STRUCTURED-LOCATION;VALUE=URI;X-ADDRESS=Sunapee Cruises 1 Lake Ave Sunapee NH 03751 United States;X-APPLE-RADIUS=500;X-TITLE=1 Lake Ave:geo:-72.0800489,43.3856701
END:VEVENT
BEGIN:VEVENT
DTSTART;TZID=America/New_York:20180628T190000
DTEND;TZID=America/New_York:20180628T210000
DTSTAMP:20260424T180606
CREATED:20180613T212151Z
LAST-MODIFIED:20180613T212151Z
UID:10000173-1530212400-1530219600@lake-sunapee-living.com
SUMMARY:Henniker Brewery Dinner Cruise on the MV Mount Sunapee II
DESCRIPTION:Join us for a 5 course tasting menu paired with beers from Henniker Brewing Company!  \nWe’ll be taking a 2 1/2 hour cruise around our beautiful lake aboard the MV Mount Sunapee II enjoying amazing food and even more delicious brews. \n$54.99 per person including tax and gratuity. \nCall 603-938-6465 for reservations\, limited seating available. \n\n\n	Related
URL:https://lake-sunapee-living.com/event/henniker-brewery-dinner-cruise-on-the-mv-mount-sunapee-ii/
LOCATION:Sunapee Cruises\, 1 Lake Ave\, Sunapee\, NH\, 03751\, United States
CATEGORIES:Beer Tasting
GEO:43.3856701;-72.0800489
X-APPLE-STRUCTURED-LOCATION;VALUE=URI;X-ADDRESS=Sunapee Cruises 1 Lake Ave Sunapee NH 03751 United States;X-APPLE-RADIUS=500;X-TITLE=1 Lake Ave:geo:-72.0800489,43.3856701
END:VEVENT
END:VCALENDAR