BEGIN:VCALENDAR
VERSION:2.0
PRODID:-//Lake Sunapee Living - ECPv6.15.13//NONSGML v1.0//EN
CALSCALE:GREGORIAN
METHOD:PUBLISH
X-WR-CALNAME:Lake Sunapee Living
X-ORIGINAL-URL:https://lake-sunapee-living.com
X-WR-CALDESC:Events for Lake Sunapee Living
REFRESH-INTERVAL;VALUE=DURATION:PT1H
X-Robots-Tag:noindex
X-PUBLISHED-TTL:PT1H
BEGIN:VTIMEZONE
TZID:America/New_York
BEGIN:DAYLIGHT
TZOFFSETFROM:-0500
TZOFFSETTO:-0400
TZNAME:EDT
DTSTART:20190310T070000
END:DAYLIGHT
BEGIN:STANDARD
TZOFFSETFROM:-0400
TZOFFSETTO:-0500
TZNAME:EST
DTSTART:20191103T060000
END:STANDARD
BEGIN:DAYLIGHT
TZOFFSETFROM:-0500
TZOFFSETTO:-0400
TZNAME:EDT
DTSTART:20200308T070000
END:DAYLIGHT
BEGIN:STANDARD
TZOFFSETFROM:-0400
TZOFFSETTO:-0500
TZNAME:EST
DTSTART:20201101T060000
END:STANDARD
BEGIN:DAYLIGHT
TZOFFSETFROM:-0500
TZOFFSETTO:-0400
TZNAME:EDT
DTSTART:20210314T070000
END:DAYLIGHT
BEGIN:STANDARD
TZOFFSETFROM:-0400
TZOFFSETTO:-0500
TZNAME:EST
DTSTART:20211107T060000
END:STANDARD
END:VTIMEZONE
BEGIN:VEVENT
DTSTART;TZID=America/New_York:20200322T100000
DTEND;TZID=America/New_York:20200322T140000
DTSTAMP:20260425T093857
CREATED:20200315T174957Z
LAST-MODIFIED:20200315T174957Z
UID:10003934-1584871200-1584885600@lake-sunapee-living.com
SUMMARY:Back In The Day Old School Pipe Jam at Ragged Mountain Resort
DESCRIPTION:We’re bringing it back! Our signature\, hand-shaped\, old school inspired\, mini pipe snowboard event is sure to impress. With retro attire and tricks encouraged\, this spring event is all about good vibes with buds on boards. Age\, Gender\, and skill set are no factors here… all buzzards welcome! Riders will be judged on creativity\, style\, amplitude\, and the most important critique – how much FUN they are having! \nThis event has attracted some big name snowboarders including Sean Genovese\, Mike Rav\, Layne Treeter\, Tommy Gesme\, and more! As you rip the pipe\, judges will be tossing prizes for stand out maneuvers\, bails\, and other shenanigans. Everyone has a chance to go home with a prize! The top rider will WIN A 20/21 RAGGED MOUNTAIN SEASON PASS\, along with prizes from our sponsors. \n\n\n	Related
URL:https://lake-sunapee-living.com/event/back-in-the-day-old-school-pipe-jam-at-ragged-mountain-resort/
LOCATION:Ragged Mountain Resort\, 620 Ragged Mountain Rdski\, Danbury\, NH\, 03230\, United States
CATEGORIES:Ski
GEO:43.4854683;-71.8422858
X-APPLE-STRUCTURED-LOCATION;VALUE=URI;X-ADDRESS=Ragged Mountain Resort 620 Ragged Mountain Rdski Danbury NH 03230 United States;X-APPLE-RADIUS=500;X-TITLE=620 Ragged Mountain Rdski:geo:-71.8422858,43.4854683
END:VEVENT
END:VCALENDAR