BEGIN:VCALENDAR
VERSION:2.0
PRODID:-//Lake Sunapee Living - ECPv6.15.13//NONSGML v1.0//EN
CALSCALE:GREGORIAN
METHOD:PUBLISH
X-WR-CALNAME:Lake Sunapee Living
X-ORIGINAL-URL:https://lake-sunapee-living.com
X-WR-CALDESC:Events for Lake Sunapee Living
REFRESH-INTERVAL;VALUE=DURATION:PT1H
X-Robots-Tag:noindex
X-PUBLISHED-TTL:PT1H
BEGIN:VTIMEZONE
TZID:America/New_York
BEGIN:DAYLIGHT
TZOFFSETFROM:-0500
TZOFFSETTO:-0400
TZNAME:EDT
DTSTART:20170312T070000
END:DAYLIGHT
BEGIN:STANDARD
TZOFFSETFROM:-0400
TZOFFSETTO:-0500
TZNAME:EST
DTSTART:20171105T060000
END:STANDARD
BEGIN:DAYLIGHT
TZOFFSETFROM:-0500
TZOFFSETTO:-0400
TZNAME:EDT
DTSTART:20180311T070000
END:DAYLIGHT
BEGIN:STANDARD
TZOFFSETFROM:-0400
TZOFFSETTO:-0500
TZNAME:EST
DTSTART:20181104T060000
END:STANDARD
BEGIN:DAYLIGHT
TZOFFSETFROM:-0500
TZOFFSETTO:-0400
TZNAME:EDT
DTSTART:20190310T070000
END:DAYLIGHT
BEGIN:STANDARD
TZOFFSETFROM:-0400
TZOFFSETTO:-0500
TZNAME:EST
DTSTART:20191103T060000
END:STANDARD
BEGIN:DAYLIGHT
TZOFFSETFROM:-0500
TZOFFSETTO:-0400
TZNAME:EDT
DTSTART:20200308T070000
END:DAYLIGHT
BEGIN:STANDARD
TZOFFSETFROM:-0400
TZOFFSETTO:-0500
TZNAME:EST
DTSTART:20201101T060000
END:STANDARD
BEGIN:DAYLIGHT
TZOFFSETFROM:-0500
TZOFFSETTO:-0400
TZNAME:EDT
DTSTART:20210314T070000
END:DAYLIGHT
BEGIN:STANDARD
TZOFFSETFROM:-0400
TZOFFSETTO:-0500
TZNAME:EST
DTSTART:20211107T060000
END:STANDARD
BEGIN:DAYLIGHT
TZOFFSETFROM:-0500
TZOFFSETTO:-0400
TZNAME:EDT
DTSTART:20220313T070000
END:DAYLIGHT
BEGIN:STANDARD
TZOFFSETFROM:-0400
TZOFFSETTO:-0500
TZNAME:EST
DTSTART:20221106T060000
END:STANDARD
BEGIN:DAYLIGHT
TZOFFSETFROM:-0500
TZOFFSETTO:-0400
TZNAME:EDT
DTSTART:20230312T070000
END:DAYLIGHT
BEGIN:STANDARD
TZOFFSETFROM:-0400
TZOFFSETTO:-0500
TZNAME:EST
DTSTART:20231105T060000
END:STANDARD
END:VTIMEZONE
BEGIN:VEVENT
DTSTART;TZID=America/New_York:20220415T100000
DTEND;TZID=America/New_York:20220415T110000
DTSTAMP:20260424T152425
CREATED:20220411T003453Z
LAST-MODIFIED:20220411T003453Z
UID:10000532-1650016800-1650020400@lake-sunapee-living.com
SUMMARY:Easter egg drop at Parlin Field
DESCRIPTION:NEWPORT RECREATION and PARLIN FIELD Easter egg drop \nAPRIL 15 @ 10AM PARLIN FIELD – CORBIN COVERED BRIDGE \nQuestions\, call 603.863.1332 \nEnjoy some springtime fun at Corbin Covered bridge as Parlin Field Pilots fly over and drop candy for the kids! Don’t forget your basket\, and to look for the Easter Bunny! \n\n\n	Related
URL:https://lake-sunapee-living.com/event/easter-egg-drop-at-parlin-field/
LOCATION:Parlin Field\, 14 Sunapee Street\, Newport\, NH\, 03773\, United States
CATEGORIES:Easter Egg Hunt
GEO:43.3652985;-72.1725549
X-APPLE-STRUCTURED-LOCATION;VALUE=URI;X-ADDRESS=Parlin Field 14 Sunapee Street Newport NH 03773 United States;X-APPLE-RADIUS=500;X-TITLE=14 Sunapee Street:geo:-72.1725549,43.3652985
END:VEVENT
BEGIN:VEVENT
DTSTART;TZID=America/New_York:20210626T100000
DTEND;TZID=America/New_York:20210626T130000
DTSTAMP:20260424T152425
CREATED:20210524T021227Z
LAST-MODIFIED:20210524T021353Z
UID:10000468-1624701600-1624712400@lake-sunapee-living.com
SUMMARY:Newport Car Show
DESCRIPTION:Formerly the Sunapee Lions Club Car Show at Mount Sunapee.\n \nThis event will now be hosted by the Newport Area Chamber of Commerce and Parlin Field at the Newport Airport. \nCost for cars/trucks entering:\n$20 pre-registration\, $25 day of:\nwww.eventbrite.com/e/newport-wings-wheels-car-show-tickets-155670339175\n \nCost for attendees:\n$5 per person\, under 12 free \nTrophy presentation is from 1:00 – 2:00. \n\n\n	Related
URL:https://lake-sunapee-living.com/event/newport-car-show/
LOCATION:Parlin Field\, 14 Sunapee Street\, Newport\, NH\, 03773\, United States
CATEGORIES:Car Show
GEO:43.3652985;-72.1725549
X-APPLE-STRUCTURED-LOCATION;VALUE=URI;X-ADDRESS=Parlin Field 14 Sunapee Street Newport NH 03773 United States;X-APPLE-RADIUS=500;X-TITLE=14 Sunapee Street:geo:-72.1725549,43.3652985
END:VEVENT
BEGIN:VEVENT
DTSTART;TZID=America/New_York:20210626T100000
DTEND;TZID=America/New_York:20210626T130000
DTSTAMP:20260424T152425
CREATED:20210416T003020Z
LAST-MODIFIED:20210416T003020Z
UID:10004007-1624701600-1624712400@lake-sunapee-living.com
SUMMARY:Newport Car Show at Parlin Field
DESCRIPTION:Formerly the Sunapee Lions Club Car Show at Mount Sunapee.  \nThis event will now be hosted by the Newport Area Chamber of Commerce and Parlin Field at the Newport Airport.  \nSame fun time but at a different location. \nCost for cars/trucks entering:\n$20 pre-registration\, $25 day of\nCost for attendees: $5 per person\, under 12 free \n\n\n	Related
URL:https://lake-sunapee-living.com/event/newport-car-show-at-parlin-field/
LOCATION:Parlin Field\, 14 Sunapee Street\, Newport\, NH\, 03773\, United States
CATEGORIES:Car Show
GEO:43.3652985;-72.1725549
X-APPLE-STRUCTURED-LOCATION;VALUE=URI;X-ADDRESS=Parlin Field 14 Sunapee Street Newport NH 03773 United States;X-APPLE-RADIUS=500;X-TITLE=14 Sunapee Street:geo:-72.1725549,43.3652985
END:VEVENT
BEGIN:VEVENT
DTSTART;TZID=America/New_York:20200912T180000
DTEND;TZID=America/New_York:20200912T210000
DTSTAMP:20260424T152425
CREATED:20200911T115859Z
LAST-MODIFIED:20200911T115929Z
UID:10003981-1599933600-1599944400@lake-sunapee-living.com
SUMMARY:Newport's Drive-In Fireworks!
DESCRIPTION:Hosted by Newport Area Chamber Of Commerce\, Noise “R” Us Fireworks and Parlin Field \nParlin Field and the Newport Area Chamber Of Commerce are pleased to announce that we are hosting the summer fireworks again this year! Due to COVID and to comply with CDC and State regulations\, it’s going to be a bit different this year\, but still fun!! \nThe New Hampshire Pyrotechnics Association will be shooting SATURDAY night from 5-9:30 pm. The gates will open at 6:00PM. All are welcome with a minimal charge of only $5 per car. Please keep in mind this is a drive-in fireworks display\, so please stay in or near your vehicle as much as possible.\nSaturday is open shooting from 5-9:30\, with a 20-minute “Class B” professional GRAND FINALE show at 9:00 to finish the evening out! \nWe will have food vendors there for you to purchase food\, but please be sure to wear your mask while getting your food.\nA BIG thank you to our sponsors: Noise “R” Us Fireworks\, Newport Chevy\, Sugar River Bank\, Pinnacle Sports\, LaValley Building Supply\, Patten’s Auto & Truck Works and Avery Insurance Agency. We greatly appreciate all the support to make this event happen\, especially this year. \nAgain\, to follow CDC and State regulations\, please wear your mask and practice social distancing when not near your car\, and especially when getting food or using the porta potties. Because this event will hold more than 100 people\, we are required to have everyone wearing a mask. \n**As a PSA\, Friday is informal open shooting from 5:00PM -10PM but will NOT be open to the public.** \n*****Please NO glass bottles***** \n***NO fireworks allowed\, let’s leave it up to the Pros 🙂 *** \n\n\n	Related
URL:https://lake-sunapee-living.com/event/newports-drive-in-fireworks/
LOCATION:Parlin Field\, 14 Sunapee Street\, Newport\, NH\, 03773\, United States
CATEGORIES:Fireworks
GEO:43.3652985;-72.1725549
X-APPLE-STRUCTURED-LOCATION;VALUE=URI;X-ADDRESS=Parlin Field 14 Sunapee Street Newport NH 03773 United States;X-APPLE-RADIUS=500;X-TITLE=14 Sunapee Street:geo:-72.1725549,43.3652985
END:VEVENT
BEGIN:VEVENT
DTSTART;TZID=America/New_York:20190518T170000
DTEND;TZID=America/New_York:20190518T220000
DTSTAMP:20260424T152425
CREATED:20190505T133612Z
LAST-MODIFIED:20190513T010527Z
UID:10003708-1558198800-1558216800@lake-sunapee-living.com
SUMMARY:Newport’s “Blast” into Summer Fireworks!
DESCRIPTION:FIREWORKS\, Food\, Fun\, Music and more FIREWORKS\, what more can you ask for?! \nParlin Field\, Newport Area Chamber Of Commerceand Noise “R” Us Fireworksare pleased to announce and sponsor the “BLAST” into Summer Fireworks. The New Hampshire Pyrotechnics Associationwill be shooting fireworks FRIDAY night from 5-10 pm AND SATURDAY night from 5-10 pm. All are welcome both nights! Friday is informal open shooting and Saturday is open shooting with a 20-minute “Class B” professional GRAND FINALE show to finish the evening out! \nOn Saturday\, we will have food vendors Farley’s Fries\, Kiwanis of Claremont NHand Dufort’s Bakerythere for you to purchase food and…a band! Noise “R” Us Fireworks is sponsoring the local band About Gladys\, who will play from 6:30-9:30. \nThis is an event you won’t want to miss. Come and go as you want or stay the whole time and enjoy the fireworks\, food and music. Bring a blanket or lawn chair and enjoy the show! Oh\, and did we mention this is a FREE event (donations will gladly be accepted to help cover the cost tho)!? Be sure to bring some $$ for food and drinks. *****Please NO glass bottles***** \nCome early in the day for the Prop Blast at Parlin Field for their open house and fly-in from 8-1! See airplanes from all over New England! Free airplane rides for kids ages 8-17. \n\n\n	Related
URL:https://lake-sunapee-living.com/event/newports-blast-into-summer-fireworks/
LOCATION:Parlin Field\, 14 Sunapee Street\, Newport\, NH\, 03773\, United States
CATEGORIES:Fireworks
GEO:43.3652985;-72.1725549
X-APPLE-STRUCTURED-LOCATION;VALUE=URI;X-ADDRESS=Parlin Field 14 Sunapee Street Newport NH 03773 United States;X-APPLE-RADIUS=500;X-TITLE=14 Sunapee Street:geo:-72.1725549,43.3652985
END:VEVENT
BEGIN:VEVENT
DTSTART;TZID=America/New_York:20190210T190000
DTEND;TZID=America/New_York:20190210T193000
DTSTAMP:20260424T152425
CREATED:20190123T024105Z
LAST-MODIFIED:20190123T024105Z
UID:10003690-1549825200-1549827000@lake-sunapee-living.com
SUMMARY:Newport Winter Carnival Fireworks
DESCRIPTION:Winter Carnival Fireworks are BACK! \nLet’s finish off a great Winter Carnival with some awesome fireworks donated by Noise “R” Us Fireworks\, sponsored by the Newport Area Chamber Of Commerce and hosted by Parlin Field(Newport Airport). Don’t worry about the cold\, you can enjoy them from your car.\nRain/Snow date will be the 17th at 7:00. \n\n\n	Related
URL:https://lake-sunapee-living.com/event/newport-winter-carnival-fireworks/
LOCATION:Parlin Field\, 14 Sunapee Street\, Newport\, NH\, 03773\, United States
CATEGORIES:Fireworks
GEO:43.3652985;-72.1725549
X-APPLE-STRUCTURED-LOCATION;VALUE=URI;X-ADDRESS=Parlin Field 14 Sunapee Street Newport NH 03773 United States;X-APPLE-RADIUS=500;X-TITLE=14 Sunapee Street:geo:-72.1725549,43.3652985
END:VEVENT
BEGIN:VEVENT
DTSTART;TZID=America/New_York:20180929T180000
DTEND;TZID=America/New_York:20180929T200000
DTSTAMP:20260424T152425
CREATED:20180920T233459Z
LAST-MODIFIED:20180920T233559Z
UID:10001626-1538244000-1538251200@lake-sunapee-living.com
SUMMARY:Movie Night at Parlin Field in Newport
DESCRIPTION:Movie night at Parlin Field in Newport \nThe Disney film Planes: Fire & Rescue features heroes that fly in when others fly out. \nBring a blanket and join us on the turf for an outdoor movie experience. \nA cardboard airplane building activity for the kids starts at 5:45 pm. \n\n\n	Related
URL:https://lake-sunapee-living.com/event/movie-night-at-parlin-field-in-newport/
LOCATION:Parlin Field\, 14 Sunapee Street\, Newport\, NH\, 03773\, United States
CATEGORIES:Free Outdoor Movie
GEO:43.3652985;-72.1725549
X-APPLE-STRUCTURED-LOCATION;VALUE=URI;X-ADDRESS=Parlin Field 14 Sunapee Street Newport NH 03773 United States;X-APPLE-RADIUS=500;X-TITLE=14 Sunapee Street:geo:-72.1725549,43.3652985
END:VEVENT
END:VCALENDAR