BEGIN:VCALENDAR
VERSION:2.0
PRODID:-//Lake Sunapee Living - ECPv6.15.13//NONSGML v1.0//EN
CALSCALE:GREGORIAN
METHOD:PUBLISH
X-WR-CALNAME:Lake Sunapee Living
X-ORIGINAL-URL:https://lake-sunapee-living.com
X-WR-CALDESC:Events for Lake Sunapee Living
REFRESH-INTERVAL;VALUE=DURATION:PT1H
X-Robots-Tag:noindex
X-PUBLISHED-TTL:PT1H
BEGIN:VTIMEZONE
TZID:America/New_York
BEGIN:DAYLIGHT
TZOFFSETFROM:-0500
TZOFFSETTO:-0400
TZNAME:EDT
DTSTART:20180311T070000
END:DAYLIGHT
BEGIN:STANDARD
TZOFFSETFROM:-0400
TZOFFSETTO:-0500
TZNAME:EST
DTSTART:20181104T060000
END:STANDARD
BEGIN:DAYLIGHT
TZOFFSETFROM:-0500
TZOFFSETTO:-0400
TZNAME:EDT
DTSTART:20190310T070000
END:DAYLIGHT
BEGIN:STANDARD
TZOFFSETFROM:-0400
TZOFFSETTO:-0500
TZNAME:EST
DTSTART:20191103T060000
END:STANDARD
BEGIN:DAYLIGHT
TZOFFSETFROM:-0500
TZOFFSETTO:-0400
TZNAME:EDT
DTSTART:20200308T070000
END:DAYLIGHT
BEGIN:STANDARD
TZOFFSETFROM:-0400
TZOFFSETTO:-0500
TZNAME:EST
DTSTART:20201101T060000
END:STANDARD
END:VTIMEZONE
BEGIN:VEVENT
DTSTART;TZID=America/New_York:20190511T100000
DTEND;TZID=America/New_York:20190511T120000
DTSTAMP:20260424T212214
CREATED:20190505T133230Z
LAST-MODIFIED:20190505T133230Z
UID:10003706-1557568800-1557576000@lake-sunapee-living.com
SUMMARY:Newport Sunshine 5k
DESCRIPTION:A local 5k event. Run/walk through the Historic Corbin Covered Bridge. A free kids 1k race\, and all kids under 14 free to race the 5k! Proceeds benefit Newport Recreation Scholarship fund. Kids race at 9:30\, 5K 10:00. \nOnline sign-ups at https://pinnaclestrive.com/index.php?n=newport_sunshine_5k_2019\nand paperwork is found at www.newportrec.com \n\n\n	Related
URL:https://lake-sunapee-living.com/event/newport-sunshine-5k/
LOCATION:Newport Recreation\, 65 Belknap Ave\, Newport\, NH\, 03773\, United States
CATEGORIES:Fun Run
GEO:43.3662095;-72.1785886
X-APPLE-STRUCTURED-LOCATION;VALUE=URI;X-ADDRESS=Newport Recreation 65 Belknap Ave Newport NH 03773 United States;X-APPLE-RADIUS=500;X-TITLE=65 Belknap Ave:geo:-72.1785886,43.3662095
END:VEVENT
END:VCALENDAR