BEGIN:VCALENDAR
VERSION:2.0
PRODID:-//Lake Sunapee Living - ECPv6.15.13//NONSGML v1.0//EN
CALSCALE:GREGORIAN
METHOD:PUBLISH
X-ORIGINAL-URL:https://lake-sunapee-living.com
X-WR-CALDESC:Events for Lake Sunapee Living
REFRESH-INTERVAL;VALUE=DURATION:PT1H
X-Robots-Tag:noindex
X-PUBLISHED-TTL:PT1H
BEGIN:VTIMEZONE
TZID:America/New_York
BEGIN:DAYLIGHT
TZOFFSETFROM:-0500
TZOFFSETTO:-0400
TZNAME:EDT
DTSTART:20230312T070000
END:DAYLIGHT
BEGIN:STANDARD
TZOFFSETFROM:-0400
TZOFFSETTO:-0500
TZNAME:EST
DTSTART:20231105T060000
END:STANDARD
BEGIN:DAYLIGHT
TZOFFSETFROM:-0500
TZOFFSETTO:-0400
TZNAME:EDT
DTSTART:20240310T070000
END:DAYLIGHT
BEGIN:STANDARD
TZOFFSETFROM:-0400
TZOFFSETTO:-0500
TZNAME:EST
DTSTART:20241103T060000
END:STANDARD
BEGIN:DAYLIGHT
TZOFFSETFROM:-0500
TZOFFSETTO:-0400
TZNAME:EDT
DTSTART:20250309T070000
END:DAYLIGHT
BEGIN:STANDARD
TZOFFSETFROM:-0400
TZOFFSETTO:-0500
TZNAME:EST
DTSTART:20251102T060000
END:STANDARD
END:VTIMEZONE
BEGIN:VEVENT
DTSTART;TZID=America/New_York:20241214T090000
DTEND;TZID=America/New_York:20241214T140000
DTSTAMP:20260425T095857
CREATED:20241119T010008Z
LAST-MODIFIED:20241119T010238Z
UID:10004351-1734166800-1734184800@lake-sunapee-living.com
SUMMARY:Holiday Craft Fair Bazaar at the Newport High School
DESCRIPTION:Newport High School – 245 N. Main St. Newport\, NH \nPlease join us for a traditional New England craft fair. Come see what our local artisans and vendors have to offer! \n\n\n	Related
URL:https://lake-sunapee-living.com/event/holiday-craft-fair-bazaar-at-the-newport-high-school/
LOCATION:Newport High School\, North Main Street 245\, Newport\, NH\, 03773\, United States
CATEGORIES:Crafts
GEO:43.3751621;-72.1779897
X-APPLE-STRUCTURED-LOCATION;VALUE=URI;X-ADDRESS=Newport High School North Main Street 245 Newport NH 03773 United States;X-APPLE-RADIUS=500;X-TITLE=North Main Street 245:geo:-72.1779897,43.3751621
END:VEVENT
END:VCALENDAR