BEGIN:VCALENDAR
VERSION:2.0
PRODID:-//Lake Sunapee Living - ECPv6.15.13//NONSGML v1.0//EN
CALSCALE:GREGORIAN
METHOD:PUBLISH
X-ORIGINAL-URL:https://lake-sunapee-living.com
X-WR-CALDESC:Events for Lake Sunapee Living
REFRESH-INTERVAL;VALUE=DURATION:PT1H
X-Robots-Tag:noindex
X-PUBLISHED-TTL:PT1H
BEGIN:VTIMEZONE
TZID:America/New_York
BEGIN:DAYLIGHT
TZOFFSETFROM:-0500
TZOFFSETTO:-0400
TZNAME:EDT
DTSTART:20180311T070000
END:DAYLIGHT
BEGIN:STANDARD
TZOFFSETFROM:-0400
TZOFFSETTO:-0500
TZNAME:EST
DTSTART:20181104T060000
END:STANDARD
BEGIN:DAYLIGHT
TZOFFSETFROM:-0500
TZOFFSETTO:-0400
TZNAME:EDT
DTSTART:20190310T070000
END:DAYLIGHT
BEGIN:STANDARD
TZOFFSETFROM:-0400
TZOFFSETTO:-0500
TZNAME:EST
DTSTART:20191103T060000
END:STANDARD
BEGIN:DAYLIGHT
TZOFFSETFROM:-0500
TZOFFSETTO:-0400
TZNAME:EDT
DTSTART:20200308T070000
END:DAYLIGHT
BEGIN:STANDARD
TZOFFSETFROM:-0400
TZOFFSETTO:-0500
TZNAME:EST
DTSTART:20201101T060000
END:STANDARD
END:VTIMEZONE
BEGIN:VEVENT
DTSTART;TZID=America/New_York:20190622T100000
DTEND;TZID=America/New_York:20190622T150000
DTSTAMP:20260424T190655
CREATED:20190513T004854Z
LAST-MODIFIED:20190513T004943Z
UID:10000264-1561197600-1561215600@lake-sunapee-living.com
SUMMARY:5th Annual Strawberry Festival
DESCRIPTION:Come experience the 5th annual New London Strawberry festival\, New London\, NH. \nHighlighting local strawberries from Spring Ledge farm\, over 80 vendors\, live music and fun for the whole family. \n** Vendors – register by Dec 31st and get a 12×12 space for $25. \nwww.nlrec.com \n\n\n	Related
URL:https://lake-sunapee-living.com/event/5th-annual-strawberry-festival/
LOCATION:New London Recreation Dept\, 375 Main St\, New London\, NH\, 03257\, United States
CATEGORIES:Food Festival
GEO:43.4400907;-72.024331
X-APPLE-STRUCTURED-LOCATION;VALUE=URI;X-ADDRESS=New London Recreation Dept 375 Main St New London NH 03257 United States;X-APPLE-RADIUS=500;X-TITLE=375 Main St:geo:-72.024331,43.4400907
END:VEVENT
END:VCALENDAR