BEGIN:VCALENDAR
VERSION:2.0
PRODID:-//Lake Sunapee Living - ECPv6.15.13//NONSGML v1.0//EN
CALSCALE:GREGORIAN
METHOD:PUBLISH
X-ORIGINAL-URL:https://lake-sunapee-living.com
X-WR-CALDESC:Events for Lake Sunapee Living
REFRESH-INTERVAL;VALUE=DURATION:PT1H
X-Robots-Tag:noindex
X-PUBLISHED-TTL:PT1H
BEGIN:VTIMEZONE
TZID:America/New_York
BEGIN:DAYLIGHT
TZOFFSETFROM:-0500
TZOFFSETTO:-0400
TZNAME:EDT
DTSTART:20160313T070000
END:DAYLIGHT
BEGIN:STANDARD
TZOFFSETFROM:-0400
TZOFFSETTO:-0500
TZNAME:EST
DTSTART:20161106T060000
END:STANDARD
BEGIN:DAYLIGHT
TZOFFSETFROM:-0500
TZOFFSETTO:-0400
TZNAME:EDT
DTSTART:20170312T070000
END:DAYLIGHT
BEGIN:STANDARD
TZOFFSETFROM:-0400
TZOFFSETTO:-0500
TZNAME:EST
DTSTART:20171105T060000
END:STANDARD
BEGIN:DAYLIGHT
TZOFFSETFROM:-0500
TZOFFSETTO:-0400
TZNAME:EDT
DTSTART:20180311T070000
END:DAYLIGHT
BEGIN:STANDARD
TZOFFSETFROM:-0400
TZOFFSETTO:-0500
TZNAME:EST
DTSTART:20181104T060000
END:STANDARD
BEGIN:DAYLIGHT
TZOFFSETFROM:-0500
TZOFFSETTO:-0400
TZNAME:EDT
DTSTART:20190310T070000
END:DAYLIGHT
BEGIN:STANDARD
TZOFFSETFROM:-0400
TZOFFSETTO:-0500
TZNAME:EST
DTSTART:20191103T060000
END:STANDARD
BEGIN:DAYLIGHT
TZOFFSETFROM:-0500
TZOFFSETTO:-0400
TZNAME:EDT
DTSTART:20200308T070000
END:DAYLIGHT
BEGIN:STANDARD
TZOFFSETFROM:-0400
TZOFFSETTO:-0500
TZNAME:EST
DTSTART:20201101T060000
END:STANDARD
BEGIN:DAYLIGHT
TZOFFSETFROM:-0500
TZOFFSETTO:-0400
TZNAME:EDT
DTSTART:20210314T070000
END:DAYLIGHT
BEGIN:STANDARD
TZOFFSETFROM:-0400
TZOFFSETTO:-0500
TZNAME:EST
DTSTART:20211107T060000
END:STANDARD
BEGIN:DAYLIGHT
TZOFFSETFROM:-0500
TZOFFSETTO:-0400
TZNAME:EDT
DTSTART:20220313T070000
END:DAYLIGHT
BEGIN:STANDARD
TZOFFSETFROM:-0400
TZOFFSETTO:-0500
TZNAME:EST
DTSTART:20221106T060000
END:STANDARD
BEGIN:DAYLIGHT
TZOFFSETFROM:-0500
TZOFFSETTO:-0400
TZNAME:EDT
DTSTART:20230312T070000
END:DAYLIGHT
BEGIN:STANDARD
TZOFFSETFROM:-0400
TZOFFSETTO:-0500
TZNAME:EST
DTSTART:20231105T060000
END:STANDARD
END:VTIMEZONE
BEGIN:VEVENT
DTSTART;TZID=America/New_York:20220621T173000
DTEND;TZID=America/New_York:20220621T190000
DTSTAMP:20260425T062118
CREATED:20220423T132937Z
LAST-MODIFIED:20220423T132937Z
UID:10004115-1655832600-1655838000@lake-sunapee-living.com
SUMMARY:Tapestry Tuesdays at the New London Inn - Kevin Gardner “Discovering New England Stone Walls”
DESCRIPTION:Why are we so fascinated with stone walls? Kevin Gardner\, author of The Granite Kiss\, explains how and why New England came to acquire its thousands of miles of stone walls\, the ways in which they and other dry stone structures were built\, how their styles emerged and changed over time and their significance to the famous New England landscape. Along the way\, Kevin occupies himself building a miniature wall or walls on a tabletop\, using tiny stones from a five-gallon bucket . \nKevin Gardner is a writer\, teacher\, tradesman\, and a lifelong resident of Hopkinton\, NH. He has been a stone wall builder for forty years\, and is the author of The Granite Kiss: Traditions and Techniques of Building New England Stone Walls\, as well as poetry\, songs\, and essays. \nSpace is limited \nPlease contact us for reservations! info@centerfortheartsnh.org \n\n\n	Related
URL:https://lake-sunapee-living.com/event/tapestry-tuesdays-at-the-new-london-inn-kevin-gardner-discovering-new-england-stone-walls/
LOCATION:New London Barn Playhouse\, 84 Main St\, New London\, NH\, 03257\, United States
CATEGORIES:Lecture
GEO:43.418717;-71.9912111
X-APPLE-STRUCTURED-LOCATION;VALUE=URI;X-ADDRESS=New London Barn Playhouse 84 Main St New London NH 03257 United States;X-APPLE-RADIUS=500;X-TITLE=84 Main St:geo:-71.9912111,43.418717
END:VEVENT
BEGIN:VEVENT
DTSTART;TZID=America/New_York:20200605T170000
DTEND;TZID=America/New_York:20200605T190000
DTSTAMP:20260425T062118
CREATED:20200104T134544Z
LAST-MODIFIED:20200104T134544Z
UID:10003861-1591376400-1591383600@lake-sunapee-living.com
SUMMARY:First Fridays! New London Barn Playhouse Open Rehearsal
DESCRIPTION:First Fridays! New London Barn Playhouse Open Rehearsal  \nFREE \nJoin the Barnies and the Artistic Director for a behind the scenes look at their upcoming show. \nQ&A and Reception to follow @ the Barn Playhouse. \nhttps://centerfortheartsnh.org/first-fridays \n\n\n	Related
URL:https://lake-sunapee-living.com/event/first-fridays-new-london-barn-playhouse-open-rehearsal-2/
LOCATION:New London Barn Playhouse\, 84 Main St\, New London\, NH\, 03257\, United States
CATEGORIES:Theater
GEO:43.418717;-71.9912111
X-APPLE-STRUCTURED-LOCATION;VALUE=URI;X-ADDRESS=New London Barn Playhouse 84 Main St New London NH 03257 United States;X-APPLE-RADIUS=500;X-TITLE=84 Main St:geo:-71.9912111,43.418717
END:VEVENT
BEGIN:VEVENT
DTSTART;TZID=America/New_York:20190607T170000
DTEND;TZID=America/New_York:20190607T190000
DTSTAMP:20260425T062118
CREATED:20181118T141832Z
LAST-MODIFIED:20181118T142746Z
UID:10000229-1559926800-1559934000@lake-sunapee-living.com
SUMMARY:First Fridays! New London Barn Playhouse Open Rehearsal
DESCRIPTION:First Fridays! New London Barn Playhouse Open Rehearsal  \nFREE \nJoin the Barnies and the Artistic Director for a behind the scenes look at their upcoming show. \nQ&A and Reception to follow @ the Barn Playhouse \nwww.CenterForTheArtsNH.org \n\n\n	Related
URL:https://lake-sunapee-living.com/event/first-fridays-new-london-barn-playhouse-open-rehearsal/
LOCATION:New London Barn Playhouse\, 84 Main St\, New London\, NH\, 03257\, United States
CATEGORIES:Live Theater
GEO:43.418717;-71.9912111
X-APPLE-STRUCTURED-LOCATION;VALUE=URI;X-ADDRESS=New London Barn Playhouse 84 Main St New London NH 03257 United States;X-APPLE-RADIUS=500;X-TITLE=84 Main St:geo:-71.9912111,43.418717
END:VEVENT
BEGIN:VEVENT
DTSTART;TZID=America/New_York:20170602T170000
DTEND;TZID=America/New_York:20170602T190000
DTSTAMP:20260425T062118
CREATED:20170521T215438Z
LAST-MODIFIED:20170521T215449Z
UID:10000033-1496422800-1496430000@lake-sunapee-living.com
SUMMARY:First Fridays! New London Barn presents!
DESCRIPTION:Open Rehearsal and Reception at the New London Barn Playhouse \n\n\n	Related
URL:https://lake-sunapee-living.com/event/first-fridays-new-london-barn-presents/
LOCATION:New London Barn Playhouse\, 84 Main St\, New London\, NH\, 03257\, United States
GEO:43.418717;-71.9912111
X-APPLE-STRUCTURED-LOCATION;VALUE=URI;X-ADDRESS=New London Barn Playhouse 84 Main St New London NH 03257 United States;X-APPLE-RADIUS=500;X-TITLE=84 Main St:geo:-71.9912111,43.418717
END:VEVENT
END:VCALENDAR