BEGIN:VCALENDAR
VERSION:2.0
PRODID:-//Lake Sunapee Living - ECPv6.15.13//NONSGML v1.0//EN
CALSCALE:GREGORIAN
METHOD:PUBLISH
X-ORIGINAL-URL:https://lake-sunapee-living.com
X-WR-CALDESC:Events for Lake Sunapee Living
REFRESH-INTERVAL;VALUE=DURATION:PT1H
X-Robots-Tag:noindex
X-PUBLISHED-TTL:PT1H
BEGIN:VTIMEZONE
TZID:America/New_York
BEGIN:DAYLIGHT
TZOFFSETFROM:-0500
TZOFFSETTO:-0400
TZNAME:EDT
DTSTART:20180311T070000
END:DAYLIGHT
BEGIN:STANDARD
TZOFFSETFROM:-0400
TZOFFSETTO:-0500
TZNAME:EST
DTSTART:20181104T060000
END:STANDARD
BEGIN:DAYLIGHT
TZOFFSETFROM:-0500
TZOFFSETTO:-0400
TZNAME:EDT
DTSTART:20190310T070000
END:DAYLIGHT
BEGIN:STANDARD
TZOFFSETFROM:-0400
TZOFFSETTO:-0500
TZNAME:EST
DTSTART:20191103T060000
END:STANDARD
BEGIN:DAYLIGHT
TZOFFSETFROM:-0500
TZOFFSETTO:-0400
TZNAME:EDT
DTSTART:20200308T070000
END:DAYLIGHT
BEGIN:STANDARD
TZOFFSETFROM:-0400
TZOFFSETTO:-0500
TZNAME:EST
DTSTART:20201101T060000
END:STANDARD
END:VTIMEZONE
BEGIN:VEVENT
DTSTART;VALUE=DATE:20191011
DTEND;VALUE=DATE:20191014
DTSTAMP:20260424T175251
CREATED:20191006T230023Z
LAST-MODIFIED:20191006T230023Z
UID:10003848-1570752000-1571011199@lake-sunapee-living.com
SUMMARY:72nd Warner Fall Foliage Festival
DESCRIPTION:Join us Oct 11-13 for the 72nd Annual Warner Fall Foliage Festival in Downtown Warner\, NH \nCome celebrate rural life and vibrant foliage at our free\, family-oriented community festival in the village of Warner\, NH. Three days of events include a full lineup of open-air concerts\, 2 parades\, a 5K road race\, kids’ fun run and dance party\, oxen and woodsmen’s contests\, fresh lobster and chicken BBQ\, amusement rides\, street performers\, and a host of artisans\, farmer’s market\, and food vendors. \nVisit wfff.org for more information \n\n\n	Related
URL:https://lake-sunapee-living.com/event/72nd-warner-fall-foliage-festival/
LOCATION:MainStreet Warner Stage\, 16 E Main St\, Warner\, NH\, 03278\, United States
CATEGORIES:Fall Festival
GEO:43.2803256;-71.815822
X-APPLE-STRUCTURED-LOCATION;VALUE=URI;X-ADDRESS=MainStreet Warner Stage 16 E Main St Warner NH 03278 United States;X-APPLE-RADIUS=500;X-TITLE=16 E Main St:geo:-71.815822,43.2803256
END:VEVENT
BEGIN:VEVENT
DTSTART;TZID=America/New_York:20190928T180000
DTEND;TZID=America/New_York:20190928T210000
DTSTAMP:20260424T175251
CREATED:20190917T031311Z
LAST-MODIFIED:20190917T031311Z
UID:10003844-1569693600-1569704400@lake-sunapee-living.com
SUMMARY:The Luggnuts at the MainStreet Warner Stage
DESCRIPTION:The final show of the season at the MainStreet Warner Stage features the Luggnuts with special guests Enormous Dave & Friends. \nThey return to The MainStreet Warner Stage on Saturday\, September 28th. \nEnormous Dave & Friends open at 6:00\, The Luggnuts kick off around 7:00. \nfacebook.com/luggnutsnh \n\n\n	Related
URL:https://lake-sunapee-living.com/event/the-luggnuts-at-the-mainstreet-warner-stage/
LOCATION:MainStreet Warner Stage\, 16 E Main St\, Warner\, NH\, 03278\, United States
CATEGORIES:Free Outdoor Concert
GEO:43.2803256;-71.815822
X-APPLE-STRUCTURED-LOCATION;VALUE=URI;X-ADDRESS=MainStreet Warner Stage 16 E Main St Warner NH 03278 United States;X-APPLE-RADIUS=500;X-TITLE=16 E Main St:geo:-71.815822,43.2803256
END:VEVENT
BEGIN:VEVENT
DTSTART;TZID=America/New_York:20190712T180000
DTEND;TZID=America/New_York:20190712T210000
DTSTAMP:20260424T175251
CREATED:20190513T010215Z
LAST-MODIFIED:20190513T010215Z
UID:10003713-1562954400-1562965200@lake-sunapee-living.com
SUMMARY:Mink Hills Band at The MainStreet Warner Stage
DESCRIPTION:The Mink Hills Band is a New Hampshire based acoustic band\nwhose selection of music includes Bluegrass\, Swing\, Folk\, and Original compositions. The stylistic range of material provides for an interesting and varied musical experience. \nTaking their name from the beautiful and remote Mink Hills of the Sunapee region\, the group has been playing throughout northern New England for over twenty years. They have appeared at the Portsmouth NH Folk Festival\, League of NH Craftsman fair\, as well as many Summer concert series. \nThe group composed and played music for the documentary movie – Gordon Manning: the Sawyer of Sutton Mills and they have recently released their new CD\, “Weary Travelers Plea” that features many originals \n\n\n	Related
URL:https://lake-sunapee-living.com/event/mink-hills-band-at-the-mainstreet-warner-stage/
LOCATION:MainStreet Warner Stage\, 16 E Main St\, Warner\, NH\, 03278\, United States
CATEGORIES:Live Music
GEO:43.2803256;-71.815822
X-APPLE-STRUCTURED-LOCATION;VALUE=URI;X-ADDRESS=MainStreet Warner Stage 16 E Main St Warner NH 03278 United States;X-APPLE-RADIUS=500;X-TITLE=16 E Main St:geo:-71.815822,43.2803256
END:VEVENT
BEGIN:VEVENT
DTSTART;TZID=America/New_York:20190601T170000
DTEND;TZID=America/New_York:20190601T200000
DTSTAMP:20260424T175251
CREATED:20190505T134445Z
LAST-MODIFIED:20190505T134445Z
UID:10000272-1559408400-1559419200@lake-sunapee-living.com
SUMMARY:Live Music: Summer Kickoff Blockparty at the The MainStreet Warner Stage
DESCRIPTION:Join The DoBros and Senie Hunt in launching the 2019 season at this fine\, fine venue! \nhttps://www.facebook.com/MainStreetWarner \n\n\n	Related
URL:https://lake-sunapee-living.com/event/live-music-summer-kickoff-blockparty-at-the-the-mainstreet-warner-stage/
LOCATION:MainStreet Warner Stage\, 16 E Main St\, Warner\, NH\, 03278\, United States
CATEGORIES:Live Music
GEO:43.2803256;-71.815822
X-APPLE-STRUCTURED-LOCATION;VALUE=URI;X-ADDRESS=MainStreet Warner Stage 16 E Main St Warner NH 03278 United States;X-APPLE-RADIUS=500;X-TITLE=16 E Main St:geo:-71.815822,43.2803256
END:VEVENT
END:VCALENDAR