BEGIN:VCALENDAR
VERSION:2.0
PRODID:-//Lake Sunapee Living - ECPv6.15.13//NONSGML v1.0//EN
CALSCALE:GREGORIAN
METHOD:PUBLISH
X-ORIGINAL-URL:https://lake-sunapee-living.com
X-WR-CALDESC:Events for Lake Sunapee Living
REFRESH-INTERVAL;VALUE=DURATION:PT1H
X-Robots-Tag:noindex
X-PUBLISHED-TTL:PT1H
BEGIN:VTIMEZONE
TZID:America/New_York
BEGIN:DAYLIGHT
TZOFFSETFROM:-0500
TZOFFSETTO:-0400
TZNAME:EDT
DTSTART:20170312T070000
END:DAYLIGHT
BEGIN:STANDARD
TZOFFSETFROM:-0400
TZOFFSETTO:-0500
TZNAME:EST
DTSTART:20171105T060000
END:STANDARD
BEGIN:DAYLIGHT
TZOFFSETFROM:-0500
TZOFFSETTO:-0400
TZNAME:EDT
DTSTART:20180311T070000
END:DAYLIGHT
BEGIN:STANDARD
TZOFFSETFROM:-0400
TZOFFSETTO:-0500
TZNAME:EST
DTSTART:20181104T060000
END:STANDARD
BEGIN:DAYLIGHT
TZOFFSETFROM:-0500
TZOFFSETTO:-0400
TZNAME:EDT
DTSTART:20190310T070000
END:DAYLIGHT
BEGIN:STANDARD
TZOFFSETFROM:-0400
TZOFFSETTO:-0500
TZNAME:EST
DTSTART:20191103T060000
END:STANDARD
END:VTIMEZONE
BEGIN:VEVENT
DTSTART;TZID=America/New_York:20180721T110000
DTEND;TZID=America/New_York:20180721T140000
DTSTAMP:20260424T162636
CREATED:20180713T142938Z
LAST-MODIFIED:20180713T143111Z
UID:10000610-1532170800-1532181600@lake-sunapee-living.com
SUMMARY:Block Party: MJ Harrington & Co. 70th birthday
DESCRIPTION:MJ Harrington & Co. is partying and YOU’RE INVITED!! \n It’s our 70th birthday! 1948 – 2018  \nWhere: In the pocket park next to our building \nWhen: Saturday\, July 21 11:00am-2:00pm \nFREE hot dogs\, chips\, soda & ice cream \nWhat Else? Drawings for nifty stuff\, live music & the kick-off of our ANNUAL ESTATE SALE \n\n\n	Related
URL:https://lake-sunapee-living.com/event/block-party-mj-harrington-co-70th-birthday/
LOCATION:MJ Harrington & Co.\, 35 Main Street\, Newport\, NH\, 03773\, United States
CATEGORIES:Block Party
ATTACH;FMTTYPE=image/jpeg:https://lake-sunapee-living.com/wp-content/uploads/2018/07/harringtons-70th-birthday-balloons.jpg
GEO:43.3639443;-72.1731282
X-APPLE-STRUCTURED-LOCATION;VALUE=URI;X-ADDRESS=MJ Harrington & Co. 35 Main Street Newport NH 03773 United States;X-APPLE-RADIUS=500;X-TITLE=35 Main Street:geo:-72.1731282,43.3639443
END:VEVENT
END:VCALENDAR