BEGIN:VCALENDAR
VERSION:2.0
PRODID:-//Lake Sunapee Living - ECPv6.15.13//NONSGML v1.0//EN
CALSCALE:GREGORIAN
METHOD:PUBLISH
X-WR-CALNAME:Lake Sunapee Living
X-ORIGINAL-URL:https://lake-sunapee-living.com
X-WR-CALDESC:Events for Lake Sunapee Living
REFRESH-INTERVAL;VALUE=DURATION:PT1H
X-Robots-Tag:noindex
X-PUBLISHED-TTL:PT1H
BEGIN:VTIMEZONE
TZID:America/New_York
BEGIN:DAYLIGHT
TZOFFSETFROM:-0500
TZOFFSETTO:-0400
TZNAME:EDT
DTSTART:20180311T070000
END:DAYLIGHT
BEGIN:STANDARD
TZOFFSETFROM:-0400
TZOFFSETTO:-0500
TZNAME:EST
DTSTART:20181104T060000
END:STANDARD
BEGIN:DAYLIGHT
TZOFFSETFROM:-0500
TZOFFSETTO:-0400
TZNAME:EDT
DTSTART:20190310T070000
END:DAYLIGHT
BEGIN:STANDARD
TZOFFSETFROM:-0400
TZOFFSETTO:-0500
TZNAME:EST
DTSTART:20191103T060000
END:STANDARD
BEGIN:DAYLIGHT
TZOFFSETFROM:-0500
TZOFFSETTO:-0400
TZNAME:EDT
DTSTART:20200308T070000
END:DAYLIGHT
BEGIN:STANDARD
TZOFFSETFROM:-0400
TZOFFSETTO:-0500
TZNAME:EST
DTSTART:20201101T060000
END:STANDARD
END:VTIMEZONE
BEGIN:VEVENT
DTSTART;TZID=America/New_York:20190523T170000
DTEND;TZID=America/New_York:20190523T190000
DTSTAMP:20260425T082311
CREATED:20190505T134008Z
LAST-MODIFIED:20190505T134202Z
UID:10000271-1558630800-1558638000@lake-sunapee-living.com
SUMMARY:Lake Sunapee CoC: Business After Hours at The Lumber Barn
DESCRIPTION:Lake Sunapee CoC May Business After Hours event is hosted by the fine folks at The Lumber Barn in Bradford\, NH! \nThey have some wonderful plans in the works for our Chamber members and guests! \nWe are working with the Kearsarge Area Chamber of Commerce to make this event possible. \nOur May BAH is FREE for current LSRCC members and only $5.00 for those not yet benefiting from LSRCC membership. \nOrder Tickets \n\n\n	Related
URL:https://lake-sunapee-living.com/event/lake-sunapee-coc-business-after-hours-at-the-lumber-barn/
LOCATION:Lumber Barn\, 2460 State Route 114\, Bradford\, NH\, 03221\, United States
CATEGORIES:Business Networking
GEO:43.2566083;-71.933412
X-APPLE-STRUCTURED-LOCATION;VALUE=URI;X-ADDRESS=Lumber Barn 2460 State Route 114 Bradford NH 03221 United States;X-APPLE-RADIUS=500;X-TITLE=2460 State Route 114:geo:-71.933412,43.2566083
END:VEVENT
END:VCALENDAR