BEGIN:VCALENDAR
VERSION:2.0
PRODID:-//Lake Sunapee Living - ECPv6.15.13//NONSGML v1.0//EN
CALSCALE:GREGORIAN
METHOD:PUBLISH
X-WR-CALNAME:Lake Sunapee Living
X-ORIGINAL-URL:https://lake-sunapee-living.com
X-WR-CALDESC:Events for Lake Sunapee Living
REFRESH-INTERVAL;VALUE=DURATION:PT1H
X-Robots-Tag:noindex
X-PUBLISHED-TTL:PT1H
BEGIN:VTIMEZONE
TZID:America/New_York
BEGIN:DAYLIGHT
TZOFFSETFROM:-0500
TZOFFSETTO:-0400
TZNAME:EDT
DTSTART:20230312T070000
END:DAYLIGHT
BEGIN:STANDARD
TZOFFSETFROM:-0400
TZOFFSETTO:-0500
TZNAME:EST
DTSTART:20231105T060000
END:STANDARD
BEGIN:DAYLIGHT
TZOFFSETFROM:-0500
TZOFFSETTO:-0400
TZNAME:EDT
DTSTART:20240310T070000
END:DAYLIGHT
BEGIN:STANDARD
TZOFFSETFROM:-0400
TZOFFSETTO:-0500
TZNAME:EST
DTSTART:20241103T060000
END:STANDARD
BEGIN:DAYLIGHT
TZOFFSETFROM:-0500
TZOFFSETTO:-0400
TZNAME:EDT
DTSTART:20250309T070000
END:DAYLIGHT
BEGIN:STANDARD
TZOFFSETFROM:-0400
TZOFFSETTO:-0500
TZNAME:EST
DTSTART:20251102T060000
END:STANDARD
END:VTIMEZONE
BEGIN:VEVENT
DTSTART;TZID=America/New_York:20240917T173000
DTEND;TZID=America/New_York:20240917T190000
DTSTAMP:20260424T175323
CREATED:20240727T154419Z
LAST-MODIFIED:20240728T202635Z
UID:10004342-1726594200-1726599600@lake-sunapee-living.com
SUMMARY:LSPA Summer Programs: Full Moon Cruise
DESCRIPTION:Join LSPA for an excursion under the light of the full moon. Refreshments will be served during this annual fundraiser for LSPA’s education programs. \n\n\n	Related
URL:https://lake-sunapee-living.com/event/lspa-summer-programs-full-moon-cruise/
LOCATION:Lake Sunapee\, New Hampshire\, United States
CATEGORIES:LSPA Summer Programs
GEO:43.380244;-72.0527421
END:VEVENT
BEGIN:VEVENT
DTSTART;TZID=America/New_York:20240806T040000
DTEND;TZID=America/New_York:20240806T180000
DTSTAMP:20260424T175323
CREATED:20240726T114002Z
LAST-MODIFIED:20240728T201425Z
UID:10004317-1722916800-1722967200@lake-sunapee-living.com
SUMMARY:LSPA Program: Discover Sunapee with a Natural History Cruise
DESCRIPTION:Take a cruise with the LSPA education staff on gorgeous Lake Sunapee\, or as the Abenaki named\, Seninebi\, meaning rock or mountain water. While enjoying the natural beauty of Lake Sunapee\, you will learn about the lake’s origins and the plants and animals that now call the watershed home. Specimens and interactive activities will enhance your experience. This program is designed for adults and families with older children. \n\n\n	Related
URL:https://lake-sunapee-living.com/event/lspa-program-discover-sunapee-with-a-natural-history-cruise/
LOCATION:Lake Sunapee\, New Hampshire\, United States
CATEGORIES:History Cruise
GEO:43.380244;-72.0527421
END:VEVENT
BEGIN:VEVENT
DTSTART;TZID=America/New_York:20240730T190000
DTEND;TZID=America/New_York:20240730T203000
DTSTAMP:20260424T175323
CREATED:20240727T131018Z
LAST-MODIFIED:20240728T200921Z
UID:10004327-1722366000-1722371400@lake-sunapee-living.com
SUMMARY:LSPA Program: Historic Summer Cottage
DESCRIPTION:Join Nancy Dutton and Midge Eliassen as they present historic photos and narrate the history of early Lake Sunapee cottages and their families. This program especially highlights those residents who have been engaged with LSPA\, starting in the 1890s. \n\n\n	Related
URL:https://lake-sunapee-living.com/event/lspa-program-historic-summer-cottage/
LOCATION:Lake Sunapee\, New Hampshire\, United States
CATEGORIES:LSPA Summer Programs
GEO:43.380244;-72.0527421
END:VEVENT
BEGIN:VEVENT
DTSTART;TZID=America/New_York:20240725T190000
DTEND;TZID=America/New_York:20240725T203000
DTSTAMP:20260424T175323
CREATED:20240727T124243Z
LAST-MODIFIED:20240727T124243Z
UID:10004324-1721934000-1721939400@lake-sunapee-living.com
SUMMARY:Sunapee Historical Society Program: Sailing on Lake Sunapee
DESCRIPTION:A World-Class Venue for Pleasure and Competitive Sailing John Dietel will review the history of sailing on our Lake from simple early crafts to Olympic-level one-design class fleets. \n\n\n	Related
URL:https://lake-sunapee-living.com/event/sunapee-historical-society-program-sailing-on-lake-sunapee/
LOCATION:Lake Sunapee\, New Hampshire\, United States
CATEGORIES:Sailing Day
ORGANIZER;CN="Louis Bradbard":MAILTO:lbradbard@mac.com
GEO:43.380244;-72.0527421
END:VEVENT
END:VCALENDAR