BEGIN:VCALENDAR
VERSION:2.0
PRODID:-//Lake Sunapee Living - ECPv6.15.13//NONSGML v1.0//EN
CALSCALE:GREGORIAN
METHOD:PUBLISH
X-WR-CALNAME:Lake Sunapee Living
X-ORIGINAL-URL:https://lake-sunapee-living.com
X-WR-CALDESC:Events for Lake Sunapee Living
REFRESH-INTERVAL;VALUE=DURATION:PT1H
X-Robots-Tag:noindex
X-PUBLISHED-TTL:PT1H
BEGIN:VTIMEZONE
TZID:America/New_York
BEGIN:DAYLIGHT
TZOFFSETFROM:-0500
TZOFFSETTO:-0400
TZNAME:EDT
DTSTART:20170312T070000
END:DAYLIGHT
BEGIN:STANDARD
TZOFFSETFROM:-0400
TZOFFSETTO:-0500
TZNAME:EST
DTSTART:20171105T060000
END:STANDARD
BEGIN:DAYLIGHT
TZOFFSETFROM:-0500
TZOFFSETTO:-0400
TZNAME:EDT
DTSTART:20180311T070000
END:DAYLIGHT
BEGIN:STANDARD
TZOFFSETFROM:-0400
TZOFFSETTO:-0500
TZNAME:EST
DTSTART:20181104T060000
END:STANDARD
BEGIN:DAYLIGHT
TZOFFSETFROM:-0500
TZOFFSETTO:-0400
TZNAME:EDT
DTSTART:20190310T070000
END:DAYLIGHT
BEGIN:STANDARD
TZOFFSETFROM:-0400
TZOFFSETTO:-0500
TZNAME:EST
DTSTART:20191103T060000
END:STANDARD
BEGIN:DAYLIGHT
TZOFFSETFROM:-0500
TZOFFSETTO:-0400
TZNAME:EDT
DTSTART:20200308T070000
END:DAYLIGHT
BEGIN:STANDARD
TZOFFSETFROM:-0400
TZOFFSETTO:-0500
TZNAME:EST
DTSTART:20201101T060000
END:STANDARD
BEGIN:DAYLIGHT
TZOFFSETFROM:-0500
TZOFFSETTO:-0400
TZNAME:EDT
DTSTART:20210314T070000
END:DAYLIGHT
BEGIN:STANDARD
TZOFFSETFROM:-0400
TZOFFSETTO:-0500
TZNAME:EST
DTSTART:20211107T060000
END:STANDARD
END:VTIMEZONE
BEGIN:VEVENT
DTSTART;TZID=America/New_York:20201107T190000
DTEND;TZID=America/New_York:20201107T203000
DTSTAMP:20260424T221847
CREATED:20200111T164937Z
LAST-MODIFIED:20200111T164937Z
UID:10003871-1604775600-1604781000@lake-sunapee-living.com
SUMMARY:An Evening of Opera at the Kearsarge Community Presbyterian Church New London
DESCRIPTION:An Evening of Opera \nWith renowned Tenor Peter Furlong and Julie Wyma at Kearsarge Community Presbyterian Church New London \nTickets at Tatewell Gallery\, Morgan Hill Bookstore and online https://centerfortheartsnh.org/performing-arts-series \n\n\n	Related
URL:https://lake-sunapee-living.com/event/an-evening-of-opera-at-the-kearsarge-community-presbyterian-church-new-london/
LOCATION:Kearsarge Community Presbyterian Church\, 82 King Hill Road\, New London\, NH\, 03257\, United States
CATEGORIES:Live Music
GEO:43.3973443;-71.9633107
X-APPLE-STRUCTURED-LOCATION;VALUE=URI;X-ADDRESS=Kearsarge Community Presbyterian Church 82 King Hill Road New London NH 03257 United States;X-APPLE-RADIUS=500;X-TITLE=82 King Hill Road:geo:-71.9633107,43.3973443
END:VEVENT
BEGIN:VEVENT
DTSTART;TZID=America/New_York:20180811T073000
DTEND;TZID=America/New_York:20180811T103000
DTSTAMP:20260424T221847
CREATED:20180806T011511Z
LAST-MODIFIED:20180806T011511Z
UID:10000621-1533972600-1533983400@lake-sunapee-living.com
SUMMARY:Pancake Breakfast for Habitat for Humanity Kearsarge/Sunapee Area
DESCRIPTION:Join us for a Pancake Breakfast fundraiser to support Habitat for Humanity of the Kearsarge/Sunapee Area. \nEnjoy blueberry or banana or plain pancakes with real Award-Winning maple syrup\, sausages and OJ. \nBring your family and friends. \nSaturday August 11 from 7:30 to 10:30 am at Kearsarge Community Presbyterian Church\, 82 King Hill Road (Rt 11)\, New London. \nSuggested donation $8 adults\, $5 youth. \nAll are WELCOME. Info at 526-4800 or www.KCPCNLNH.com. \nHabitat for Humanity works in partnership with people in need\, to create affordable housing. \nEvent date\n2018-08-11 \n\n\n	Related
URL:https://lake-sunapee-living.com/event/pancake-breakfast-for-habitat-for-humanity-kearsarge-sunapee-area/
LOCATION:Kearsarge Community Presbyterian Church\, 82 King Hill Road\, New London\, NH\, 03257\, United States
CATEGORIES:Benefit
GEO:43.3973443;-71.9633107
X-APPLE-STRUCTURED-LOCATION;VALUE=URI;X-ADDRESS=Kearsarge Community Presbyterian Church 82 King Hill Road New London NH 03257 United States;X-APPLE-RADIUS=500;X-TITLE=82 King Hill Road:geo:-71.9633107,43.3973443
END:VEVENT
END:VCALENDAR