BEGIN:VCALENDAR
VERSION:2.0
PRODID:-//Lake Sunapee Living - ECPv6.15.13//NONSGML v1.0//EN
CALSCALE:GREGORIAN
METHOD:PUBLISH
X-ORIGINAL-URL:https://lake-sunapee-living.com
X-WR-CALDESC:Events for Lake Sunapee Living
REFRESH-INTERVAL;VALUE=DURATION:PT1H
X-Robots-Tag:noindex
X-PUBLISHED-TTL:PT1H
BEGIN:VTIMEZONE
TZID:America/New_York
BEGIN:DAYLIGHT
TZOFFSETFROM:-0500
TZOFFSETTO:-0400
TZNAME:EDT
DTSTART:20170312T070000
END:DAYLIGHT
BEGIN:STANDARD
TZOFFSETFROM:-0400
TZOFFSETTO:-0500
TZNAME:EST
DTSTART:20171105T060000
END:STANDARD
BEGIN:DAYLIGHT
TZOFFSETFROM:-0500
TZOFFSETTO:-0400
TZNAME:EDT
DTSTART:20180311T070000
END:DAYLIGHT
BEGIN:STANDARD
TZOFFSETFROM:-0400
TZOFFSETTO:-0500
TZNAME:EST
DTSTART:20181104T060000
END:STANDARD
BEGIN:DAYLIGHT
TZOFFSETFROM:-0500
TZOFFSETTO:-0400
TZNAME:EDT
DTSTART:20190310T070000
END:DAYLIGHT
BEGIN:STANDARD
TZOFFSETFROM:-0400
TZOFFSETTO:-0500
TZNAME:EST
DTSTART:20191103T060000
END:STANDARD
BEGIN:DAYLIGHT
TZOFFSETFROM:-0500
TZOFFSETTO:-0400
TZNAME:EDT
DTSTART:20200308T070000
END:DAYLIGHT
BEGIN:STANDARD
TZOFFSETFROM:-0400
TZOFFSETTO:-0500
TZNAME:EST
DTSTART:20201101T060000
END:STANDARD
END:VTIMEZONE
BEGIN:VEVENT
DTSTART;TZID=America/New_York:20190816T183000
DTEND;TZID=America/New_York:20190816T200000
DTSTAMP:20260425T101651
CREATED:20190628T000722Z
LAST-MODIFIED:20190628T000722Z
UID:10000338-1565980200-1565985600@lake-sunapee-living.com
SUMMARY:Free Outdoor Concert: Tirade at the New London Bandstand
DESCRIPTION:On the Town Common green in between NL Town Office & Whipple Hall. In the event of rain concert will be moved to the Whipple Memorial Town Hall adjacent to the common. \n\n\n	Related
URL:https://lake-sunapee-living.com/event/free-outdoor-concert-tirade-at-the-new-london-bandstand/
LOCATION:Haddad Bandstand\, 401 Main Street\, New London\, NH\, 03257\, United States
CATEGORIES:Free Outdoor Concert
GEO:43.4406908;-72.0244582
X-APPLE-STRUCTURED-LOCATION;VALUE=URI;X-ADDRESS=Haddad Bandstand 401 Main Street New London NH 03257 United States;X-APPLE-RADIUS=500;X-TITLE=401 Main Street:geo:-72.0244582,43.4406908
END:VEVENT
BEGIN:VEVENT
DTSTART;TZID=America/New_York:20190809T183000
DTEND;TZID=America/New_York:20190809T200000
DTSTAMP:20260425T101651
CREATED:20190628T000617Z
LAST-MODIFIED:20190628T000617Z
UID:10003833-1565375400-1565380800@lake-sunapee-living.com
SUMMARY:Free Outdoor Concert: The Freese Brothers Big Band at the New London Bandstand
DESCRIPTION:On the Town Common green in between NL Town Office & Whipple Hall. In the event of rain concert will be moved to the Whipple Memorial Town Hall adjacent to the common. \n\n\n	Related
URL:https://lake-sunapee-living.com/event/free-outdoor-concert-the-freese-brothers-big-band-at-the-new-london-bandstand/
LOCATION:Haddad Bandstand\, 401 Main Street\, New London\, NH\, 03257\, United States
CATEGORIES:Free Outdoor Concert
GEO:43.4406908;-72.0244582
X-APPLE-STRUCTURED-LOCATION;VALUE=URI;X-ADDRESS=Haddad Bandstand 401 Main Street New London NH 03257 United States;X-APPLE-RADIUS=500;X-TITLE=401 Main Street:geo:-72.0244582,43.4406908
END:VEVENT
BEGIN:VEVENT
DTSTART;TZID=America/New_York:20190719T183000
DTEND;TZID=America/New_York:20190719T200000
DTSTAMP:20260425T101651
CREATED:20190628T000503Z
LAST-MODIFIED:20190628T000503Z
UID:10003832-1563561000-1563566400@lake-sunapee-living.com
SUMMARY:Free Outdoor Concert: The East Bay Jazz Ensemble at the New London Bandstand
DESCRIPTION:On the Town Common green in between NL Town Office & Whipple Hall. In the event of rain concert will be moved to the Whipple Memorial Town Hall adjacent to the common. \n\n\n	Related
URL:https://lake-sunapee-living.com/event/free-outdoor-concert-the-east-bay-jazz-ensemble-at-the-new-london-bandstand/
LOCATION:Haddad Bandstand\, 401 Main Street\, New London\, NH\, 03257\, United States
CATEGORIES:Free Outdoor Concert
GEO:43.4406908;-72.0244582
X-APPLE-STRUCTURED-LOCATION;VALUE=URI;X-ADDRESS=Haddad Bandstand 401 Main Street New London NH 03257 United States;X-APPLE-RADIUS=500;X-TITLE=401 Main Street:geo:-72.0244582,43.4406908
END:VEVENT
BEGIN:VEVENT
DTSTART;TZID=America/New_York:20190712T183000
DTEND;TZID=America/New_York:20190712T200000
DTSTAMP:20260425T101651
CREATED:20190628T000348Z
LAST-MODIFIED:20190628T000348Z
UID:10003831-1562956200-1562961600@lake-sunapee-living.com
SUMMARY:Free Outdoor Concert: The Hopkinton Town Band  at the New London Bandstand
DESCRIPTION:On the Town Common green in between NL Town Office & Whipple Hall. In the event of rain concert will be moved to the Whipple Memorial Town Hall adjacent to the common. \n\n\n	Related
URL:https://lake-sunapee-living.com/event/free-outdoor-concert-the-hopkinton-town-band-at-the-new-london-bandstand/
LOCATION:Haddad Bandstand\, 401 Main Street\, New London\, NH\, 03257\, United States
CATEGORIES:Free Outdoor Concert
GEO:43.4406908;-72.0244582
X-APPLE-STRUCTURED-LOCATION;VALUE=URI;X-ADDRESS=Haddad Bandstand 401 Main Street New London NH 03257 United States;X-APPLE-RADIUS=500;X-TITLE=401 Main Street:geo:-72.0244582,43.4406908
END:VEVENT
BEGIN:VEVENT
DTSTART;TZID=America/New_York:20190705T183000
DTEND;TZID=America/New_York:20190705T200000
DTSTAMP:20260425T101651
CREATED:20190628T000221Z
LAST-MODIFIED:20190628T000247Z
UID:10003830-1562351400-1562356800@lake-sunapee-living.com
SUMMARY:Free Outdoor Concert: Studio Two at the New London Bandstand
DESCRIPTION:On the Town Common green in between NL Town Office & Whipple Hall. In the event of rain concert will be moved to the Whipple Memorial Town Hall adjacent to the common. \n\n\n	Related
URL:https://lake-sunapee-living.com/event/free-outdoor-concert-studio-two-at-the-new-london-bandstand/
LOCATION:Haddad Bandstand\, 401 Main Street\, New London\, NH\, 03257\, United States
CATEGORIES:Free Outdoor Concert
GEO:43.4406908;-72.0244582
X-APPLE-STRUCTURED-LOCATION;VALUE=URI;X-ADDRESS=Haddad Bandstand 401 Main Street New London NH 03257 United States;X-APPLE-RADIUS=500;X-TITLE=401 Main Street:geo:-72.0244582,43.4406908
END:VEVENT
BEGIN:VEVENT
DTSTART;TZID=America/New_York:20190705T183000
DTEND;TZID=America/New_York:20190705T200000
DTSTAMP:20260425T101651
CREATED:20181118T143143Z
LAST-MODIFIED:20181118T143143Z
UID:10003605-1562351400-1562356800@lake-sunapee-living.com
SUMMARY:First Fridays! Hopkinton Town Band at the New London Bandstand
DESCRIPTION:First Fridays! Hopkinton Town Band at the New London Haddad Bandstand \n FREE \nwww.CenterForTheArtsNH.org \n\n\n	Related
URL:https://lake-sunapee-living.com/event/first-fridays-hopkinton-town-band-at-the-new-london-bandstand/
LOCATION:Haddad Bandstand\, 401 Main Street\, New London\, NH\, 03257\, United States
CATEGORIES:Free Outdoor Concert
GEO:43.4406908;-72.0244582
X-APPLE-STRUCTURED-LOCATION;VALUE=URI;X-ADDRESS=Haddad Bandstand 401 Main Street New London NH 03257 United States;X-APPLE-RADIUS=500;X-TITLE=401 Main Street:geo:-72.0244582,43.4406908
END:VEVENT
BEGIN:VEVENT
DTSTART;TZID=America/New_York:20190628T183000
DTEND;TZID=America/New_York:20190628T200000
DTSTAMP:20260425T101651
CREATED:20190628T000038Z
LAST-MODIFIED:20190628T000100Z
UID:10003829-1561746600-1561752000@lake-sunapee-living.com
SUMMARY:Free Outdoor Concert: The Canyon Run at the New London Bandstand
DESCRIPTION:On the Town Common green in between NL Town Office & Whipple Hall. In the event of rain concert will be moved to the Whipple Memorial Town Hall adjacent to the common. \n  \n\n\n	Related
URL:https://lake-sunapee-living.com/event/free-outdoor-concert-the-canyon-run-at-the-new-london-bandstand/
LOCATION:Haddad Bandstand\, 401 Main Street\, New London\, NH\, 03257\, United States
CATEGORIES:Free Outdoor Concert
GEO:43.4406908;-72.0244582
X-APPLE-STRUCTURED-LOCATION;VALUE=URI;X-ADDRESS=Haddad Bandstand 401 Main Street New London NH 03257 United States;X-APPLE-RADIUS=500;X-TITLE=401 Main Street:geo:-72.0244582,43.4406908
END:VEVENT
BEGIN:VEVENT
DTSTART;TZID=America/New_York:20180824T183000
DTEND;TZID=America/New_York:20180824T200000
DTSTAMP:20260425T101651
CREATED:20180602T003042Z
LAST-MODIFIED:20180602T003042Z
UID:10000352-1535135400-1535140800@lake-sunapee-living.com
SUMMARY:New London Concerts on the Common: Kearsarge Community Band
DESCRIPTION:Closing another season we have the Kearsarge Community Band with a rousing and fun concert. Yes\, we will play the 1812 Overture! \n\n\n	Related
URL:https://lake-sunapee-living.com/event/new-london-concerts-on-the-common-kearsarge-community-band-2/
LOCATION:Haddad Bandstand\, 401 Main Street\, New London\, NH\, 03257\, United States
CATEGORIES:Concert
GEO:43.4406908;-72.0244582
X-APPLE-STRUCTURED-LOCATION;VALUE=URI;X-ADDRESS=Haddad Bandstand 401 Main Street New London NH 03257 United States;X-APPLE-RADIUS=500;X-TITLE=401 Main Street:geo:-72.0244582,43.4406908
END:VEVENT
BEGIN:VEVENT
DTSTART;TZID=America/New_York:20180817T183000
DTEND;TZID=America/New_York:20180817T200000
DTSTAMP:20260425T101651
CREATED:20180602T002741Z
LAST-MODIFIED:20180602T002741Z
UID:10000351-1534530600-1534536000@lake-sunapee-living.com
SUMMARY:New London Concerts on the Common: Soulfix
DESCRIPTION:A five piece wedding/party band that covers Soul\, Funk and R&B favorites from the Dartmouth/Lake Sunapee region. \n\n\n	Related
URL:https://lake-sunapee-living.com/event/new-london-concerts-on-the-common-soulfix/
LOCATION:Haddad Bandstand\, 401 Main Street\, New London\, NH\, 03257\, United States
CATEGORIES:Concert
GEO:43.4406908;-72.0244582
X-APPLE-STRUCTURED-LOCATION;VALUE=URI;X-ADDRESS=Haddad Bandstand 401 Main Street New London NH 03257 United States;X-APPLE-RADIUS=500;X-TITLE=401 Main Street:geo:-72.0244582,43.4406908
END:VEVENT
BEGIN:VEVENT
DTSTART;TZID=America/New_York:20180810T183000
DTEND;TZID=America/New_York:20180810T200000
DTSTAMP:20260425T101651
CREATED:20180602T002628Z
LAST-MODIFIED:20180602T002628Z
UID:10000330-1533925800-1533931200@lake-sunapee-living.com
SUMMARY:New London Concerts on the Common: Tirade
DESCRIPTION:Playing an eclectic mix of rock & roll cover songs ranging from old blues through classic rock\, alternative rock\, reggae and modern funk. \n\n\n	Related
URL:https://lake-sunapee-living.com/event/new-london-concerts-on-the-common-tirade/
LOCATION:Haddad Bandstand\, 401 Main Street\, New London\, NH\, 03257\, United States
CATEGORIES:Concert
GEO:43.4406908;-72.0244582
X-APPLE-STRUCTURED-LOCATION;VALUE=URI;X-ADDRESS=Haddad Bandstand 401 Main Street New London NH 03257 United States;X-APPLE-RADIUS=500;X-TITLE=401 Main Street:geo:-72.0244582,43.4406908
END:VEVENT
BEGIN:VEVENT
DTSTART;TZID=America/New_York:20180720T183000
DTEND;TZID=America/New_York:20180720T200000
DTSTAMP:20260425T101651
CREATED:20180602T002509Z
LAST-MODIFIED:20180602T002509Z
UID:10000328-1532111400-1532116800@lake-sunapee-living.com
SUMMARY:New London Concerts on the Common: Studio Two
DESCRIPTION:Studio Two is a headlining Beatles tribute band that focuses on the early years\, choosing songs from the pre-Sgt. Pepper era. \n\n\n	Related
URL:https://lake-sunapee-living.com/event/new-london-concerts-on-the-common-studio-two/
LOCATION:Haddad Bandstand\, 401 Main Street\, New London\, NH\, 03257\, United States
CATEGORIES:Concert
GEO:43.4406908;-72.0244582
X-APPLE-STRUCTURED-LOCATION;VALUE=URI;X-ADDRESS=Haddad Bandstand 401 Main Street New London NH 03257 United States;X-APPLE-RADIUS=500;X-TITLE=401 Main Street:geo:-72.0244582,43.4406908
END:VEVENT
BEGIN:VEVENT
DTSTART;TZID=America/New_York:20180713T183000
DTEND;TZID=America/New_York:20180713T200000
DTSTAMP:20260425T101651
CREATED:20180602T002410Z
LAST-MODIFIED:20180602T002410Z
UID:10000326-1531506600-1531512000@lake-sunapee-living.com
SUMMARY:New London Concerts on the Common: Dr. Harp All Veterans Blues Band
DESCRIPTION:A four-piece powerhouse of music and fun\, playing the tunes of most innovative music genera in the past century. \n\n\n	Related
URL:https://lake-sunapee-living.com/event/new-london-concerts-on-the-common-dr-harp-all-veterans-blues-band/
LOCATION:Haddad Bandstand\, 401 Main Street\, New London\, NH\, 03257\, United States
CATEGORIES:Concert
GEO:43.4406908;-72.0244582
X-APPLE-STRUCTURED-LOCATION;VALUE=URI;X-ADDRESS=Haddad Bandstand 401 Main Street New London NH 03257 United States;X-APPLE-RADIUS=500;X-TITLE=401 Main Street:geo:-72.0244582,43.4406908
END:VEVENT
BEGIN:VEVENT
DTSTART;TZID=America/New_York:20180706T183000
DTEND;TZID=America/New_York:20180706T200000
DTSTAMP:20260425T101651
CREATED:20180602T002238Z
LAST-MODIFIED:20180602T002238Z
UID:10000324-1530901800-1530907200@lake-sunapee-living.com
SUMMARY:New London Concerts on the Common: Hopkinton Town Band
DESCRIPTION:The excellent town band from our neighbors to the east will play the favorites of bandstand music. \n\n\n	Related
URL:https://lake-sunapee-living.com/event/new-london-concerts-on-the-common-hopkinton-town-band/
LOCATION:Haddad Bandstand\, 401 Main Street\, New London\, NH\, 03257\, United States
CATEGORIES:Concert
GEO:43.4406908;-72.0244582
X-APPLE-STRUCTURED-LOCATION;VALUE=URI;X-ADDRESS=Haddad Bandstand 401 Main Street New London NH 03257 United States;X-APPLE-RADIUS=500;X-TITLE=401 Main Street:geo:-72.0244582,43.4406908
END:VEVENT
BEGIN:VEVENT
DTSTART;TZID=America/New_York:20180629T063000
DTEND;TZID=America/New_York:20180629T200000
DTSTAMP:20260425T101651
CREATED:20180602T002001Z
LAST-MODIFIED:20180602T002001Z
UID:10000077-1530253800-1530302400@lake-sunapee-living.com
SUMMARY:New London Concerts on the Common: Moonlighters
DESCRIPTION:For Big Band sound there is no better than the Moonlighters. Glenn Miller\, Tommy Dorsey and Benny Goodman will all be there. \n\n\n	Related
URL:https://lake-sunapee-living.com/event/new-london-concerts-on-the-common-moonlighters/
LOCATION:Haddad Bandstand\, 401 Main Street\, New London\, NH\, 03257\, United States
CATEGORIES:Concert
GEO:43.4406908;-72.0244582
X-APPLE-STRUCTURED-LOCATION;VALUE=URI;X-ADDRESS=Haddad Bandstand 401 Main Street New London NH 03257 United States;X-APPLE-RADIUS=500;X-TITLE=401 Main Street:geo:-72.0244582,43.4406908
END:VEVENT
BEGIN:VEVENT
DTSTART;TZID=America/New_York:20180622T183000
DTEND;TZID=America/New_York:20180622T200000
DTSTAMP:20260425T101651
CREATED:20180602T001658Z
LAST-MODIFIED:20180602T001658Z
UID:10000076-1529692200-1529697600@lake-sunapee-living.com
SUMMARY:New London Concerts on the Common: Kearsarge Community Band
DESCRIPTION:“Your hometown band” begins its summer season of great music from the Mary Haddad Bandstand on the Sargent Common. \n\n\n	Related
URL:https://lake-sunapee-living.com/event/new-london-concerts-on-the-common-kearsarge-community-band/
LOCATION:Haddad Bandstand\, 401 Main Street\, New London\, NH\, 03257\, United States
CATEGORIES:Concert
GEO:43.4406908;-72.0244582
X-APPLE-STRUCTURED-LOCATION;VALUE=URI;X-ADDRESS=Haddad Bandstand 401 Main Street New London NH 03257 United States;X-APPLE-RADIUS=500;X-TITLE=401 Main Street:geo:-72.0244582,43.4406908
END:VEVENT
END:VCALENDAR