BEGIN:VCALENDAR
VERSION:2.0
PRODID:-//Lake Sunapee Living - ECPv6.15.13//NONSGML v1.0//EN
CALSCALE:GREGORIAN
METHOD:PUBLISH
X-ORIGINAL-URL:https://lake-sunapee-living.com
X-WR-CALDESC:Events for Lake Sunapee Living
REFRESH-INTERVAL;VALUE=DURATION:PT1H
X-Robots-Tag:noindex
X-PUBLISHED-TTL:PT1H
BEGIN:VTIMEZONE
TZID:America/New_York
BEGIN:DAYLIGHT
TZOFFSETFROM:-0500
TZOFFSETTO:-0400
TZNAME:EDT
DTSTART:20220313T070000
END:DAYLIGHT
BEGIN:STANDARD
TZOFFSETFROM:-0400
TZOFFSETTO:-0500
TZNAME:EST
DTSTART:20221106T060000
END:STANDARD
BEGIN:DAYLIGHT
TZOFFSETFROM:-0500
TZOFFSETTO:-0400
TZNAME:EDT
DTSTART:20230312T070000
END:DAYLIGHT
BEGIN:STANDARD
TZOFFSETFROM:-0400
TZOFFSETTO:-0500
TZNAME:EST
DTSTART:20231105T060000
END:STANDARD
BEGIN:DAYLIGHT
TZOFFSETFROM:-0500
TZOFFSETTO:-0400
TZNAME:EDT
DTSTART:20240310T070000
END:DAYLIGHT
BEGIN:STANDARD
TZOFFSETFROM:-0400
TZOFFSETTO:-0500
TZNAME:EST
DTSTART:20241103T060000
END:STANDARD
END:VTIMEZONE
BEGIN:VEVENT
DTSTART;TZID=America/New_York:20230624T080000
DTEND;TZID=America/New_York:20230624T180000
DTSTAMP:20260424T134856
CREATED:20230306T033325Z
LAST-MODIFIED:20230306T033358Z
UID:10004162-1687593600-1687629600@lake-sunapee-living.com
SUMMARY:57th Annual Rock Swap and Mineral Show
DESCRIPTION:The 57th annual Gilsum Rock Swap & Mineral Show features more than 65 rock and gem dealers\, swappers \,and collectors from around the world offering beryl\, quartz crystals\, fossils\, meteorites\, semi-precious stones\, gemstone and wire-wrap jewelry\, and rocks and minerals of all sorts. Displays range from newly found specimens in the rough to fossils\, prized collector’s pieces and hand-crafted jewelry. \nThis family event includes panning for minerals\, a chicken barbeque\, a special presentation on NH mineral collecting\, and ham and bean dinner with homemade pies. The event takes place at the Gilsum Elementary School grounds\, 640 Route 10 in Gilsum\, NH. \nWe are 8 miles north of Keene\, and about 2 hours from Boston. Admission is free; donations graciously accepted. Show hours are 8:00 AM to 6:00 PM Saturday and 8:00 AM to 4:00 PM Sunday\, rain or shine. Website: https://gilsum.org/rockswap/ \n\n\n	Related
URL:https://lake-sunapee-living.com/event/57th-annual-rock-swap-and-mineral-show/
LOCATION:Gilsum Elementary School\, 640 Route 10\, Gilsum\, NH\, 03448\, United States
CATEGORIES:Mineral Show
GEO:43.0485983;-72.2591956
X-APPLE-STRUCTURED-LOCATION;VALUE=URI;X-ADDRESS=Gilsum Elementary School 640 Route 10 Gilsum NH 03448 United States;X-APPLE-RADIUS=500;X-TITLE=640 Route 10:geo:-72.2591956,43.0485983
END:VEVENT
END:VCALENDAR