BEGIN:VCALENDAR
VERSION:2.0
PRODID:-//Lake Sunapee Living - ECPv6.15.13//NONSGML v1.0//EN
CALSCALE:GREGORIAN
METHOD:PUBLISH
X-ORIGINAL-URL:https://lake-sunapee-living.com
X-WR-CALDESC:Events for Lake Sunapee Living
REFRESH-INTERVAL;VALUE=DURATION:PT1H
X-Robots-Tag:noindex
X-PUBLISHED-TTL:PT1H
BEGIN:VTIMEZONE
TZID:America/New_York
BEGIN:DAYLIGHT
TZOFFSETFROM:-0500
TZOFFSETTO:-0400
TZNAME:EDT
DTSTART:20170312T070000
END:DAYLIGHT
BEGIN:STANDARD
TZOFFSETFROM:-0400
TZOFFSETTO:-0500
TZNAME:EST
DTSTART:20171105T060000
END:STANDARD
BEGIN:DAYLIGHT
TZOFFSETFROM:-0500
TZOFFSETTO:-0400
TZNAME:EDT
DTSTART:20180311T070000
END:DAYLIGHT
BEGIN:STANDARD
TZOFFSETFROM:-0400
TZOFFSETTO:-0500
TZNAME:EST
DTSTART:20181104T060000
END:STANDARD
BEGIN:DAYLIGHT
TZOFFSETFROM:-0500
TZOFFSETTO:-0400
TZNAME:EDT
DTSTART:20190310T070000
END:DAYLIGHT
BEGIN:STANDARD
TZOFFSETFROM:-0400
TZOFFSETTO:-0500
TZNAME:EST
DTSTART:20191103T060000
END:STANDARD
BEGIN:DAYLIGHT
TZOFFSETFROM:-0500
TZOFFSETTO:-0400
TZNAME:EDT
DTSTART:20200308T070000
END:DAYLIGHT
BEGIN:STANDARD
TZOFFSETFROM:-0400
TZOFFSETTO:-0500
TZNAME:EST
DTSTART:20201101T060000
END:STANDARD
BEGIN:DAYLIGHT
TZOFFSETFROM:-0500
TZOFFSETTO:-0400
TZNAME:EDT
DTSTART:20210314T070000
END:DAYLIGHT
BEGIN:STANDARD
TZOFFSETFROM:-0400
TZOFFSETTO:-0500
TZNAME:EST
DTSTART:20211107T060000
END:STANDARD
BEGIN:DAYLIGHT
TZOFFSETFROM:-0500
TZOFFSETTO:-0400
TZNAME:EDT
DTSTART:20220313T070000
END:DAYLIGHT
BEGIN:STANDARD
TZOFFSETFROM:-0400
TZOFFSETTO:-0500
TZNAME:EST
DTSTART:20221106T060000
END:STANDARD
END:VTIMEZONE
BEGIN:VEVENT
DTSTART;TZID=America/New_York:20210717T170000
DTEND;TZID=America/New_York:20210717T190000
DTSTAMP:20260424T175100
CREATED:20210705T225934Z
LAST-MODIFIED:20210705T232743Z
UID:10004053-1626541200-1626548400@lake-sunapee-living.com
SUMMARY:Free Live Music: The Shana Stack Band at Flanders Stage
DESCRIPTION:The Sunapee Harbor Riverway Presents the Free 2021 Summer Music Series On Flanders Stage featuring The Shana Stack Band. \nMore info visit sunapeeharborriverway.com/sunapee-harbor-events/ \n\n\n	Related
URL:https://lake-sunapee-living.com/event/free-live-music-the-shana-stack-band-at-flanders-stage/
LOCATION:Flanders Stage\, 125 Main St\, Sunapee\, NH\, 03782\, United States
CATEGORIES:Free Outdoor Concert
GEO:43.3852084;-72.0809835
X-APPLE-STRUCTURED-LOCATION;VALUE=URI;X-ADDRESS=Flanders Stage 125 Main St Sunapee NH 03782 United States;X-APPLE-RADIUS=500;X-TITLE=125 Main St:geo:-72.0809835,43.3852084
END:VEVENT
BEGIN:VEVENT
DTSTART;TZID=America/New_York:20210710T170000
DTEND;TZID=America/New_York:20210710T190000
DTSTAMP:20260424T175100
CREATED:20210705T225109Z
LAST-MODIFIED:20210705T225825Z
UID:10004052-1625936400-1625943600@lake-sunapee-living.com
SUMMARY:Free Live Music: Jim Hollis at Flanders Stage
DESCRIPTION:The Sunapee Harbor Riverway Presents the Free 2021 Summer Music Series On Flanders Stage featuring Jim Hollis. \nMore info visit sunapeeharborriverway.com/sunapee-harbor-events/ \n\n\n	Related
URL:https://lake-sunapee-living.com/event/free-live-music-jim-hollis-at-flanders-stage/
LOCATION:Flanders Stage\, 125 Main St\, Sunapee\, NH\, 03782\, United States
CATEGORIES:Free Outdoor Concert
GEO:43.3852084;-72.0809835
X-APPLE-STRUCTURED-LOCATION;VALUE=URI;X-ADDRESS=Flanders Stage 125 Main St Sunapee NH 03782 United States;X-APPLE-RADIUS=500;X-TITLE=125 Main St:geo:-72.0809835,43.3852084
END:VEVENT
BEGIN:VEVENT
DTSTART;TZID=America/New_York:20200808T170000
DTEND;TZID=America/New_York:20200808T190000
DTSTAMP:20260424T175100
CREATED:20200711T004150Z
LAST-MODIFIED:20200711T004150Z
UID:10003974-1596906000-1596913200@lake-sunapee-living.com
SUMMARY:Live Music at Flanders Stage: Joanie Horning
DESCRIPTION:Sunapee Harbor is responsibly practicing safe-distancing\, so the customary tables and chairs under the tent will not be offered. \nHowever\, there is much summer fun to be had in the harbor\, and the music carries throughout the harbor\, nicely reaching the restaurants and shops. Please be responsible\, and do enjoy your weekend. \nPLEASE CHECK THE SUNAPEE WEATHER FORECAST BEFOREHAND. \n\n\n\n	Related
URL:https://lake-sunapee-living.com/event/live-music-at-flanders-stage-joanie-horning/
LOCATION:Flanders Stage\, 125 Main St\, Sunapee\, NH\, 03782\, United States
CATEGORIES:Free Outdoor Concert
GEO:43.3852084;-72.0809835
X-APPLE-STRUCTURED-LOCATION;VALUE=URI;X-ADDRESS=Flanders Stage 125 Main St Sunapee NH 03782 United States;X-APPLE-RADIUS=500;X-TITLE=125 Main St:geo:-72.0809835,43.3852084
END:VEVENT
BEGIN:VEVENT
DTSTART;TZID=America/New_York:20200801T170000
DTEND;TZID=America/New_York:20200801T190000
DTSTAMP:20260424T175100
CREATED:20200711T003906Z
LAST-MODIFIED:20200711T003945Z
UID:10003973-1596301200-1596308400@lake-sunapee-living.com
SUMMARY:Live Music at Flanders Stage: Tom Pirozzoli
DESCRIPTION:Sunapee Harbor is responsibly practicing safe-distancing\, so the customary tables and chairs under the tent will not be offered. \nHowever\, there is much summer fun to be had in the harbor\, and the music carries throughout the harbor\, nicely reaching the restaurants and shops. Please be responsible\, and do enjoy your weekend. \nPLEASE CHECK THE SUNAPEE WEATHER FORECAST BEFOREHAND. \n\n\n\n	Related
URL:https://lake-sunapee-living.com/event/live-music-at-flanders-stage-tom-pirozzoli/
LOCATION:Flanders Stage\, 125 Main St\, Sunapee\, NH\, 03782\, United States
CATEGORIES:Free Outdoor Concert
GEO:43.3852084;-72.0809835
X-APPLE-STRUCTURED-LOCATION;VALUE=URI;X-ADDRESS=Flanders Stage 125 Main St Sunapee NH 03782 United States;X-APPLE-RADIUS=500;X-TITLE=125 Main St:geo:-72.0809835,43.3852084
END:VEVENT
BEGIN:VEVENT
DTSTART;TZID=America/New_York:20200718T170000
DTEND;TZID=America/New_York:20200718T190000
DTSTAMP:20260424T175100
CREATED:20200711T003708Z
LAST-MODIFIED:20200711T003708Z
UID:10003972-1595091600-1595098800@lake-sunapee-living.com
SUMMARY:Live Music at Flanders Stage: The Bonds
DESCRIPTION:Sunapee Harbor is responsibly practicing safe-distancing\, so the customary tables and chairs under the tent will not be offered. \nHowever\, there is much summer fun to be had in the harbor\, and the music carries throughout the harbor\, nicely reaching the restaurants and shops. Please be responsible\, and do enjoy your weekend. \nPLEASE CHECK THE SUNAPEE WEATHER FORECAST BEFOREHAND. \n\n\n\n	Related
URL:https://lake-sunapee-living.com/event/live-music-at-flanders-stage-the-bonds/
LOCATION:Flanders Stage\, 125 Main St\, Sunapee\, NH\, 03782\, United States
CATEGORIES:Free Outdoor Concert
GEO:43.3852084;-72.0809835
X-APPLE-STRUCTURED-LOCATION;VALUE=URI;X-ADDRESS=Flanders Stage 125 Main St Sunapee NH 03782 United States;X-APPLE-RADIUS=500;X-TITLE=125 Main St:geo:-72.0809835,43.3852084
END:VEVENT
BEGIN:VEVENT
DTSTART;TZID=America/New_York:20200711T170000
DTEND;TZID=America/New_York:20200711T190000
DTSTAMP:20260424T175100
CREATED:20200709T112246Z
LAST-MODIFIED:20200709T112246Z
UID:10003969-1594486800-1594494000@lake-sunapee-living.com
SUMMARY:Live Music at Flanders Stage: Jim Hollis
DESCRIPTION:Sunapee Harbor is responsibly practicing safe-distancing\, so the customary tables and chairs under the tent will not be offered. \nHowever\, there is much summer fun to be had in the harbor\, and the music carries throughout the harbor\, nicely reaching the restaurants and shops. Please be responsible\, and do enjoy your weekend. \nPLEASE CHECK THE SUNAPEE WEATHER FORECAST BEFOREHAND. \n\n\n\n	Related
URL:https://lake-sunapee-living.com/event/live-music-at-flanders-stage-jim-hollis/
LOCATION:Flanders Stage\, 125 Main St\, Sunapee\, NH\, 03782\, United States
CATEGORIES:Free Outdoor Concert
GEO:43.3852084;-72.0809835
X-APPLE-STRUCTURED-LOCATION;VALUE=URI;X-ADDRESS=Flanders Stage 125 Main St Sunapee NH 03782 United States;X-APPLE-RADIUS=500;X-TITLE=125 Main St:geo:-72.0809835,43.3852084
END:VEVENT
BEGIN:VEVENT
DTSTART;TZID=America/New_York:20190831T170000
DTEND;TZID=America/New_York:20190831T190000
DTSTAMP:20260424T175100
CREATED:20190524T233525Z
LAST-MODIFIED:20190524T233525Z
UID:10003738-1567270800-1567278000@lake-sunapee-living.com
SUMMARY:Live Music: Pete Merrigan at Flanders Stage
DESCRIPTION:Free outdoor concert featuring Pete Merrigan at Flanders Stage \nPete Merrigan on Facebook \n\n\n	Related
URL:https://lake-sunapee-living.com/event/live-music-pete-merrigan-at-flanders-stage/
LOCATION:Flanders Stage\, 125 Main St\, Sunapee\, NH\, 03782\, United States
CATEGORIES:Free Outdoor Concert
GEO:43.3852084;-72.0809835
X-APPLE-STRUCTURED-LOCATION;VALUE=URI;X-ADDRESS=Flanders Stage 125 Main St Sunapee NH 03782 United States;X-APPLE-RADIUS=500;X-TITLE=125 Main St:geo:-72.0809835,43.3852084
END:VEVENT
BEGIN:VEVENT
DTSTART;TZID=America/New_York:20190825T130000
DTEND;TZID=America/New_York:20190825T150000
DTSTAMP:20260424T175100
CREATED:20190705T235037Z
LAST-MODIFIED:20190705T235059Z
UID:10003842-1566738000-1566745200@lake-sunapee-living.com
SUMMARY:Free Outdoor Concert: Tom Pirozzoli at Flanders Stage
DESCRIPTION:The Sunapee Harbor Riverway and Our Local Business Sponsors Proudly\nPresent the Free 2019 Summer Music Series on Flanders Stage \n5-7pm \nAugust 25 – Tom Pirozzoli (Sunday 1-3pm) \n\n\n	Related
URL:https://lake-sunapee-living.com/event/free-outdoor-concert-tom-pirozzoli-at-flanders-stage/
LOCATION:Flanders Stage\, 125 Main St\, Sunapee\, NH\, 03782\, United States
CATEGORIES:Free Outdoor Concert
GEO:43.3852084;-72.0809835
X-APPLE-STRUCTURED-LOCATION;VALUE=URI;X-ADDRESS=Flanders Stage 125 Main St Sunapee NH 03782 United States;X-APPLE-RADIUS=500;X-TITLE=125 Main St:geo:-72.0809835,43.3852084
END:VEVENT
BEGIN:VEVENT
DTSTART;TZID=America/New_York:20190824T170000
DTEND;TZID=America/New_York:20190824T190000
DTSTAMP:20260424T175100
CREATED:20190705T234934Z
LAST-MODIFIED:20190705T234934Z
UID:10003841-1566666000-1566673200@lake-sunapee-living.com
SUMMARY:Free Outdoor Concert: The Shana Stack Band at Flanders Stage
DESCRIPTION:The Sunapee Harbor Riverway and Our Local Business Sponsors Proudly\nPresent the Free 2019 Summer Music Series on Flanders Stage \n5-7pm \nAugust 24 – the Shana Stack Band \n\n\n	Related
URL:https://lake-sunapee-living.com/event/free-outdoor-concert-the-shana-stack-band-at-flanders-stage/
LOCATION:Flanders Stage\, 125 Main St\, Sunapee\, NH\, 03782\, United States
CATEGORIES:Free Outdoor Concert
GEO:43.3852084;-72.0809835
X-APPLE-STRUCTURED-LOCATION;VALUE=URI;X-ADDRESS=Flanders Stage 125 Main St Sunapee NH 03782 United States;X-APPLE-RADIUS=500;X-TITLE=125 Main St:geo:-72.0809835,43.3852084
END:VEVENT
BEGIN:VEVENT
DTSTART;TZID=America/New_York:20190817T170000
DTEND;TZID=America/New_York:20190817T190000
DTSTAMP:20260424T175100
CREATED:20190705T234827Z
LAST-MODIFIED:20190705T234827Z
UID:10003839-1566061200-1566068400@lake-sunapee-living.com
SUMMARY:Free Outdoor Concert: Kid Pinky at Flanders Stage
DESCRIPTION:The Sunapee Harbor Riverway and Our Local Business Sponsors Proudly\nPresent the Free 2019 Summer Music Series on Flanders Stage \n5-7pm \nAugust 17 – Kid Pinky \n\n\n	Related
URL:https://lake-sunapee-living.com/event/free-outdoor-concert-kid-pinky-at-flanders-stage/
LOCATION:Flanders Stage\, 125 Main St\, Sunapee\, NH\, 03782\, United States
CATEGORIES:Free Outdoor Concert
GEO:43.3852084;-72.0809835
X-APPLE-STRUCTURED-LOCATION;VALUE=URI;X-ADDRESS=Flanders Stage 125 Main St Sunapee NH 03782 United States;X-APPLE-RADIUS=500;X-TITLE=125 Main St:geo:-72.0809835,43.3852084
END:VEVENT
BEGIN:VEVENT
DTSTART;TZID=America/New_York:20190810T170000
DTEND;TZID=America/New_York:20190810T190000
DTSTAMP:20260424T175100
CREATED:20190705T234729Z
LAST-MODIFIED:20190705T234729Z
UID:10003840-1565456400-1565463600@lake-sunapee-living.com
SUMMARY:Free Outdoor Concert: Click & Joanie Horning with Justin Ferrin & The Ferns at Flanders Stage
DESCRIPTION:The Sunapee Harbor Riverway and Our Local Business Sponsors Proudly\nPresent the Free 2019 Summer Music Series on Flanders Stage \n5-7pm \nAugust 10 – Click & Joanie Horning with Justin Ferrin & The Ferns \n\n\n	Related
URL:https://lake-sunapee-living.com/event/free-outdoor-concert-click-joanie-horning-with-justin-ferrin-the-ferns-at-flanders-stage/
LOCATION:Flanders Stage\, 125 Main St\, Sunapee\, NH\, 03782\, United States
CATEGORIES:Free Outdoor Concert
GEO:43.3852084;-72.0809835
X-APPLE-STRUCTURED-LOCATION;VALUE=URI;X-ADDRESS=Flanders Stage 125 Main St Sunapee NH 03782 United States;X-APPLE-RADIUS=500;X-TITLE=125 Main St:geo:-72.0809835,43.3852084
END:VEVENT
BEGIN:VEVENT
DTSTART;TZID=America/New_York:20190803T170000
DTEND;TZID=America/New_York:20190803T190000
DTSTAMP:20260424T175100
CREATED:20190705T234622Z
LAST-MODIFIED:20190705T234622Z
UID:10003838-1564851600-1564858800@lake-sunapee-living.com
SUMMARY:Free Outdoor Concert: Hanky Bannister at Flanders Stage
DESCRIPTION:The Sunapee Harbor Riverway and Our Local Business Sponsors Proudly\nPresent the Free 2019 Summer Music Series on Flanders Stage \n5-7pm \nAugust 3 – Hanky Bannister \n\n\n	Related
URL:https://lake-sunapee-living.com/event/free-outdoor-concert-hanky-bannister-at-flanders-stage/
LOCATION:Flanders Stage\, 125 Main St\, Sunapee\, NH\, 03782\, United States
CATEGORIES:Free Outdoor Concert
GEO:43.3852084;-72.0809835
X-APPLE-STRUCTURED-LOCATION;VALUE=URI;X-ADDRESS=Flanders Stage 125 Main St Sunapee NH 03782 United States;X-APPLE-RADIUS=500;X-TITLE=125 Main St:geo:-72.0809835,43.3852084
END:VEVENT
BEGIN:VEVENT
DTSTART;TZID=America/New_York:20190727T170000
DTEND;TZID=America/New_York:20190727T190000
DTSTAMP:20260424T175100
CREATED:20190705T234528Z
LAST-MODIFIED:20190705T234528Z
UID:10003837-1564246800-1564254000@lake-sunapee-living.com
SUMMARY:Free Outdoor Concert: Mark and Deb Bond at Flanders Stage
DESCRIPTION:The Sunapee Harbor Riverway and Our Local Business Sponsors Proudly\nPresent the Free 2019 Summer Music Series on Flanders Stage \n5-7pm \nJuly 27 – Mark and Deb Bond \n\n\n	Related
URL:https://lake-sunapee-living.com/event/free-outdoor-concert-mark-and-deb-bond-at-flanders-stage/
LOCATION:Flanders Stage\, 125 Main St\, Sunapee\, NH\, 03782\, United States
CATEGORIES:Free Outdoor Concert
GEO:43.3852084;-72.0809835
X-APPLE-STRUCTURED-LOCATION;VALUE=URI;X-ADDRESS=Flanders Stage 125 Main St Sunapee NH 03782 United States;X-APPLE-RADIUS=500;X-TITLE=125 Main St:geo:-72.0809835,43.3852084
END:VEVENT
BEGIN:VEVENT
DTSTART;TZID=America/New_York:20190720T080000
DTEND;TZID=America/New_York:20190720T170000
DTSTAMP:20260424T175100
CREATED:20190705T234435Z
LAST-MODIFIED:20190705T234435Z
UID:10003836-1563609600-1563642000@lake-sunapee-living.com
SUMMARY:Free Outdoor Concert: Jim Hollis at Flanders Stage
DESCRIPTION:The Sunapee Harbor Riverway and Our Local Business Sponsors Proudly\nPresent the Free 2019 Summer Music Series on Flanders Stage \n5-7pm \nJuly 20 – Jim Hollis \n\n\n	Related
URL:https://lake-sunapee-living.com/event/free-outdoor-concert-jim-hollis-at-flanders-stage/
LOCATION:Flanders Stage\, 125 Main St\, Sunapee\, NH\, 03782\, United States
CATEGORIES:Free Outdoor Concert
GEO:43.3852084;-72.0809835
X-APPLE-STRUCTURED-LOCATION;VALUE=URI;X-ADDRESS=Flanders Stage 125 Main St Sunapee NH 03782 United States;X-APPLE-RADIUS=500;X-TITLE=125 Main St:geo:-72.0809835,43.3852084
END:VEVENT
BEGIN:VEVENT
DTSTART;TZID=America/New_York:20190713T170000
DTEND;TZID=America/New_York:20190713T190000
DTSTAMP:20260424T175100
CREATED:20190705T234331Z
LAST-MODIFIED:20190705T234331Z
UID:10003835-1563037200-1563044400@lake-sunapee-living.com
SUMMARY:Free Outdoor Concert: Entangled Strings at Flanders Stage
DESCRIPTION:The Sunapee Harbor Riverway and Our Local Business Sponsors Proudly\nPresent the Free 2019 Summer Music Series on Flanders Stage \n5-7pm \nJuly 13 – Entangled Strings \n\n\n	Related
URL:https://lake-sunapee-living.com/event/free-outdoor-concert-entangled-strings-at-flanders-stage/
LOCATION:Flanders Stage\, 125 Main St\, Sunapee\, NH\, 03782\, United States
CATEGORIES:Free Outdoor Concert
GEO:43.3852084;-72.0809835
X-APPLE-STRUCTURED-LOCATION;VALUE=URI;X-ADDRESS=Flanders Stage 125 Main St Sunapee NH 03782 United States;X-APPLE-RADIUS=500;X-TITLE=125 Main St:geo:-72.0809835,43.3852084
END:VEVENT
BEGIN:VEVENT
DTSTART;TZID=America/New_York:20190706T170000
DTEND;TZID=America/New_York:20190706T190000
DTSTAMP:20260424T175100
CREATED:20190705T234236Z
LAST-MODIFIED:20190705T234236Z
UID:10003834-1562432400-1562439600@lake-sunapee-living.com
SUMMARY:Free Outdoor Concert: Nick's Other Band at Flanders Stage
DESCRIPTION:The Sunapee Harbor Riverway and Our Local Business Sponsors Proudly\nPresent the Free 2019 Summer Music Series on Flanders Stage \n5-7pm \nJuly 6 – Nick’s Other Band \n\n\n	Related
URL:https://lake-sunapee-living.com/event/free-outdoor-concert-nicks-other-band-at-flanders-stage/
LOCATION:Flanders Stage\, 125 Main St\, Sunapee\, NH\, 03782\, United States
CATEGORIES:Free Outdoor Concert
GEO:43.3852084;-72.0809835
X-APPLE-STRUCTURED-LOCATION;VALUE=URI;X-ADDRESS=Flanders Stage 125 Main St Sunapee NH 03782 United States;X-APPLE-RADIUS=500;X-TITLE=125 Main St:geo:-72.0809835,43.3852084
END:VEVENT
BEGIN:VEVENT
DTSTART;TZID=America/New_York:20180901T170000
DTEND;TZID=America/New_York:20180901T190000
DTSTAMP:20260424T175100
CREATED:20180606T160325Z
LAST-MODIFIED:20180606T160325Z
UID:10000417-1535821200-1535828400@lake-sunapee-living.com
SUMMARY:Live Music: The Shana Stack Band at Flanders Stage
DESCRIPTION:Winner of Band of the Year by the New England Music Awards and Country Artist of the Year by the Limelight Magazine\, The Shana Stack Band is one of the leading entertainers in New England. \n\n\n	Related
URL:https://lake-sunapee-living.com/event/live-music-the-shana-stack-band-at-flanders-stage/
LOCATION:Flanders Stage\, 125 Main St\, Sunapee\, NH\, 03782\, United States
CATEGORIES:Free Outdoor Concert
GEO:43.3852084;-72.0809835
X-APPLE-STRUCTURED-LOCATION;VALUE=URI;X-ADDRESS=Flanders Stage 125 Main St Sunapee NH 03782 United States;X-APPLE-RADIUS=500;X-TITLE=125 Main St:geo:-72.0809835,43.3852084
END:VEVENT
BEGIN:VEVENT
DTSTART;TZID=America/New_York:20180825T170000
DTEND;TZID=America/New_York:20180825T190000
DTSTAMP:20260424T175100
CREATED:20180606T155853Z
LAST-MODIFIED:20180606T155933Z
UID:10000415-1535216400-1535223600@lake-sunapee-living.com
SUMMARY:Live Music: East Bay Jazz at Flanders Stage
DESCRIPTION:“It Don’t Mean A Thing (If It Aint Got That Swing)” / Duke Ellington (1932)\nGerry Grimo and The East Bay Jazz Ensemble take you on a sentimental journey through the sound of the classic big bands. \n\n\n	Related
URL:https://lake-sunapee-living.com/event/live-music-east-bay-jazz-at-flanders-stage/
LOCATION:Flanders Stage\, 125 Main St\, Sunapee\, NH\, 03782\, United States
CATEGORIES:Free Outdoor Concert
GEO:43.3852084;-72.0809835
X-APPLE-STRUCTURED-LOCATION;VALUE=URI;X-ADDRESS=Flanders Stage 125 Main St Sunapee NH 03782 United States;X-APPLE-RADIUS=500;X-TITLE=125 Main St:geo:-72.0809835,43.3852084
END:VEVENT
BEGIN:VEVENT
DTSTART;TZID=America/New_York:20180819T130000
DTEND;TZID=America/New_York:20180819T150000
DTSTAMP:20260424T175100
CREATED:20180606T155422Z
LAST-MODIFIED:20180606T155422Z
UID:10000413-1534683600-1534690800@lake-sunapee-living.com
SUMMARY:Live Music: Tom Pirozzoli at Flanders Stage
DESCRIPTION:“Pirozzoli’s observations and travels bring seemingly dissimilar elements to harmony.” – Boston Globe \n“The passionate philosopher-songwriter captures a variety of musical styles in his original songs\, invoking a feeling of comfortable familiarity\, like spending time with a good friend.” – Autumn Magazine \n\n\n	Related
URL:https://lake-sunapee-living.com/event/live-music-tom-pirozzoli-at-flanders-stage/
LOCATION:Flanders Stage\, 125 Main St\, Sunapee\, NH\, 03782\, United States
CATEGORIES:Free Outdoor Concert
GEO:43.3852084;-72.0809835
X-APPLE-STRUCTURED-LOCATION;VALUE=URI;X-ADDRESS=Flanders Stage 125 Main St Sunapee NH 03782 United States;X-APPLE-RADIUS=500;X-TITLE=125 Main St:geo:-72.0809835,43.3852084
END:VEVENT
BEGIN:VEVENT
DTSTART;TZID=America/New_York:20180818T170000
DTEND;TZID=America/New_York:20180818T190000
DTSTAMP:20260424T175100
CREATED:20180606T155111Z
LAST-MODIFIED:20180606T155111Z
UID:10000411-1534611600-1534618800@lake-sunapee-living.com
SUMMARY:Live Music: Rusted Chrome at Flanders Stage
DESCRIPTION:A Newport\, New Hampshire area band putting our shine on good music featuring classic rock and country hits from yesterday and today. \n\n\n	Related
URL:https://lake-sunapee-living.com/event/live-music-rusted-chrome-at-flanders-stage/
LOCATION:Flanders Stage\, 125 Main St\, Sunapee\, NH\, 03782\, United States
CATEGORIES:Free Outdoor Concert
GEO:43.3852084;-72.0809835
X-APPLE-STRUCTURED-LOCATION;VALUE=URI;X-ADDRESS=Flanders Stage 125 Main St Sunapee NH 03782 United States;X-APPLE-RADIUS=500;X-TITLE=125 Main St:geo:-72.0809835,43.3852084
END:VEVENT
BEGIN:VEVENT
DTSTART;TZID=America/New_York:20180811T170000
DTEND;TZID=America/New_York:20180811T190000
DTSTAMP:20260424T175100
CREATED:20180606T154922Z
LAST-MODIFIED:20180606T154922Z
UID:10000409-1534006800-1534014000@lake-sunapee-living.com
SUMMARY:Live Music: Harmony Hotel at Flanders Stage
DESCRIPTION:Harmony Hotel Band warms the soul with unpredictable blends of voices\, instruments\, and musical styles. \n\n\n	Related
URL:https://lake-sunapee-living.com/event/live-music-harmony-hotel-at-flanders-stage/
LOCATION:Flanders Stage\, 125 Main St\, Sunapee\, NH\, 03782\, United States
CATEGORIES:Free Outdoor Concert
GEO:43.3852084;-72.0809835
X-APPLE-STRUCTURED-LOCATION;VALUE=URI;X-ADDRESS=Flanders Stage 125 Main St Sunapee NH 03782 United States;X-APPLE-RADIUS=500;X-TITLE=125 Main St:geo:-72.0809835,43.3852084
END:VEVENT
BEGIN:VEVENT
DTSTART;TZID=America/New_York:20180804T170000
DTEND;TZID=America/New_York:20180804T190000
DTSTAMP:20260424T175100
CREATED:20180606T154709Z
LAST-MODIFIED:20180606T154709Z
UID:10000408-1533402000-1533409200@lake-sunapee-living.com
SUMMARY:Live Music: Decatur Creek at Flanders Stage
DESCRIPTION:Doug Farrell\, Steve Dionne\, and Jack Henry are each accomplished NH musicians\, singer/songwriters\, and performers who together are – Decatur Creek. \nThe 2016 addition of Beth Eldridge (The Bradford Bog People and The Hardtacks) on fiddle\, vocals\, and guitar has taken the band to another level. \nTheir diverse styles complement one another and the group’s evolving original acoustic sound will bring a smile to your face\, rhythm to your feet\, and leave you wanting for more \n\n\n	Related
URL:https://lake-sunapee-living.com/event/live-music-decatur-creek-at-flanders-stage/
LOCATION:Flanders Stage\, 125 Main St\, Sunapee\, NH\, 03782\, United States
CATEGORIES:Free Outdoor Concert
GEO:43.3852084;-72.0809835
X-APPLE-STRUCTURED-LOCATION;VALUE=URI;X-ADDRESS=Flanders Stage 125 Main St Sunapee NH 03782 United States;X-APPLE-RADIUS=500;X-TITLE=125 Main St:geo:-72.0809835,43.3852084
END:VEVENT
BEGIN:VEVENT
DTSTART;TZID=America/New_York:20180728T170000
DTEND;TZID=America/New_York:20180728T190000
DTSTAMP:20260424T175100
CREATED:20180606T154502Z
LAST-MODIFIED:20180606T154522Z
UID:10000407-1532797200-1532804400@lake-sunapee-living.com
SUMMARY:Live Music: Jim Hollis at Flanders Stage
DESCRIPTION:Jim Hollis is a personable\, energetic\, and dynamic one-man pop-rock act\, providing live musical entertainment\, with special emphasis on 60′s and 70′s pop and rock classics. \nWith a pure and powerful vocal character\, accompanied by six string guitar\, Jim puts forth an unmatched selection of classic hits for audiences of all ages. \nJim is a vocal stylist\, taking special care to preserve the original arrangement of the song as remembered by the listener. \n\n\n	Related
URL:https://lake-sunapee-living.com/event/live-music-jim-hollis-at-flanders-stage/
LOCATION:Flanders Stage\, 125 Main St\, Sunapee\, NH\, 03782\, United States
CATEGORIES:Free Outdoor Concert
GEO:43.3852084;-72.0809835
X-APPLE-STRUCTURED-LOCATION;VALUE=URI;X-ADDRESS=Flanders Stage 125 Main St Sunapee NH 03782 United States;X-APPLE-RADIUS=500;X-TITLE=125 Main St:geo:-72.0809835,43.3852084
END:VEVENT
BEGIN:VEVENT
DTSTART;TZID=America/New_York:20180721T170000
DTEND;TZID=America/New_York:20180721T190000
DTSTAMP:20260424T175100
CREATED:20180606T154209Z
LAST-MODIFIED:20180606T154209Z
UID:10000406-1532192400-1532199600@lake-sunapee-living.com
SUMMARY:Live Music: Entangled Strings at Flanders Stage
DESCRIPTION:Entangled Strings emphasizes tight harmonies and melodic wanderings on a variety of stringed instruments while playing folk\, country and Americana songs. \n\n\n	Related
URL:https://lake-sunapee-living.com/event/live-music-entangled-strings-at-flanders-stage/
LOCATION:Flanders Stage\, 125 Main St\, Sunapee\, NH\, 03782\, United States
CATEGORIES:Free Outdoor Concert
GEO:43.3852084;-72.0809835
X-APPLE-STRUCTURED-LOCATION;VALUE=URI;X-ADDRESS=Flanders Stage 125 Main St Sunapee NH 03782 United States;X-APPLE-RADIUS=500;X-TITLE=125 Main St:geo:-72.0809835,43.3852084
END:VEVENT
BEGIN:VEVENT
DTSTART;TZID=America/New_York:20180714T190000
DTEND;TZID=America/New_York:20180714T210000
DTSTAMP:20260424T175100
CREATED:20180606T153809Z
LAST-MODIFIED:20180606T153901Z
UID:10000405-1531594800-1531602000@lake-sunapee-living.com
SUMMARY:Live Music: Mark & Deb Bond at Flanders Stage
DESCRIPTION:They have been musical collaborators for 19 years\, and partners for 13 of those 19. Playing in a variety of bands during that time frame\, (Wildheart\, Vehicle\, The Larry Mitchell Band\, Mistress\, Last Kid Picked\, Acid Bran\, The Jaye Muller Band) Mark & Deb had always found that one thing was constant – each other.  \nSo when the time was right\, the formation of a musical duo seemed only logical….. \n\n\n	Related
URL:https://lake-sunapee-living.com/event/live-music-mark-deb-bond-at-flanders-stage/
LOCATION:Flanders Stage\, 125 Main St\, Sunapee\, NH\, 03782\, United States
CATEGORIES:Free Outdoor Concert
GEO:43.3852084;-72.0809835
X-APPLE-STRUCTURED-LOCATION;VALUE=URI;X-ADDRESS=Flanders Stage 125 Main St Sunapee NH 03782 United States;X-APPLE-RADIUS=500;X-TITLE=125 Main St:geo:-72.0809835,43.3852084
END:VEVENT
BEGIN:VEVENT
DTSTART;TZID=America/New_York:20180707T170000
DTEND;TZID=America/New_York:20180707T190000
DTSTAMP:20260424T175100
CREATED:20180606T151913Z
LAST-MODIFIED:20180606T151913Z
UID:10000404-1530982800-1530990000@lake-sunapee-living.com
SUMMARY:Live Music: Kid Pinky and His Restless Knights at Flanders Stage
DESCRIPTION:Accompanied by three highly talented bluesmen from the New Hampshire area\, Kid Pinky is a throwback to the future. \nWhile paying homage to the blues from the 40s and 50s\, as well as New Orleans funk and jazz\, they have assimilated their influences to conceive an entirely innovative and original sound. \n\n\n	Related
URL:https://lake-sunapee-living.com/event/live-music-kid-pinky-and-his-restless-knights-at-flanders-stage/
LOCATION:Flanders Stage\, 125 Main St\, Sunapee\, NH\, 03782\, United States
CATEGORIES:Concert
GEO:43.3852084;-72.0809835
X-APPLE-STRUCTURED-LOCATION;VALUE=URI;X-ADDRESS=Flanders Stage 125 Main St Sunapee NH 03782 United States;X-APPLE-RADIUS=500;X-TITLE=125 Main St:geo:-72.0809835,43.3852084
END:VEVENT
BEGIN:VEVENT
DTSTART;TZID=America/New_York:20180704T140000
DTEND;TZID=America/New_York:20180704T160000
DTSTAMP:20260424T175100
CREATED:20180606T151605Z
LAST-MODIFIED:20180606T151605Z
UID:10000398-1530712800-1530720000@lake-sunapee-living.com
SUMMARY:Live Music: The Click Horning Trio at Flanders Stage
DESCRIPTION:Free outdoor concert \nAudiences are instantly drawn to Click Horning’s warm stage presence\, mellow sense of humor\, rich vocal quality and top-notch numbers such as Oh Marie \, December Nights \, Wildflower\, Row Your Own Boat \, and Message of Love \, to name a few. \n\n\n	Related
URL:https://lake-sunapee-living.com/event/live-music-the-click-horning-trio-at-flanders-stage/
LOCATION:Flanders Stage\, 125 Main St\, Sunapee\, NH\, 03782\, United States
CATEGORIES:Concert
GEO:43.3852084;-72.0809835
X-APPLE-STRUCTURED-LOCATION;VALUE=URI;X-ADDRESS=Flanders Stage 125 Main St Sunapee NH 03782 United States;X-APPLE-RADIUS=500;X-TITLE=125 Main St:geo:-72.0809835,43.3852084
END:VEVENT
END:VCALENDAR