BEGIN:VCALENDAR
VERSION:2.0
PRODID:-//Lake Sunapee Living - ECPv6.15.13//NONSGML v1.0//EN
CALSCALE:GREGORIAN
METHOD:PUBLISH
X-WR-CALNAME:Lake Sunapee Living
X-ORIGINAL-URL:https://lake-sunapee-living.com
X-WR-CALDESC:Events for Lake Sunapee Living
REFRESH-INTERVAL;VALUE=DURATION:PT1H
X-Robots-Tag:noindex
X-PUBLISHED-TTL:PT1H
BEGIN:VTIMEZONE
TZID:America/New_York
BEGIN:DAYLIGHT
TZOFFSETFROM:-0500
TZOFFSETTO:-0400
TZNAME:EDT
DTSTART:20170312T070000
END:DAYLIGHT
BEGIN:STANDARD
TZOFFSETFROM:-0400
TZOFFSETTO:-0500
TZNAME:EST
DTSTART:20171105T060000
END:STANDARD
BEGIN:DAYLIGHT
TZOFFSETFROM:-0500
TZOFFSETTO:-0400
TZNAME:EDT
DTSTART:20180311T070000
END:DAYLIGHT
BEGIN:STANDARD
TZOFFSETFROM:-0400
TZOFFSETTO:-0500
TZNAME:EST
DTSTART:20181104T060000
END:STANDARD
BEGIN:DAYLIGHT
TZOFFSETFROM:-0500
TZOFFSETTO:-0400
TZNAME:EDT
DTSTART:20190310T070000
END:DAYLIGHT
BEGIN:STANDARD
TZOFFSETFROM:-0400
TZOFFSETTO:-0500
TZNAME:EST
DTSTART:20191103T060000
END:STANDARD
BEGIN:DAYLIGHT
TZOFFSETFROM:-0500
TZOFFSETTO:-0400
TZNAME:EDT
DTSTART:20200308T070000
END:DAYLIGHT
BEGIN:STANDARD
TZOFFSETFROM:-0400
TZOFFSETTO:-0500
TZNAME:EST
DTSTART:20201101T060000
END:STANDARD
BEGIN:DAYLIGHT
TZOFFSETFROM:-0500
TZOFFSETTO:-0400
TZNAME:EDT
DTSTART:20210314T070000
END:DAYLIGHT
BEGIN:STANDARD
TZOFFSETFROM:-0400
TZOFFSETTO:-0500
TZNAME:EST
DTSTART:20211107T060000
END:STANDARD
BEGIN:DAYLIGHT
TZOFFSETFROM:-0500
TZOFFSETTO:-0400
TZNAME:EDT
DTSTART:20220313T070000
END:DAYLIGHT
BEGIN:STANDARD
TZOFFSETFROM:-0400
TZOFFSETTO:-0500
TZNAME:EST
DTSTART:20221106T060000
END:STANDARD
BEGIN:DAYLIGHT
TZOFFSETFROM:-0500
TZOFFSETTO:-0400
TZNAME:EDT
DTSTART:20230312T070000
END:DAYLIGHT
BEGIN:STANDARD
TZOFFSETFROM:-0400
TZOFFSETTO:-0500
TZNAME:EST
DTSTART:20231105T060000
END:STANDARD
END:VTIMEZONE
BEGIN:VEVENT
DTSTART;TZID=America/New_York:20220707T190000
DTEND;TZID=America/New_York:20220707T210000
DTSTAMP:20260424T190207
CREATED:20220613T005041Z
LAST-MODIFIED:20220613T024345Z
UID:10000597-1657220400-1657227600@lake-sunapee-living.com
SUMMARY:Live Music: Frisson Ensemble at the First Baptist Church
DESCRIPTION:Frisson Ensemble\n11 of NYC’s Finest Young Musicians\nFrom Bach to Bolero!\nTickets: Adults $25 Students $5\nwww.summermusicassociates.org\n603-526-8234\nOr at the door \n\n\n	Related
URL:https://lake-sunapee-living.com/event/live-music-frisson-ensemble-at-the-sawyer-theater/
LOCATION:First Baptist Church\, 461 Main St\, New London\, NH\, 03257\, United States
CATEGORIES:Live Music
GEO:43.4126675;-71.9799976
X-APPLE-STRUCTURED-LOCATION;VALUE=URI;X-ADDRESS=First Baptist Church 461 Main St New London NH 03257 United States;X-APPLE-RADIUS=500;X-TITLE=461 Main St:geo:-71.9799976,43.4126675
END:VEVENT
BEGIN:VEVENT
DTSTART;TZID=America/New_York:20180809T193000
DTEND;TZID=America/New_York:20180809T210000
DTSTAMP:20260424T190207
CREATED:20180511T003300Z
LAST-MODIFIED:20180511T003319Z
UID:10000274-1533843000-1533848400@lake-sunapee-living.com
SUMMARY:Summer Music Associates Concert: Altius String Quartet
DESCRIPTION:Back by extremely popular demand! \nSchubert\, Mendelssohn\, Shostakovich \nMore information \n\n\n	Related
URL:https://lake-sunapee-living.com/event/summer-music-associates-concert-altius-string-quartet/
LOCATION:First Baptist Church\, 461 Main St\, New London\, NH\, 03257\, United States
CATEGORIES:Concert
GEO:43.4126675;-71.9799976
X-APPLE-STRUCTURED-LOCATION;VALUE=URI;X-ADDRESS=First Baptist Church 461 Main St New London NH 03257 United States;X-APPLE-RADIUS=500;X-TITLE=461 Main St:geo:-71.9799976,43.4126675
END:VEVENT
BEGIN:VEVENT
DTSTART;TZID=America/New_York:20180726T193000
DTEND;TZID=America/New_York:20180726T210000
DTSTAMP:20260424T190207
CREATED:20180509T004306Z
LAST-MODIFIED:20180509T004306Z
UID:10000254-1532633400-1532638800@lake-sunapee-living.com
SUMMARY:Summer Music Associates Concert: Anastasia Robinson
DESCRIPTION:ANASTASIA ROBINSON\, SOPRANO – THURSDAY\, JULY 26 \nA Program of Folksongs and Popular Songs \nOne of our own stars lighting up the night! \nBartok\, Dvorák\, Obradors\, Aldridge\, Beach \nFirst Baptist Church\, New London \nMore information \n\n\n	Related
URL:https://lake-sunapee-living.com/event/summer-music-associates-concert-anastasia-robinson/
LOCATION:First Baptist Church\, 461 Main St\, New London\, NH\, 03257\, United States
CATEGORIES:Concert
GEO:43.4126675;-71.9799976
X-APPLE-STRUCTURED-LOCATION;VALUE=URI;X-ADDRESS=First Baptist Church 461 Main St New London NH 03257 United States;X-APPLE-RADIUS=500;X-TITLE=461 Main St:geo:-71.9799976,43.4126675
END:VEVENT
BEGIN:VEVENT
DTSTART;TZID=America/New_York:20180712T193000
DTEND;TZID=America/New_York:20180712T210000
DTSTAMP:20260424T190207
CREATED:20180511T003003Z
LAST-MODIFIED:20180511T003003Z
UID:10000273-1531423800-1531429200@lake-sunapee-living.com
SUMMARY:Summer Music Associates Concert: Washington Saxophone Quartet
DESCRIPTION:Saxophones as you have never heard them played before! \nBach\, Galilei\, Respighi\, Ravel\, Arbeau\, Warlock\, Bernstein\, D’Rivera\, Piazzolla \nFirst Baptist Church\, New London \nMore information \n\n\n	Related
URL:https://lake-sunapee-living.com/event/summer-music-associates-concert-washington-saxophone-quartet/
LOCATION:First Baptist Church\, 461 Main St\, New London\, NH\, 03257\, United States
CATEGORIES:Concert
GEO:43.4126675;-71.9799976
X-APPLE-STRUCTURED-LOCATION;VALUE=URI;X-ADDRESS=First Baptist Church 461 Main St New London NH 03257 United States;X-APPLE-RADIUS=500;X-TITLE=461 Main St:geo:-71.9799976,43.4126675
END:VEVENT
END:VCALENDAR