BEGIN:VCALENDAR
VERSION:2.0
PRODID:-//Lake Sunapee Living - ECPv6.15.13//NONSGML v1.0//EN
CALSCALE:GREGORIAN
METHOD:PUBLISH
X-WR-CALNAME:Lake Sunapee Living
X-ORIGINAL-URL:https://lake-sunapee-living.com
X-WR-CALDESC:Events for Lake Sunapee Living
REFRESH-INTERVAL;VALUE=DURATION:PT1H
X-Robots-Tag:noindex
X-PUBLISHED-TTL:PT1H
BEGIN:VTIMEZONE
TZID:America/New_York
BEGIN:DAYLIGHT
TZOFFSETFROM:-0500
TZOFFSETTO:-0400
TZNAME:EDT
DTSTART:20170312T070000
END:DAYLIGHT
BEGIN:STANDARD
TZOFFSETFROM:-0400
TZOFFSETTO:-0500
TZNAME:EST
DTSTART:20171105T060000
END:STANDARD
BEGIN:DAYLIGHT
TZOFFSETFROM:-0500
TZOFFSETTO:-0400
TZNAME:EDT
DTSTART:20180311T070000
END:DAYLIGHT
BEGIN:STANDARD
TZOFFSETFROM:-0400
TZOFFSETTO:-0500
TZNAME:EST
DTSTART:20181104T060000
END:STANDARD
BEGIN:DAYLIGHT
TZOFFSETFROM:-0500
TZOFFSETTO:-0400
TZNAME:EDT
DTSTART:20190310T070000
END:DAYLIGHT
BEGIN:STANDARD
TZOFFSETFROM:-0400
TZOFFSETTO:-0500
TZNAME:EST
DTSTART:20191103T060000
END:STANDARD
BEGIN:DAYLIGHT
TZOFFSETFROM:-0500
TZOFFSETTO:-0400
TZNAME:EDT
DTSTART:20200308T070000
END:DAYLIGHT
BEGIN:STANDARD
TZOFFSETFROM:-0400
TZOFFSETTO:-0500
TZNAME:EST
DTSTART:20201101T060000
END:STANDARD
BEGIN:DAYLIGHT
TZOFFSETFROM:-0500
TZOFFSETTO:-0400
TZNAME:EDT
DTSTART:20210314T070000
END:DAYLIGHT
BEGIN:STANDARD
TZOFFSETFROM:-0400
TZOFFSETTO:-0500
TZNAME:EST
DTSTART:20211107T060000
END:STANDARD
BEGIN:DAYLIGHT
TZOFFSETFROM:-0500
TZOFFSETTO:-0400
TZNAME:EDT
DTSTART:20220313T070000
END:DAYLIGHT
BEGIN:STANDARD
TZOFFSETFROM:-0400
TZOFFSETTO:-0500
TZNAME:EST
DTSTART:20221106T060000
END:STANDARD
BEGIN:DAYLIGHT
TZOFFSETFROM:-0500
TZOFFSETTO:-0400
TZNAME:EDT
DTSTART:20230312T070000
END:DAYLIGHT
BEGIN:STANDARD
TZOFFSETFROM:-0400
TZOFFSETTO:-0500
TZNAME:EST
DTSTART:20231105T060000
END:STANDARD
BEGIN:DAYLIGHT
TZOFFSETFROM:-0500
TZOFFSETTO:-0400
TZNAME:EDT
DTSTART:20240310T070000
END:DAYLIGHT
BEGIN:STANDARD
TZOFFSETFROM:-0400
TZOFFSETTO:-0500
TZNAME:EST
DTSTART:20241103T060000
END:STANDARD
BEGIN:DAYLIGHT
TZOFFSETFROM:-0500
TZOFFSETTO:-0400
TZNAME:EDT
DTSTART:20250309T070000
END:DAYLIGHT
BEGIN:STANDARD
TZOFFSETFROM:-0400
TZOFFSETTO:-0500
TZNAME:EST
DTSTART:20251102T060000
END:STANDARD
BEGIN:DAYLIGHT
TZOFFSETFROM:-0500
TZOFFSETTO:-0400
TZNAME:EDT
DTSTART:20260308T070000
END:DAYLIGHT
BEGIN:STANDARD
TZOFFSETFROM:-0400
TZOFFSETTO:-0500
TZNAME:EST
DTSTART:20261101T060000
END:STANDARD
END:VTIMEZONE
BEGIN:VEVENT
DTSTART;TZID=America/New_York:20250821T190000
DTEND;TZID=America/New_York:20250821T210000
DTSTAMP:20260424T175429
CREATED:20250615T161435Z
LAST-MODIFIED:20250615T161518Z
UID:10004590-1755802800-1755810000@lake-sunapee-living.com
SUMMARY:Live Music: The Ellington Collective
DESCRIPTION:Summer Music Associates is celebrating its 52nd season this summer! \nThe Ellington Collective \nAn All-star Tribute To Jazz Legend Duke Ellington! \nDanmoretti.com/biography \nWe are a non-profit organization whose mission is to bring distinctive and diverse classical and jazz performances to our beautiful Lake Sunapee area. \nWe hope you enjoy the 2025 concert series. \nAll concerts begin at 7:00 PM in New London\, NH \n\n\n	Related
URL:https://lake-sunapee-living.com/event/live-music-the-ellington-collective/
LOCATION:First Baptist Church\, 461 Main St\, New London\, NH\, 03257\, United States
CATEGORIES:Live Music
GEO:43.4126675;-71.9799976
X-APPLE-STRUCTURED-LOCATION;VALUE=URI;X-ADDRESS=First Baptist Church 461 Main St New London NH 03257 United States;X-APPLE-RADIUS=500;X-TITLE=461 Main St:geo:-71.9799976,43.4126675
END:VEVENT
BEGIN:VEVENT
DTSTART;TZID=America/New_York:20250807T190000
DTEND;TZID=America/New_York:20250807T210000
DTSTAMP:20260424T175429
CREATED:20250707T224529Z
LAST-MODIFIED:20250707T224544Z
UID:10004615-1754593200-1754600400@lake-sunapee-living.com
SUMMARY:Live Music: Manhattan Chamber Players At The First Baptist Church
DESCRIPTION:Live Music: Manhattan Chamber Players At The First Baptist Church \nViolin\, Cello\, Viola\, Flute \nMozart\, Beethoven\, Glière\, Devienne \n“…a mellifluous blend of vigorous intensity and dramatic import…enthusiasm\, technical facility and impressive balance” \nTHE PROGRAM: \nW.A. Mozart (1756 – 1797)\nFlute Quartet No. 4 in A major\, K. 298 (1781)\nLudwig van Beethoven (1770 – 1827)\nSerenade for Flute\, Violin\, and Viola in D major\, Op. 25 (1796)\nIntermission\nReinhold Glière (1875 – 1956)\nSelections from Eight Pieces for Violin and Cello\, Op. 39 (1909)\nFrançois Devienne (1759 – 1803)\nDuo for Flute and Viola in C minor\, Op. 5 no. 3 (1786)\nW.A. Mozart (1756 – 1791)\nFlute Quartet No. 1 in D major\, K. 285 (1778)\nManhattanchamberplayers.com \n\n\n	Related
URL:https://lake-sunapee-living.com/event/live-music-manhattan-chamber-players-at-the-first-baptist-church/
LOCATION:First Baptist Church\, 461 Main St\, New London\, NH\, 03257\, United States
CATEGORIES:Live Music
GEO:43.4126675;-71.9799976
X-APPLE-STRUCTURED-LOCATION;VALUE=URI;X-ADDRESS=First Baptist Church 461 Main St New London NH 03257 United States;X-APPLE-RADIUS=500;X-TITLE=461 Main St:geo:-71.9799976,43.4126675
END:VEVENT
BEGIN:VEVENT
DTSTART;TZID=America/New_York:20250724T190000
DTEND;TZID=America/New_York:20250724T210000
DTSTAMP:20260424T175429
CREATED:20250615T161252Z
LAST-MODIFIED:20250615T161252Z
UID:10004589-1753383600-1753390800@lake-sunapee-living.com
SUMMARY:Live Music: Frederick Moyer and The Fred Moyer Jazz Trio
DESCRIPTION:Live Music: Summer Music Associates \nFrederick Moyer and The Fred Moyer Jazz Trio \nClassical Piano And Classical Jazz! \nFrederickMoyer.com \nSummer Music Associates is celebrating its 52nd season this summer! \nWe are a non-profit organization whose mission is to bring distinctive and diverse classical and jazz performances to our beautiful Lake Sunapee area. \nWe hope you enjoy the 2025 concert series. \nAll concerts begin at 7:00 PM in New London\, NH \n\n\n	Related
URL:https://lake-sunapee-living.com/event/live-music-frederick-moyer-and-the-fred-moyer-jazz-trio/
LOCATION:First Baptist Church\, 461 Main St\, New London\, NH\, 03257\, United States
CATEGORIES:Live Music
GEO:43.4126675;-71.9799976
X-APPLE-STRUCTURED-LOCATION;VALUE=URI;X-ADDRESS=First Baptist Church 461 Main St New London NH 03257 United States;X-APPLE-RADIUS=500;X-TITLE=461 Main St:geo:-71.9799976,43.4126675
END:VEVENT
BEGIN:VEVENT
DTSTART;TZID=America/New_York:20250710T190000
DTEND;TZID=America/New_York:20250710T210000
DTSTAMP:20260424T175429
CREATED:20250615T160432Z
LAST-MODIFIED:20250615T160432Z
UID:10004588-1752174000-1752181200@lake-sunapee-living.com
SUMMARY:Live Music: Riverside Brass Quintet at the First Baptist Church
DESCRIPTION:Live Music: Summer Music Associates \nRiverside Brass Quintet \nLed By Geoffrey Shamu\, Trumpet \nSummer Music Associates is celebrating its 52nd season this summer! \nWe are a non-profit organization whose mission is to bring distinctive and diverse classical and jazz performances to our beautiful Lake Sunapee area. \nWe hope you enjoy the 2025 concert series. \nAll concerts begin at 7:00 PM in New London\, NH \nShamu\, Geoffrey \n \n\n\n	Related
URL:https://lake-sunapee-living.com/event/live-music-riverside-brass-quintet-at-the-first-baptist-church/
LOCATION:First Baptist Church\, 461 Main St\, New London\, NH\, 03257\, United States
CATEGORIES:Live Music
GEO:43.4126675;-71.9799976
X-APPLE-STRUCTURED-LOCATION;VALUE=URI;X-ADDRESS=First Baptist Church 461 Main St New London NH 03257 United States;X-APPLE-RADIUS=500;X-TITLE=461 Main St:geo:-71.9799976,43.4126675
END:VEVENT
BEGIN:VEVENT
DTSTART;TZID=America/New_York:20240808T190000
DTEND;TZID=America/New_York:20240808T210000
DTSTAMP:20260424T175429
CREATED:20240530T232911Z
LAST-MODIFIED:20240530T233007Z
UID:10004179-1723143600-1723150800@lake-sunapee-living.com
SUMMARY:Live Music: Alias Brass
DESCRIPTION:A blend of virtuoso musicianship with a high level of entertainment. \nFirst Baptist Church at 7 PM\nTickets: Adults $25 Students $5\nwww.summermusicassociates.org\n603-526-8234 or at the door \nEvent date\n2024-08-08 \n\n\n	Related
URL:https://lake-sunapee-living.com/event/live-music-alias-brass/
LOCATION:First Baptist Church\, 461 Main St\, New London\, NH\, 03257\, United States
CATEGORIES:Live Music
GEO:43.4126675;-71.9799976
X-APPLE-STRUCTURED-LOCATION;VALUE=URI;X-ADDRESS=First Baptist Church 461 Main St New London NH 03257 United States;X-APPLE-RADIUS=500;X-TITLE=461 Main St:geo:-71.9799976,43.4126675
END:VEVENT
BEGIN:VEVENT
DTSTART;TZID=America/New_York:20240725T190000
DTEND;TZID=America/New_York:20240725T210000
DTSTAMP:20260424T175429
CREATED:20240530T233202Z
LAST-MODIFIED:20240530T233202Z
UID:10004180-1721934000-1721941200@lake-sunapee-living.com
SUMMARY:Live Music: Paul Bisaccia\, Pianist
DESCRIPTION:A special homage to Paul’s great\, great musical grandfathers \nBeethoven’s “Waldstein” Sonata\nHaydn\, Czerny and Liszt \nFirst Baptist Church at 7 PM\nTickets: Adults $25 Students $5\nwww.summermusicassociates.org\n603-526-8234 or at the door \n\n\n	Related
URL:https://lake-sunapee-living.com/event/live-music-paul-bisaccia-pianist/
LOCATION:First Baptist Church\, 461 Main St\, New London\, NH\, 03257\, United States
CATEGORIES:Live Music
GEO:43.4126675;-71.9799976
X-APPLE-STRUCTURED-LOCATION;VALUE=URI;X-ADDRESS=First Baptist Church 461 Main St New London NH 03257 United States;X-APPLE-RADIUS=500;X-TITLE=461 Main St:geo:-71.9799976,43.4126675
END:VEVENT
BEGIN:VEVENT
DTSTART;TZID=America/New_York:20240711T190000
DTEND;TZID=America/New_York:20240711T210000
DTSTAMP:20260424T175429
CREATED:20240530T233628Z
LAST-MODIFIED:20240530T233644Z
UID:10004181-1720724400-1720731600@lake-sunapee-living.com
SUMMARY:Live Music: The Texas Guitar Quartet
DESCRIPTION:First Baptist Church in New London at 7 PM \nOne of the country’s best guitar quartets! \nTickets: Adults $25 Students $5\nwww.summermusicassociates.org\n603-526-8234 or at the door \n\n\n	Related
URL:https://lake-sunapee-living.com/event/live-music-the-texas-guitar-quartet/
LOCATION:First Baptist Church\, 461 Main St\, New London\, NH\, 03257\, United States
CATEGORIES:Live Music
GEO:43.4126675;-71.9799976
X-APPLE-STRUCTURED-LOCATION;VALUE=URI;X-ADDRESS=First Baptist Church 461 Main St New London NH 03257 United States;X-APPLE-RADIUS=500;X-TITLE=461 Main St:geo:-71.9799976,43.4126675
END:VEVENT
BEGIN:VEVENT
DTSTART;TZID=America/New_York:20220818T190000
DTEND;TZID=America/New_York:20220818T210000
DTSTAMP:20260424T175429
CREATED:20220613T024714Z
LAST-MODIFIED:20220613T031423Z
UID:10004123-1660849200-1660856400@lake-sunapee-living.com
SUMMARY:Live Music: Fred Moyer Jazz Trio at the First Baptist Church
DESCRIPTION:Fred Moyer Jazz Trio\nClassical Piano and Classic Jazz Trios \nTickets: Adults $25 Students $5\nwww.summermusicassociates.org\n603-526-8234\nOr at the door \n\n\n	Related
URL:https://lake-sunapee-living.com/event/live-music-fred-moyer-jazz-trio-at-the-first-baptist-church/
LOCATION:First Baptist Church\, 461 Main St\, New London\, NH\, 03257\, United States
GEO:43.4126675;-71.9799976
X-APPLE-STRUCTURED-LOCATION;VALUE=URI;X-ADDRESS=First Baptist Church 461 Main St New London NH 03257 United States;X-APPLE-RADIUS=500;X-TITLE=461 Main St:geo:-71.9799976,43.4126675
END:VEVENT
BEGIN:VEVENT
DTSTART;TZID=America/New_York:20220804T190000
DTEND;TZID=America/New_York:20220804T210000
DTSTAMP:20260424T175429
CREATED:20220613T024515Z
LAST-MODIFIED:20220613T024515Z
UID:10000579-1659639600-1659646800@lake-sunapee-living.com
SUMMARY:Live Music: Pandolfi-Deutsch Duo at the First Baptist Church
DESCRIPTION:Pandolfi-Deutsch Duo\nFlying Keys and Dazzling Strings!\nRockstars Through the Ages \nTickets: Adults $25 Students $5\nwww.summermusicassociates.org\n603-526-8234\nOr at the door \n\n\n	Related
URL:https://lake-sunapee-living.com/event/live-music-pandolfi-deutsch-duo-at-the-first-baptist-church/
LOCATION:First Baptist Church\, 461 Main St\, New London\, NH\, 03257\, United States
CATEGORIES:Live Music
GEO:43.4126675;-71.9799976
X-APPLE-STRUCTURED-LOCATION;VALUE=URI;X-ADDRESS=First Baptist Church 461 Main St New London NH 03257 United States;X-APPLE-RADIUS=500;X-TITLE=461 Main St:geo:-71.9799976,43.4126675
END:VEVENT
BEGIN:VEVENT
DTSTART;TZID=America/New_York:20220721T190000
DTEND;TZID=America/New_York:20220721T210000
DTSTAMP:20260424T175429
CREATED:20220613T005216Z
LAST-MODIFIED:20220613T005409Z
UID:10000564-1658430000-1658437200@lake-sunapee-living.com
SUMMARY:Live Music: Beacon Brass Quintet at the Sawyer Theater
DESCRIPTION:Beacon Brass Quintet\nClassical\, Pops\, and Jazz\nTickets: Adults $25 Students $5\nwww.summermusicassociates.org\n603-526-8234\nOr at the door \n\n\n	Related
URL:https://lake-sunapee-living.com/event/live-music-beacon-brass-quintet-at-the-sawyer-theater/
LOCATION:First Baptist Church\, 461 Main St\, New London\, NH\, 03257\, United States
CATEGORIES:Live Music
GEO:43.4126675;-71.9799976
X-APPLE-STRUCTURED-LOCATION;VALUE=URI;X-ADDRESS=First Baptist Church 461 Main St New London NH 03257 United States;X-APPLE-RADIUS=500;X-TITLE=461 Main St:geo:-71.9799976,43.4126675
END:VEVENT
BEGIN:VEVENT
DTSTART;TZID=America/New_York:20220707T190000
DTEND;TZID=America/New_York:20220707T210000
DTSTAMP:20260424T175429
CREATED:20220613T005041Z
LAST-MODIFIED:20220613T024345Z
UID:10000597-1657220400-1657227600@lake-sunapee-living.com
SUMMARY:Live Music: Frisson Ensemble at the First Baptist Church
DESCRIPTION:Frisson Ensemble\n11 of NYC’s Finest Young Musicians\nFrom Bach to Bolero!\nTickets: Adults $25 Students $5\nwww.summermusicassociates.org\n603-526-8234\nOr at the door \n\n\n	Related
URL:https://lake-sunapee-living.com/event/live-music-frisson-ensemble-at-the-sawyer-theater/
LOCATION:First Baptist Church\, 461 Main St\, New London\, NH\, 03257\, United States
CATEGORIES:Live Music
GEO:43.4126675;-71.9799976
X-APPLE-STRUCTURED-LOCATION;VALUE=URI;X-ADDRESS=First Baptist Church 461 Main St New London NH 03257 United States;X-APPLE-RADIUS=500;X-TITLE=461 Main St:geo:-71.9799976,43.4126675
END:VEVENT
BEGIN:VEVENT
DTSTART;TZID=America/New_York:20180809T193000
DTEND;TZID=America/New_York:20180809T210000
DTSTAMP:20260424T175429
CREATED:20180511T003300Z
LAST-MODIFIED:20180511T003319Z
UID:10000274-1533843000-1533848400@lake-sunapee-living.com
SUMMARY:Summer Music Associates Concert: Altius String Quartet
DESCRIPTION:Back by extremely popular demand! \nSchubert\, Mendelssohn\, Shostakovich \nMore information \n\n\n	Related
URL:https://lake-sunapee-living.com/event/summer-music-associates-concert-altius-string-quartet/
LOCATION:First Baptist Church\, 461 Main St\, New London\, NH\, 03257\, United States
CATEGORIES:Concert
GEO:43.4126675;-71.9799976
X-APPLE-STRUCTURED-LOCATION;VALUE=URI;X-ADDRESS=First Baptist Church 461 Main St New London NH 03257 United States;X-APPLE-RADIUS=500;X-TITLE=461 Main St:geo:-71.9799976,43.4126675
END:VEVENT
BEGIN:VEVENT
DTSTART;TZID=America/New_York:20180726T193000
DTEND;TZID=America/New_York:20180726T210000
DTSTAMP:20260424T175429
CREATED:20180509T004306Z
LAST-MODIFIED:20180509T004306Z
UID:10000254-1532633400-1532638800@lake-sunapee-living.com
SUMMARY:Summer Music Associates Concert: Anastasia Robinson
DESCRIPTION:ANASTASIA ROBINSON\, SOPRANO – THURSDAY\, JULY 26 \nA Program of Folksongs and Popular Songs \nOne of our own stars lighting up the night! \nBartok\, Dvorák\, Obradors\, Aldridge\, Beach \nFirst Baptist Church\, New London \nMore information \n\n\n	Related
URL:https://lake-sunapee-living.com/event/summer-music-associates-concert-anastasia-robinson/
LOCATION:First Baptist Church\, 461 Main St\, New London\, NH\, 03257\, United States
CATEGORIES:Concert
GEO:43.4126675;-71.9799976
X-APPLE-STRUCTURED-LOCATION;VALUE=URI;X-ADDRESS=First Baptist Church 461 Main St New London NH 03257 United States;X-APPLE-RADIUS=500;X-TITLE=461 Main St:geo:-71.9799976,43.4126675
END:VEVENT
BEGIN:VEVENT
DTSTART;TZID=America/New_York:20180712T193000
DTEND;TZID=America/New_York:20180712T210000
DTSTAMP:20260424T175429
CREATED:20180511T003003Z
LAST-MODIFIED:20180511T003003Z
UID:10000273-1531423800-1531429200@lake-sunapee-living.com
SUMMARY:Summer Music Associates Concert: Washington Saxophone Quartet
DESCRIPTION:Saxophones as you have never heard them played before! \nBach\, Galilei\, Respighi\, Ravel\, Arbeau\, Warlock\, Bernstein\, D’Rivera\, Piazzolla \nFirst Baptist Church\, New London \nMore information \n\n\n	Related
URL:https://lake-sunapee-living.com/event/summer-music-associates-concert-washington-saxophone-quartet/
LOCATION:First Baptist Church\, 461 Main St\, New London\, NH\, 03257\, United States
CATEGORIES:Concert
GEO:43.4126675;-71.9799976
X-APPLE-STRUCTURED-LOCATION;VALUE=URI;X-ADDRESS=First Baptist Church 461 Main St New London NH 03257 United States;X-APPLE-RADIUS=500;X-TITLE=461 Main St:geo:-71.9799976,43.4126675
END:VEVENT
END:VCALENDAR