BEGIN:VCALENDAR
VERSION:2.0
PRODID:-//Lake Sunapee Living - ECPv6.15.13//NONSGML v1.0//EN
CALSCALE:GREGORIAN
METHOD:PUBLISH
X-ORIGINAL-URL:https://lake-sunapee-living.com
X-WR-CALDESC:Events for Lake Sunapee Living
REFRESH-INTERVAL;VALUE=DURATION:PT1H
X-Robots-Tag:noindex
X-PUBLISHED-TTL:PT1H
BEGIN:VTIMEZONE
TZID:America/New_York
BEGIN:DAYLIGHT
TZOFFSETFROM:-0500
TZOFFSETTO:-0400
TZNAME:EDT
DTSTART:20170312T070000
END:DAYLIGHT
BEGIN:STANDARD
TZOFFSETFROM:-0400
TZOFFSETTO:-0500
TZNAME:EST
DTSTART:20171105T060000
END:STANDARD
BEGIN:DAYLIGHT
TZOFFSETFROM:-0500
TZOFFSETTO:-0400
TZNAME:EDT
DTSTART:20180311T070000
END:DAYLIGHT
BEGIN:STANDARD
TZOFFSETFROM:-0400
TZOFFSETTO:-0500
TZNAME:EST
DTSTART:20181104T060000
END:STANDARD
BEGIN:DAYLIGHT
TZOFFSETFROM:-0500
TZOFFSETTO:-0400
TZNAME:EDT
DTSTART:20190310T070000
END:DAYLIGHT
BEGIN:STANDARD
TZOFFSETFROM:-0400
TZOFFSETTO:-0500
TZNAME:EST
DTSTART:20191103T060000
END:STANDARD
BEGIN:DAYLIGHT
TZOFFSETFROM:-0500
TZOFFSETTO:-0400
TZNAME:EDT
DTSTART:20200308T070000
END:DAYLIGHT
BEGIN:STANDARD
TZOFFSETFROM:-0400
TZOFFSETTO:-0500
TZNAME:EST
DTSTART:20201101T060000
END:STANDARD
BEGIN:DAYLIGHT
TZOFFSETFROM:-0500
TZOFFSETTO:-0400
TZNAME:EDT
DTSTART:20210314T070000
END:DAYLIGHT
BEGIN:STANDARD
TZOFFSETFROM:-0400
TZOFFSETTO:-0500
TZNAME:EST
DTSTART:20211107T060000
END:STANDARD
END:VTIMEZONE
BEGIN:VEVENT
DTSTART;TZID=America/New_York:20200509T090000
DTEND;TZID=America/New_York:20200509T110000
DTSTAMP:20260424T174620
CREATED:20200315T185122Z
LAST-MODIFIED:20200315T185200Z
UID:10003942-1589014800-1589022000@lake-sunapee-living.com
SUMMARY:Sunapee Live Free or Dye Color Run
DESCRIPTION:The annual Sunapee Color Run is a great event to participate in whether your running or walking it alone\, with friends\, or family! It will be on May 9th\, 2020 and starts at 9am at Dewey Beach in Sunapee! It’s around 3.5ish miles and be prepared to get splashed with fun colorful water as you go through the race! We can’t wait to see you there! \nhttps://www.opensignups.com/signup/51507 \n\n\n	Related
URL:https://lake-sunapee-living.com/event/sunapee-live-free-or-dye-a-color-run-at-dewey-beach/
LOCATION:Dewey Beach\, Sunapee\, 1 Dewey Beach rd\, Sunapee\, NH\, 03782\, United States
CATEGORIES:Road Race
GEO:43.3954597;-72.082021
X-APPLE-STRUCTURED-LOCATION;VALUE=URI;X-ADDRESS=Dewey Beach Sunapee 1 Dewey Beach rd Sunapee NH 03782 United States;X-APPLE-RADIUS=500;X-TITLE=1 Dewey Beach rd:geo:-72.082021,43.3954597
END:VEVENT
BEGIN:VEVENT
DTSTART;TZID=America/New_York:20190511T090000
DTEND;TZID=America/New_York:20190511T110000
DTSTAMP:20260424T174620
CREATED:20190505T132947Z
LAST-MODIFIED:20190505T132947Z
UID:10003705-1557565200-1557572400@lake-sunapee-living.com
SUMMARY:3rd Annual Sunapee Live Free or DYE Color Run!
DESCRIPTION:Join in on the fun for the 3rd Annual Sunapee Live Free or DYE Color Run supporting Sunapee School District‘s Freshman Class of 2022! Sign up! \n\n\n	Related
URL:https://lake-sunapee-living.com/event/3rd-annual-sunapee-live-free-or-dye-color-run/
LOCATION:Dewey Beach\, Sunapee\, 1 Dewey Beach rd\, Sunapee\, NH\, 03782\, United States
CATEGORIES:Fun Run
GEO:43.3954597;-72.082021
X-APPLE-STRUCTURED-LOCATION;VALUE=URI;X-ADDRESS=Dewey Beach Sunapee 1 Dewey Beach rd Sunapee NH 03782 United States;X-APPLE-RADIUS=500;X-TITLE=1 Dewey Beach rd:geo:-72.082021,43.3954597
END:VEVENT
BEGIN:VEVENT
DTSTART;TZID=America/New_York:20180817T110000
DTEND;TZID=America/New_York:20180817T120000
DTSTAMP:20260424T174620
CREATED:20180605T010313Z
LAST-MODIFIED:20180605T010313Z
UID:10000132-1534503600-1534507200@lake-sunapee-living.com
SUMMARY:Lindsay & Her Puppet Pals at Dewey Beach
DESCRIPTION:Dewey Beach\, Sunapee \n Lindsay brings a huge collection of lovingly handcrafted\, life-size hand puppets and marionettes to child and family audiences across New England.  \nFilled with silly humor\, crowd participation\, and unique\, memorable characters\, this series of charming\, positive short stories will delight the young and the young at heart!  \nShow is one hour long. For more information\, please visit www.lindsayspuppetpals.com or call 603-393-5565. \n  \n\n\n	Related
URL:https://lake-sunapee-living.com/event/lindsay-her-puppet-pals-at-dewey-beach/
LOCATION:Dewey Beach\, Sunapee\, 1 Dewey Beach rd\, Sunapee\, NH\, 03782\, United States
CATEGORIES:Puppet Show
GEO:43.3954597;-72.082021
X-APPLE-STRUCTURED-LOCATION;VALUE=URI;X-ADDRESS=Dewey Beach Sunapee 1 Dewey Beach rd Sunapee NH 03782 United States;X-APPLE-RADIUS=500;X-TITLE=1 Dewey Beach rd:geo:-72.082021,43.3954597
END:VEVENT
END:VCALENDAR