BEGIN:VCALENDAR
VERSION:2.0
PRODID:-//Lake Sunapee Living - ECPv6.15.13//NONSGML v1.0//EN
CALSCALE:GREGORIAN
METHOD:PUBLISH
X-ORIGINAL-URL:https://lake-sunapee-living.com
X-WR-CALDESC:Events for Lake Sunapee Living
REFRESH-INTERVAL;VALUE=DURATION:PT1H
X-Robots-Tag:noindex
X-PUBLISHED-TTL:PT1H
BEGIN:VTIMEZONE
TZID:America/New_York
BEGIN:DAYLIGHT
TZOFFSETFROM:-0500
TZOFFSETTO:-0400
TZNAME:EDT
DTSTART:20180311T070000
END:DAYLIGHT
BEGIN:STANDARD
TZOFFSETFROM:-0400
TZOFFSETTO:-0500
TZNAME:EST
DTSTART:20181104T060000
END:STANDARD
BEGIN:DAYLIGHT
TZOFFSETFROM:-0500
TZOFFSETTO:-0400
TZNAME:EDT
DTSTART:20190310T070000
END:DAYLIGHT
BEGIN:STANDARD
TZOFFSETFROM:-0400
TZOFFSETTO:-0500
TZNAME:EST
DTSTART:20191103T060000
END:STANDARD
BEGIN:DAYLIGHT
TZOFFSETFROM:-0500
TZOFFSETTO:-0400
TZNAME:EDT
DTSTART:20200308T070000
END:DAYLIGHT
BEGIN:STANDARD
TZOFFSETFROM:-0400
TZOFFSETTO:-0500
TZNAME:EST
DTSTART:20201101T060000
END:STANDARD
END:VTIMEZONE
BEGIN:VEVENT
DTSTART;TZID=America/New_York:20190926T160000
DTEND;TZID=America/New_York:20190926T190000
DTSTAMP:20260424T192434
CREATED:20190620T001251Z
LAST-MODIFIED:20190620T001251Z
UID:10003767-1569513600-1569524400@lake-sunapee-living.com
SUMMARY:Lebanon Farmers' Market
DESCRIPTION:The Lebanon Farmers’ Market is held every Thursday from 4pm to 7pm on Colburn Park in Lebanon during the summer season. \n\n\n	Related
URL:https://lake-sunapee-living.com/event/lebanon-farmers-market/2019-09-26/
LOCATION:Colburn Park\, 51 N Park St\, Lebanon\, NH\, 03766\, United States
CATEGORIES:Farmers Market
GEO:43.6432585;-72.2517487
X-APPLE-STRUCTURED-LOCATION;VALUE=URI;X-ADDRESS=Colburn Park 51 N Park St Lebanon NH 03766 United States;X-APPLE-RADIUS=500;X-TITLE=51 N Park St:geo:-72.2517487,43.6432585
END:VEVENT
END:VCALENDAR