BEGIN:VCALENDAR
VERSION:2.0
PRODID:-//Lake Sunapee Living - ECPv6.15.13//NONSGML v1.0//EN
CALSCALE:GREGORIAN
METHOD:PUBLISH
X-WR-CALNAME:Lake Sunapee Living
X-ORIGINAL-URL:https://lake-sunapee-living.com
X-WR-CALDESC:Events for Lake Sunapee Living
REFRESH-INTERVAL;VALUE=DURATION:PT1H
X-Robots-Tag:noindex
X-PUBLISHED-TTL:PT1H
BEGIN:VTIMEZONE
TZID:America/New_York
BEGIN:DAYLIGHT
TZOFFSETFROM:-0500
TZOFFSETTO:-0400
TZNAME:EDT
DTSTART:20180311T070000
END:DAYLIGHT
BEGIN:STANDARD
TZOFFSETFROM:-0400
TZOFFSETTO:-0500
TZNAME:EST
DTSTART:20181104T060000
END:STANDARD
BEGIN:DAYLIGHT
TZOFFSETFROM:-0500
TZOFFSETTO:-0400
TZNAME:EDT
DTSTART:20190310T070000
END:DAYLIGHT
BEGIN:STANDARD
TZOFFSETFROM:-0400
TZOFFSETTO:-0500
TZNAME:EST
DTSTART:20191103T060000
END:STANDARD
BEGIN:DAYLIGHT
TZOFFSETFROM:-0500
TZOFFSETTO:-0400
TZNAME:EDT
DTSTART:20200308T070000
END:DAYLIGHT
BEGIN:STANDARD
TZOFFSETFROM:-0400
TZOFFSETTO:-0500
TZNAME:EST
DTSTART:20201101T060000
END:STANDARD
END:VTIMEZONE
BEGIN:VEVENT
DTSTART;TZID=America/New_York:20190614T210000
DTEND;TZID=America/New_York:20190614T230000
DTSTAMP:20260424T234804
CREATED:20190513T004004Z
LAST-MODIFIED:20190513T004112Z
UID:10000268-1560546000-1560553200@lake-sunapee-living.com
SUMMARY:Movie Night on the Green - Aquaman
DESCRIPTION:Join us for a PG-13 movie at The Visitor Center Green. The movie to be played is Aquaman. \nMovie Info: Arthur Curry\, the human-born heir to the underwater kingdom of Atlantis\, goes on a quest to prevent a war between the worlds of ocean and land. \nBring a blanket or a chair\, this movie is FREE to All! \nThe movie will start at dusk. \nA Special Thank You to our Event Sponsor: TBD!\nWith out them\, this event would not be made possible. \nHosted by Claremont\, NH – Parks and Recreation Department \n  \n  \n\n\n	Related
URL:https://lake-sunapee-living.com/event/movie-night-on-the-green-aquaman/
LOCATION:City of Claremont Visitors Center\, 14 North St\, Claremont\, NH\, 03743\, United States
CATEGORIES:Movie
GEO:43.3755205;-72.3383972
X-APPLE-STRUCTURED-LOCATION;VALUE=URI;X-ADDRESS=City of Claremont Visitors Center 14 North St Claremont NH 03743 United States;X-APPLE-RADIUS=500;X-TITLE=14 North St:geo:-72.3383972,43.3755205
END:VEVENT
END:VCALENDAR