BEGIN:VCALENDAR
VERSION:2.0
PRODID:-//Lake Sunapee Living - ECPv6.15.13//NONSGML v1.0//EN
CALSCALE:GREGORIAN
METHOD:PUBLISH
X-WR-CALNAME:Lake Sunapee Living
X-ORIGINAL-URL:https://lake-sunapee-living.com
X-WR-CALDESC:Events for Lake Sunapee Living
REFRESH-INTERVAL;VALUE=DURATION:PT1H
X-Robots-Tag:noindex
X-PUBLISHED-TTL:PT1H
BEGIN:VTIMEZONE
TZID:America/New_York
BEGIN:DAYLIGHT
TZOFFSETFROM:-0500
TZOFFSETTO:-0400
TZNAME:EDT
DTSTART:20180311T070000
END:DAYLIGHT
BEGIN:STANDARD
TZOFFSETFROM:-0400
TZOFFSETTO:-0500
TZNAME:EST
DTSTART:20181104T060000
END:STANDARD
BEGIN:DAYLIGHT
TZOFFSETFROM:-0500
TZOFFSETTO:-0400
TZNAME:EDT
DTSTART:20190310T070000
END:DAYLIGHT
BEGIN:STANDARD
TZOFFSETFROM:-0400
TZOFFSETTO:-0500
TZNAME:EST
DTSTART:20191103T060000
END:STANDARD
BEGIN:DAYLIGHT
TZOFFSETFROM:-0500
TZOFFSETTO:-0400
TZNAME:EDT
DTSTART:20200308T070000
END:DAYLIGHT
BEGIN:STANDARD
TZOFFSETFROM:-0400
TZOFFSETTO:-0500
TZNAME:EST
DTSTART:20201101T060000
END:STANDARD
END:VTIMEZONE
BEGIN:VEVENT
DTSTART;TZID=America/New_York:20191006T100000
DTEND;TZID=America/New_York:20191006T140000
DTSTAMP:20260424T175431
CREATED:20190620T000413Z
LAST-MODIFIED:20190620T000928Z
UID:10000314-1570356000-1570370400@lake-sunapee-living.com
SUMMARY:Canaan Farmers and Artisans' Market
DESCRIPTION:Featuring local foods\, crafts & entertainment. \nSundays 10:00am-2:00pm from May 26-October 6\, 2019. \nOn the Common\, Junction of Routes 4 & 118\, Canaan\, N.H. \n\n\n	Related
URL:https://lake-sunapee-living.com/event/canaan-farmers-and-artisans-market/2019-10-06/
LOCATION:Canaan Town Common\, 1169 US Route 4\,\, Canaan\, NH\, 03741\, United States
CATEGORIES:Farmers Market
GEO:43.6466493;-72.0121171
X-APPLE-STRUCTURED-LOCATION;VALUE=URI;X-ADDRESS=Canaan Town Common 1169 US Route 4 Canaan NH 03741 United States;X-APPLE-RADIUS=500;X-TITLE=1169 US Route 4\,:geo:-72.0121171,43.6466493
END:VEVENT
END:VCALENDAR