BEGIN:VCALENDAR
VERSION:2.0
PRODID:-//Lake Sunapee Living - ECPv6.15.13//NONSGML v1.0//EN
CALSCALE:GREGORIAN
METHOD:PUBLISH
X-ORIGINAL-URL:https://lake-sunapee-living.com
X-WR-CALDESC:Events for Lake Sunapee Living
REFRESH-INTERVAL;VALUE=DURATION:PT1H
X-Robots-Tag:noindex
X-PUBLISHED-TTL:PT1H
BEGIN:VTIMEZONE
TZID:America/New_York
BEGIN:DAYLIGHT
TZOFFSETFROM:-0500
TZOFFSETTO:-0400
TZNAME:EDT
DTSTART:20170312T070000
END:DAYLIGHT
BEGIN:STANDARD
TZOFFSETFROM:-0400
TZOFFSETTO:-0500
TZNAME:EST
DTSTART:20171105T060000
END:STANDARD
BEGIN:DAYLIGHT
TZOFFSETFROM:-0500
TZOFFSETTO:-0400
TZNAME:EDT
DTSTART:20180311T070000
END:DAYLIGHT
BEGIN:STANDARD
TZOFFSETFROM:-0400
TZOFFSETTO:-0500
TZNAME:EST
DTSTART:20181104T060000
END:STANDARD
BEGIN:DAYLIGHT
TZOFFSETFROM:-0500
TZOFFSETTO:-0400
TZNAME:EDT
DTSTART:20190310T070000
END:DAYLIGHT
BEGIN:STANDARD
TZOFFSETFROM:-0400
TZOFFSETTO:-0500
TZNAME:EST
DTSTART:20191103T060000
END:STANDARD
BEGIN:DAYLIGHT
TZOFFSETFROM:-0500
TZOFFSETTO:-0400
TZNAME:EDT
DTSTART:20200308T070000
END:DAYLIGHT
BEGIN:STANDARD
TZOFFSETFROM:-0400
TZOFFSETTO:-0500
TZNAME:EST
DTSTART:20201101T060000
END:STANDARD
BEGIN:DAYLIGHT
TZOFFSETFROM:-0500
TZOFFSETTO:-0400
TZNAME:EDT
DTSTART:20210314T070000
END:DAYLIGHT
BEGIN:STANDARD
TZOFFSETFROM:-0400
TZOFFSETTO:-0500
TZNAME:EST
DTSTART:20211107T060000
END:STANDARD
END:VTIMEZONE
BEGIN:VEVENT
DTSTART;TZID=America/New_York:20200729T183000
DTEND;TZID=America/New_York:20200729T203000
DTSTAMP:20260424T153121
CREATED:20200715T002538Z
LAST-MODIFIED:20200715T002538Z
UID:10003977-1596047400-1596054600@lake-sunapee-living.com
SUMMARY:Live Music at the Ben Mere Bandstand: Sumx4
DESCRIPTION:Sunapee Harbor – Ben Mere Bandstand \nBring chairs or blankets. \nPark at Main Street\, Sunapee. \nThis is a free event! \nSUMx4 is Doug Mitchell\, Joe Green\, and Pete Finkle – a classic rock and original band that rocks the entire New England area\, plus Cliff Clegg joins them tonight. \nTheir repertoire includes classic rock\, funk\, folk\,blues\, country and a whole lot in between with a song list totaling over 1000. \nSUMx4 has opened for major acts including Willie Nelson\, Motley Crue and The Outlaws\, to name a few. \n\n\n	Related
URL:https://lake-sunapee-living.com/event/live-music-at-the-ben-mere-bandstand-sumx4/
LOCATION:Ben Mere Bandstand\, 2 Lake Ave\, Sunapee\, NH\, 03782\, United States
CATEGORIES:Free Outdoor Concert
GEO:43.3849832;-72.0801034
X-APPLE-STRUCTURED-LOCATION;VALUE=URI;X-ADDRESS=Ben Mere Bandstand 2 Lake Ave Sunapee NH 03782 United States;X-APPLE-RADIUS=500;X-TITLE=2 Lake Ave:geo:-72.0801034,43.3849832
END:VEVENT
BEGIN:VEVENT
DTSTART;TZID=America/New_York:20200722T183000
DTEND;TZID=America/New_York:20200722T203000
DTSTAMP:20260424T153121
CREATED:20200715T001257Z
LAST-MODIFIED:20200715T001657Z
UID:10003976-1595442600-1595449800@lake-sunapee-living.com
SUMMARY:Live Music at the Ben Mere Bandstand: The Little Big Band
DESCRIPTION:Sunapee Harbor – Ben Mere Bandstand \nBring chairs or blankets. \nPark at Main Street\, Sunapee. \nThis is a free event! \nTHE LITTLE BIG BAND – This band formed from a weekly jazz jam held at the Flat Iron Cafe in Bellows Falls\, VT where\, for the past two and a half years\, jazz musicians from NH & VT came together to play jazz standards and work on their chops. \nAs a result\, a core of 8 musicians\, now called The Little Big Band\, perform at area venues playing the music of Ellington\, Porter\, Parker\, Miles Davis and others. \nThe musicians include Fred Tipton and Nick Scalera\, on multiple saxes; Frank Sansone on saxes and harmonica; Chuck Ober on trombone; Marsha Stern on flute; Maryann Mcardle on keyboard; Ashok on bass; and Dan Borden on drums.) \n\n\n	Related
URL:https://lake-sunapee-living.com/event/live-music-at-the-ben-mere-bandstand-the-little-big-band/
LOCATION:Ben Mere Bandstand\, 2 Lake Ave\, Sunapee\, NH\, 03782\, United States
CATEGORIES:Free Outdoor Concert
GEO:43.3849832;-72.0801034
X-APPLE-STRUCTURED-LOCATION;VALUE=URI;X-ADDRESS=Ben Mere Bandstand 2 Lake Ave Sunapee NH 03782 United States;X-APPLE-RADIUS=500;X-TITLE=2 Lake Ave:geo:-72.0801034,43.3849832
END:VEVENT
BEGIN:VEVENT
DTSTART;TZID=America/New_York:20200715T183000
DTEND;TZID=America/New_York:20200715T203000
DTSTAMP:20260424T153121
CREATED:20200715T001006Z
LAST-MODIFIED:20200715T001006Z
UID:10003975-1594837800-1594845000@lake-sunapee-living.com
SUMMARY:Live Music at the Ben Mere Bandstand: Dr. Harp Blues Revue Band
DESCRIPTION:Sunapee Harbor – Ben Mere Bandstand \nBring chairs or blankets. \nPark at Main Street\, Sunapee. \nThis is a free event! \n\n\n	Related
URL:https://lake-sunapee-living.com/event/live-music-at-the-ben-mere-bandstand-dr-harp-blues-revue-band/
LOCATION:Ben Mere Bandstand\, 2 Lake Ave\, Sunapee\, NH\, 03782\, United States
CATEGORIES:Live Music
GEO:43.3849832;-72.0801034
X-APPLE-STRUCTURED-LOCATION;VALUE=URI;X-ADDRESS=Ben Mere Bandstand 2 Lake Ave Sunapee NH 03782 United States;X-APPLE-RADIUS=500;X-TITLE=2 Lake Ave:geo:-72.0801034,43.3849832
END:VEVENT
BEGIN:VEVENT
DTSTART;TZID=America/New_York:20180829T183000
DTEND;TZID=America/New_York:20180829T203000
DTSTAMP:20260424T153121
CREATED:20180606T150205Z
LAST-MODIFIED:20180606T150205Z
UID:10000396-1535567400-1535574600@lake-sunapee-living.com
SUMMARY:Live Music: The Bel Airs at the Ben Mere Bandstand
DESCRIPTION:Take a ride on a musical time machine back to the days of shiny metal diners\, beehive hairdoos\, big fins on cars\, with street corner harmony. \nThis five member doo wop vocal group will whisk you back to those simple days of late 50s and early 60s with exquisite five part harmonies. \n\n\n	Related
URL:https://lake-sunapee-living.com/event/live-music-the-bel-airs-at-the-ben-mere-bandstand/
LOCATION:Ben Mere Bandstand\, 2 Lake Ave\, Sunapee\, NH\, 03782\, United States
CATEGORIES:Concert
GEO:43.3849832;-72.0801034
X-APPLE-STRUCTURED-LOCATION;VALUE=URI;X-ADDRESS=Ben Mere Bandstand 2 Lake Ave Sunapee NH 03782 United States;X-APPLE-RADIUS=500;X-TITLE=2 Lake Ave:geo:-72.0801034,43.3849832
END:VEVENT
BEGIN:VEVENT
DTSTART;TZID=America/New_York:20180822T183000
DTEND;TZID=America/New_York:20180822T203000
DTSTAMP:20260424T153121
CREATED:20180606T140649Z
LAST-MODIFIED:20180606T140649Z
UID:10000395-1534962600-1534969800@lake-sunapee-living.com
SUMMARY:Live Music: Flew-Z at the Ben Mere Bandstand
DESCRIPTION:High energy\, hard driving\, classic rock cover band based in Newport\, NH with a focus on Aerosmith and Van Halen featuring Logan Flewelling on guitar and vocals\, Kyle Flewelling on drums and vocals\, Eric Stone on bass with Alec Currior on vocals. \n\n\n	Related
URL:https://lake-sunapee-living.com/event/live-music-flew-z-at-the-ben-mere-bandstand/
LOCATION:Ben Mere Bandstand\, 2 Lake Ave\, Sunapee\, NH\, 03782\, United States
CATEGORIES:Concert
GEO:43.3849832;-72.0801034
X-APPLE-STRUCTURED-LOCATION;VALUE=URI;X-ADDRESS=Ben Mere Bandstand 2 Lake Ave Sunapee NH 03782 United States;X-APPLE-RADIUS=500;X-TITLE=2 Lake Ave:geo:-72.0801034,43.3849832
END:VEVENT
BEGIN:VEVENT
DTSTART;TZID=America/New_York:20180815T183000
DTEND;TZID=America/New_York:20180815T203000
DTSTAMP:20260424T153121
CREATED:20180606T140406Z
LAST-MODIFIED:20180606T140406Z
UID:10000394-1534357800-1534365000@lake-sunapee-living.com
SUMMARY:Live Music: The Flames at the Ben Mere Bandstand
DESCRIPTION:A four piece “Rock & Roll” band playing music of the 50s\, 60s & 70s with three vocalists including John Lovejoy on keyboards\, Cam Cross on guitar\, Eric von Ammon on drums and Terry Langford on tenor sax. \n\n\n	Related
URL:https://lake-sunapee-living.com/event/live-music-the-flames-at-the-ben-mere-bandstand/
LOCATION:Ben Mere Bandstand\, 2 Lake Ave\, Sunapee\, NH\, 03782\, United States
CATEGORIES:Concert
GEO:43.3849832;-72.0801034
X-APPLE-STRUCTURED-LOCATION;VALUE=URI;X-ADDRESS=Ben Mere Bandstand 2 Lake Ave Sunapee NH 03782 United States;X-APPLE-RADIUS=500;X-TITLE=2 Lake Ave:geo:-72.0801034,43.3849832
END:VEVENT
BEGIN:VEVENT
DTSTART;TZID=America/New_York:20180808T183000
DTEND;TZID=America/New_York:20180808T203000
DTSTAMP:20260424T153121
CREATED:20180606T140211Z
LAST-MODIFIED:20180606T140211Z
UID:10000393-1533753000-1533760200@lake-sunapee-living.com
SUMMARY:Live Music: T-Bird & the Buzzards at the Ben Mere Bandstand
DESCRIPTION:A fun and eclectic acoustic trio from Long Island\, NY\, this groups plays a mix of well-loved pop\, rock\, blues and country-esque tunes including some surprising selections the average acoustic act doesn’t cover. \nThe “trio” includes Terry Seidl née Pross\, (lead vocals\, guitar\, percussion toys and a MEAN kazoo)\, Bill Miccio (lead guitar\, vocals) and Sal Novello (rhythm guitar\, vocals). \n\n\n	Related
URL:https://lake-sunapee-living.com/event/live-music-t-bird-the-buzzards-at-the-ben-mere-bandstand/
LOCATION:Ben Mere Bandstand\, 2 Lake Ave\, Sunapee\, NH\, 03782\, United States
CATEGORIES:Concert
GEO:43.3849832;-72.0801034
X-APPLE-STRUCTURED-LOCATION;VALUE=URI;X-ADDRESS=Ben Mere Bandstand 2 Lake Ave Sunapee NH 03782 United States;X-APPLE-RADIUS=500;X-TITLE=2 Lake Ave:geo:-72.0801034,43.3849832
END:VEVENT
BEGIN:VEVENT
DTSTART;TZID=America/New_York:20180801T183000
DTEND;TZID=America/New_York:20180801T203000
DTSTAMP:20260424T153121
CREATED:20180606T140040Z
LAST-MODIFIED:20180606T140040Z
UID:10000392-1533148200-1533155400@lake-sunapee-living.com
SUMMARY:Live Music: The East Bay Jazz Ensemble at the Ben Mere Bandstand
DESCRIPTION:A 12 to 14 piece big band featuring Gerry Grimo with lots of brass performing all the “big band” favorites these town bandstands summer music series are famous for. \n\n\n	Related
URL:https://lake-sunapee-living.com/event/live-music-the-east-bay-jazz-ensemble-at-the-ben-mere-bandstand/
LOCATION:Ben Mere Bandstand\, 2 Lake Ave\, Sunapee\, NH\, 03782\, United States
CATEGORIES:Concert
GEO:43.3849832;-72.0801034
X-APPLE-STRUCTURED-LOCATION;VALUE=URI;X-ADDRESS=Ben Mere Bandstand 2 Lake Ave Sunapee NH 03782 United States;X-APPLE-RADIUS=500;X-TITLE=2 Lake Ave:geo:-72.0801034,43.3849832
END:VEVENT
BEGIN:VEVENT
DTSTART;TZID=America/New_York:20180718T183000
DTEND;TZID=America/New_York:20180718T203000
DTSTAMP:20260424T153121
CREATED:20180606T135643Z
LAST-MODIFIED:20180606T135643Z
UID:10000390-1531938600-1531945800@lake-sunapee-living.com
SUMMARY:Live Music: The Ticket at the Ben Mere Bandstand
DESCRIPTION:Based in Keene\, NH\, this Dance/Rock Band performs all the music a DJ can deliver with an exciting show that a DJ could never do! \nMusicians include Steve Pro (Vocals)\, Cliff Clegg (Guitars and Vocals)\, Bill Wightman (Keyboards)\, Sean Lake (Bass and Vocals)\, Jody Bregler (Drums and Vocals). \n\n\n	Related
URL:https://lake-sunapee-living.com/event/live-music-the-ticket-at-the-ben-mere-bandstand/
LOCATION:Ben Mere Bandstand\, 2 Lake Ave\, Sunapee\, NH\, 03782\, United States
CATEGORIES:Concert
GEO:43.3849832;-72.0801034
X-APPLE-STRUCTURED-LOCATION;VALUE=URI;X-ADDRESS=Ben Mere Bandstand 2 Lake Ave Sunapee NH 03782 United States;X-APPLE-RADIUS=500;X-TITLE=2 Lake Ave:geo:-72.0801034,43.3849832
END:VEVENT
BEGIN:VEVENT
DTSTART;TZID=America/New_York:20180711T183000
DTEND;TZID=America/New_York:20180711T203000
DTSTAMP:20260424T153121
CREATED:20180606T125410Z
LAST-MODIFIED:20180606T125410Z
UID:10000387-1531333800-1531341000@lake-sunapee-living.com
SUMMARY:Live Music: Kid Pinky & His Restless Knights at the Ben Mere Bandstand
DESCRIPTION:KID PINKY & HIS RESTLESS KNIGHTS A retro-style four piece blues band from the Concord\, NH area that is both authentic and unique\, but not loud. \nA throwback to a more simple blues with its dedicated stylization and engaging personalities\, Kid Pinky is always intimate and fun\, a blues that’ll knock you out! \n\n\n	Related
URL:https://lake-sunapee-living.com/event/live-music-kid-pinky-his-restless-knights-at-the-ben-mere-bandstand/
LOCATION:Ben Mere Bandstand\, 2 Lake Ave\, Sunapee\, NH\, 03782\, United States
CATEGORIES:Concert
GEO:43.3849832;-72.0801034
X-APPLE-STRUCTURED-LOCATION;VALUE=URI;X-ADDRESS=Ben Mere Bandstand 2 Lake Ave Sunapee NH 03782 United States;X-APPLE-RADIUS=500;X-TITLE=2 Lake Ave:geo:-72.0801034,43.3849832
END:VEVENT
BEGIN:VEVENT
DTSTART;TZID=America/New_York:20180705T183000
DTEND;TZID=America/New_York:20180705T203000
DTSTAMP:20260424T153121
CREATED:20180606T125054Z
LAST-MODIFIED:20180606T125054Z
UID:10000385-1530815400-1530822600@lake-sunapee-living.com
SUMMARY:Live Music: Dr. Harp at the Ben Mere Bandstand
DESCRIPTION:DR. HARP A four-piece blues band specializing in the driving boogie blues popularized by Johnny Winter\, George Thorogood and the J. Geils Band; a sound that owes equal debts to Chuck Berry and John Lee Hooker. \nDennis Martin took up the harmonica at age 10; over a 30-year professional career\, he’s performed all over the world. \n\n\n	Related
URL:https://lake-sunapee-living.com/event/live-music-dr-harp-at-the-ben-mere-bandstand/
LOCATION:Ben Mere Bandstand\, 2 Lake Ave\, Sunapee\, NH\, 03782\, United States
CATEGORIES:Concert
GEO:43.3849832;-72.0801034
X-APPLE-STRUCTURED-LOCATION;VALUE=URI;X-ADDRESS=Ben Mere Bandstand 2 Lake Ave Sunapee NH 03782 United States;X-APPLE-RADIUS=500;X-TITLE=2 Lake Ave:geo:-72.0801034,43.3849832
END:VEVENT
BEGIN:VEVENT
DTSTART;TZID=America/New_York:20180606T183000
DTEND;TZID=America/New_York:20180606T203000
DTSTAMP:20260424T153121
CREATED:20180606T135852Z
LAST-MODIFIED:20180606T135852Z
UID:10000391-1528309800-1528317000@lake-sunapee-living.com
SUMMARY:Live Music: Wightman & Clegg Band at the Ben Mere Bandstand
DESCRIPTION:Top-notch musicians Bill Wightman and Cliff Clegg team up with Jody Bregler on drums to perform jazz and rock covers with their own unique twist (Elton meets Eric). \nTonight they’re also joined by Matt Langley on tenor sax\, and Jesse Williams on bass. \n\n\n	Related
URL:https://lake-sunapee-living.com/event/live-music-wightman-clegg-band-at-the-ben-mere-bandstand/
LOCATION:Ben Mere Bandstand\, 2 Lake Ave\, Sunapee\, NH\, 03782\, United States
CATEGORIES:Concert
GEO:43.3849832;-72.0801034
X-APPLE-STRUCTURED-LOCATION;VALUE=URI;X-ADDRESS=Ben Mere Bandstand 2 Lake Ave Sunapee NH 03782 United States;X-APPLE-RADIUS=500;X-TITLE=2 Lake Ave:geo:-72.0801034,43.3849832
END:VEVENT
END:VCALENDAR