BEGIN:VCALENDAR
VERSION:2.0
PRODID:-//Lake Sunapee Living - ECPv6.15.13//NONSGML v1.0//EN
CALSCALE:GREGORIAN
METHOD:PUBLISH
X-WR-CALNAME:Lake Sunapee Living
X-ORIGINAL-URL:https://lake-sunapee-living.com
X-WR-CALDESC:Events for Lake Sunapee Living
REFRESH-INTERVAL;VALUE=DURATION:PT1H
X-Robots-Tag:noindex
X-PUBLISHED-TTL:PT1H
BEGIN:VTIMEZONE
TZID:America/New_York
BEGIN:DAYLIGHT
TZOFFSETFROM:-0500
TZOFFSETTO:-0400
TZNAME:EDT
DTSTART:20180311T070000
END:DAYLIGHT
BEGIN:STANDARD
TZOFFSETFROM:-0400
TZOFFSETTO:-0500
TZNAME:EST
DTSTART:20181104T060000
END:STANDARD
BEGIN:DAYLIGHT
TZOFFSETFROM:-0500
TZOFFSETTO:-0400
TZNAME:EDT
DTSTART:20190310T070000
END:DAYLIGHT
BEGIN:STANDARD
TZOFFSETFROM:-0400
TZOFFSETTO:-0500
TZNAME:EST
DTSTART:20191103T060000
END:STANDARD
BEGIN:DAYLIGHT
TZOFFSETFROM:-0500
TZOFFSETTO:-0400
TZNAME:EDT
DTSTART:20200308T070000
END:DAYLIGHT
BEGIN:STANDARD
TZOFFSETFROM:-0400
TZOFFSETTO:-0500
TZNAME:EST
DTSTART:20201101T060000
END:STANDARD
END:VTIMEZONE
BEGIN:VEVENT
DTSTART;TZID=America/New_York:20190427T190000
DTEND;TZID=America/New_York:20190427T190000
DTSTAMP:20260425T190423
CREATED:20181118T140800Z
LAST-MODIFIED:20190413T165931Z
UID:10000232-1556391600-1556391600@lake-sunapee-living.com
SUMMARY:Live Music: The Bradford Bog People at Warner Town Hall
DESCRIPTION:The Bradford Bog People – Old Time Fiddlers \nWarner Town Hall  $17/$15 members (in advance) \nTickets on sale at Tatewell Gallery\, Morgan Hill Bookstore and online at \nwww.CenterForTheArtsNH.org \n\n\n	Related
URL:https://lake-sunapee-living.com/event/live-music-the-bradford-bog-people-at-warner-town-hall/
LOCATION:NH\, United States
CATEGORIES:Live Music
END:VEVENT
END:VCALENDAR