BEGIN:VCALENDAR
VERSION:2.0
PRODID:-//Lake Sunapee Living - ECPv6.15.13//NONSGML v1.0//EN
CALSCALE:GREGORIAN
METHOD:PUBLISH
X-ORIGINAL-URL:https://lake-sunapee-living.com
X-WR-CALDESC:Events for Lake Sunapee Living
REFRESH-INTERVAL;VALUE=DURATION:PT1H
X-Robots-Tag:noindex
X-PUBLISHED-TTL:PT1H
BEGIN:VTIMEZONE
TZID:America/New_York
BEGIN:DAYLIGHT
TZOFFSETFROM:-0500
TZOFFSETTO:-0400
TZNAME:EDT
DTSTART:20170312T070000
END:DAYLIGHT
BEGIN:STANDARD
TZOFFSETFROM:-0400
TZOFFSETTO:-0500
TZNAME:EST
DTSTART:20171105T060000
END:STANDARD
BEGIN:DAYLIGHT
TZOFFSETFROM:-0500
TZOFFSETTO:-0400
TZNAME:EDT
DTSTART:20180311T070000
END:DAYLIGHT
BEGIN:STANDARD
TZOFFSETFROM:-0400
TZOFFSETTO:-0500
TZNAME:EST
DTSTART:20181104T060000
END:STANDARD
BEGIN:DAYLIGHT
TZOFFSETFROM:-0500
TZOFFSETTO:-0400
TZNAME:EDT
DTSTART:20190310T070000
END:DAYLIGHT
BEGIN:STANDARD
TZOFFSETFROM:-0400
TZOFFSETTO:-0500
TZNAME:EST
DTSTART:20191103T060000
END:STANDARD
END:VTIMEZONE
BEGIN:VEVENT
DTSTART;VALUE=DATE:20180817
DTEND;VALUE=DATE:20180820
DTSTAMP:20260424T162539
CREATED:20180517T023339Z
LAST-MODIFIED:20180816T234826Z
UID:10000296-1534464000-1534723199@lake-sunapee-living.com
SUMMARY:Sunapee 250th Celebration Weekend
DESCRIPTION:SUMMER 2018\n250 YEARS\nSunapeeRecreation 250th Celebration Weekend August 17-19 \nThe mission of Sunapee Recreation is to provide quality activities and facilities to all residents of Sunapee and their guests. Sunapee Recreation strives to positively enhance the mind\, body and spirit as well as to encourage participation\, fun and learning with its programs. \nFriday\, August 17\nAerosmith Memorabilia Exhibit – The Livery • 10:00am-5:30pm\nLindsey and Her Puppet Pals – Dewey Beach • 11:00am\nHarbor Music (Flanders Stage) – Flew-Z • 5:00-6:30pm\nVisions of Sunapee Art Exhibit at The Livery – Opening Reception 5:00-7:00pm\nHarbor Music-Aerosmith Tribute Band – Draw the Line 6:30pm\nFireworks in the Harbor – Moved to Saturday! \nSaturday\, August 18\nWild Goose Chase 4-mile Race\, Sunapee Harbor 8:00am\nHerbert Welsh Trail Hike • 8:00am\nCommunity Breakfast\, Lake Sunapee United Methodist Church 8:00-10:00am\nParade . 11:00am\nAerosmith Memorabilia Exhibit – The Livery • 11:00am-4:00pm\nGames – In The Harbor – Project Sunapee • 2:00-4:00pm\nLove Your Lake Activities – LSPA • 10:00am-2:00pm\nHistorical Display – Sons of American Revolution-Veteran’s Field\nMusic in the Harbor – Soul Fix. 3:00-5:pm\nHarbor Music (Flanders Stage) – Rusted Chrome • 5:00-7:00pm\nEvening music – The Flames at the Livery • 7:30pm \nFireworks in the Harbor – Sponsored by Stacy’s Smoothies – 8:30pm \nSunday\, August 19\nSimpson Preserve Hike – (starting Hells Corner Road) • 9:00am\nDisc Golf Tournament – Tilton Park. 9:00am\nLove Your Lake Activities – LSPA at the Harbor • 10:00am-2:00pm\nAntique Boats on Display – Sunapee Harbor\, Antique Boat Parade 1:00pm\nMusic Tom Pirozzoli – Flanders Stage\, Sunapee Harbor Riverway • 1-3pm\nGames\, Food\, Fun – Abbott Library • 2:00pm\nTime Capsule Dedication/Closing Ceremony and Community Photo starting at the Sunapee Archives • 4:30pm \nFor more information: www.sunapeenh250.org \nor call Scott Blewitt Recreation Department 603-763-2212 \n\n\n	Related
URL:https://lake-sunapee-living.com/event/sunapee-250th-celebration-weekend/
LOCATION:NH\, United States
CATEGORIES:Community Event
END:VEVENT
END:VCALENDAR