BEGIN:VCALENDAR
VERSION:2.0
PRODID:-//Lake Sunapee Living - ECPv6.15.13//NONSGML v1.0//EN
CALSCALE:GREGORIAN
METHOD:PUBLISH
X-WR-CALNAME:Lake Sunapee Living
X-ORIGINAL-URL:https://lake-sunapee-living.com
X-WR-CALDESC:Events for Lake Sunapee Living
REFRESH-INTERVAL;VALUE=DURATION:PT1H
X-Robots-Tag:noindex
X-PUBLISHED-TTL:PT1H
BEGIN:VTIMEZONE
TZID:America/New_York
BEGIN:DAYLIGHT
TZOFFSETFROM:-0500
TZOFFSETTO:-0400
TZNAME:EDT
DTSTART:20240310T070000
END:DAYLIGHT
BEGIN:STANDARD
TZOFFSETFROM:-0400
TZOFFSETTO:-0500
TZNAME:EST
DTSTART:20241103T060000
END:STANDARD
BEGIN:DAYLIGHT
TZOFFSETFROM:-0500
TZOFFSETTO:-0400
TZNAME:EDT
DTSTART:20250309T070000
END:DAYLIGHT
BEGIN:STANDARD
TZOFFSETFROM:-0400
TZOFFSETTO:-0500
TZNAME:EST
DTSTART:20251102T060000
END:STANDARD
BEGIN:DAYLIGHT
TZOFFSETFROM:-0500
TZOFFSETTO:-0400
TZNAME:EDT
DTSTART:20260308T070000
END:DAYLIGHT
BEGIN:STANDARD
TZOFFSETFROM:-0400
TZOFFSETTO:-0500
TZNAME:EST
DTSTART:20261101T060000
END:STANDARD
END:VTIMEZONE
BEGIN:VEVENT
DTSTART;TZID=America/New_York:20250807T190000
DTEND;TZID=America/New_York:20250807T210000
DTSTAMP:20260425T101517
CREATED:20250707T224529Z
LAST-MODIFIED:20250707T224544Z
UID:10004615-1754593200-1754600400@lake-sunapee-living.com
SUMMARY:Live Music: Manhattan Chamber Players At The First Baptist Church
DESCRIPTION:Live Music: Manhattan Chamber Players At The First Baptist Church \nViolin\, Cello\, Viola\, Flute \nMozart\, Beethoven\, Glière\, Devienne \n“…a mellifluous blend of vigorous intensity and dramatic import…enthusiasm\, technical facility and impressive balance” \nTHE PROGRAM: \nW.A. Mozart (1756 – 1797)\nFlute Quartet No. 4 in A major\, K. 298 (1781)\nLudwig van Beethoven (1770 – 1827)\nSerenade for Flute\, Violin\, and Viola in D major\, Op. 25 (1796)\nIntermission\nReinhold Glière (1875 – 1956)\nSelections from Eight Pieces for Violin and Cello\, Op. 39 (1909)\nFrançois Devienne (1759 – 1803)\nDuo for Flute and Viola in C minor\, Op. 5 no. 3 (1786)\nW.A. Mozart (1756 – 1791)\nFlute Quartet No. 1 in D major\, K. 285 (1778)\nManhattanchamberplayers.com
URL:https://lake-sunapee-living.com/event/live-music-manhattan-chamber-players-at-the-first-baptist-church/
LOCATION:First Baptist Church\, 461 Main St\, New London\, NH\, 03257\, United States
CATEGORIES:Live Music
GEO:43.4126675;-71.9799976
X-APPLE-STRUCTURED-LOCATION;VALUE=URI;X-ADDRESS=First Baptist Church 461 Main St New London NH 03257 United States;X-APPLE-RADIUS=500;X-TITLE=461 Main St:geo:-71.9799976,43.4126675
END:VEVENT
BEGIN:VEVENT
DTSTART;TZID=America/New_York:20250808T183000
DTEND;TZID=America/New_York:20250808T200000
DTSTAMP:20260425T101517
CREATED:20250702T235923Z
LAST-MODIFIED:20250702T235923Z
UID:10004605-1754677800-1754683200@lake-sunapee-living.com
SUMMARY:Free Live Music Concerts on Sargent Common: The Flames
DESCRIPTION:The Flames\nOver 40 years of playing classic rock ‘n’ roll. \nFRIDAYS\, 6:30-8:00 pm\nMary D. Haddad Bandstand\nSargent Common\,\nNew London\, NH\nIn the event of inclement weather\, concerts\nwill be held in Whipple Town Hall.
URL:https://lake-sunapee-living.com/event/free-live-music-concerts-on-sargent-common-the-flames/
LOCATION:Haddad Bandstand\, 401 Main Street\, New London\, NH\, 03257\, United States
CATEGORIES:Live Music
GEO:43.4406908;-72.0244582
X-APPLE-STRUCTURED-LOCATION;VALUE=URI;X-ADDRESS=Haddad Bandstand 401 Main Street New London NH 03257 United States;X-APPLE-RADIUS=500;X-TITLE=401 Main Street:geo:-72.0244582,43.4406908
END:VEVENT
BEGIN:VEVENT
DTSTART;TZID=America/New_York:20250808T193000
DTEND;TZID=America/New_York:20250808T210000
DTSTAMP:20260425T101517
CREATED:20250617T120140Z
LAST-MODIFIED:20250617T120140Z
UID:10004596-1754681400-1754686800@lake-sunapee-living.com
SUMMARY:Live Music: Friday Nights at The Livery with Jud Caswell (Jim Croce Tribute Show)
DESCRIPTION:Maine singer-songwriter Jud Caswell is a master of detail\, heart\, and storytelling. With a voice as fresh as water over granite\, his songs evoke the quiet beauty of New England life—songs that earned him national recognition\, including winning the Kerrville New Folk competition and a top-5 spot on WFUV’s “Songs of the Decade.” Jud’s music has been recorded by Judy Collins and studied at Berklee. Alongside his award-winning originals\, Jud pays tribute to the legendary Jim Croce\, honoring the timeless songwriting and spirit that shaped a generation. Whether solo or in tribute\, Caswell brings soul\, skill\, and sincerity to every stage \nFriday\, August 8th\n7:30 pm. Doors open at 7:00 pm. BYOB\nCost: $20 per person \nPURCHASE TICKETS: Click Here \nWebsite: www.judcaswell.com\n YouTube: https://youtu.be/zT7umHWTHrg?si=XOqAFMfEAPGiLFzN\nFacebook: facebook.com/judcaswellmusic\n Instagram: @jud.caswell
URL:https://lake-sunapee-living.com/event/live-music-friday-nights-at-the-livery-with-jud-caswell-jim-croce-tribute-show/
LOCATION:The Livery\, 58 Main St.\, Sunapee\, NH\, 03782\, United States
CATEGORIES:Live Music
GEO:43.3860983;-72.0826955
X-APPLE-STRUCTURED-LOCATION;VALUE=URI;X-ADDRESS=The Livery 58 Main St. Sunapee NH 03782 United States;X-APPLE-RADIUS=500;X-TITLE=58 Main St.:geo:-72.0826955,43.3860983
END:VEVENT
BEGIN:VEVENT
DTSTART;TZID=America/New_York:20250809T090000
DTEND;TZID=America/New_York:20250809T120000
DTSTAMP:20260425T101517
CREATED:20250510T235206Z
LAST-MODIFIED:20250510T235912Z
UID:10004373-1754730000-1754740800@lake-sunapee-living.com
SUMMARY:Sunapee Farmer’s Market
DESCRIPTION:Our vendors sell only items grown\, raised\, baked\, created\, or prepared within 75 miles of Sunapee. Our farm vendors offer their own fresh fruits and vegetables\, cheeses\, meats\, eggs\, honey and maple syrup. You’ll find all manner of baked goods\, sweet and savory\, from our prepared food vendors. There are items to stock your pantry\, like jams\, mustards and sauces. Each week we have a new artisan to offer a rich assortment of pottery\, jewelry\, wooden bowls\, and much more. \nSunapee Farmers Market\, every Saturday Memorial Day weekend until Labor Day weekend
URL:https://lake-sunapee-living.com/event/sunapee-farmers-market-3/2025-08-09/
LOCATION:NH
CATEGORIES:Farmers Market
END:VEVENT
BEGIN:VEVENT
DTSTART;TZID=America/New_York:20250809T150000
DTEND;TZID=America/New_York:20250809T200000
DTSTAMP:20260425T101517
CREATED:20250611T001745Z
LAST-MODIFIED:20250611T001834Z
UID:10004517-1754751600-1754769600@lake-sunapee-living.com
SUMMARY:Free Live Music: Main Street Music Fest with Colin Nevins
DESCRIPTION:Join us on the back lawn of The New London Inn for a fun\, family-friendly music festival on June 14\, July 12\, August 9\, and September 27\, from 3 PM to 8 PM. Each date will showcase different regional musicians and genres. Enjoy live music\, tasty food trucks\, local vendors\, kids’ activities\, and outdoor games in the heart of New London\, NH. \nLure Mobile Bistro – The Elms Restaurant\n603 Florals Bouquet Bar – Pottery – Kids’ Corner – Arts & Crafts
URL:https://lake-sunapee-living.com/event/free-live-music-main-street-music-fest-with-colin-nevins/
LOCATION:New London Inn\, 353 Main St\, New London\, 03257
CATEGORIES:Live Music
GEO:43.4140695;-71.9837098
X-APPLE-STRUCTURED-LOCATION;VALUE=URI;X-ADDRESS=New London Inn 353 Main St New London 03257;X-APPLE-RADIUS=500;X-TITLE=353 Main St:geo:-71.9837098,43.4140695
END:VEVENT
END:VCALENDAR