BEGIN:VCALENDAR
VERSION:2.0
PRODID:-//Lake Sunapee Living - ECPv6.15.13//NONSGML v1.0//EN
CALSCALE:GREGORIAN
METHOD:PUBLISH
X-WR-CALNAME:Lake Sunapee Living
X-ORIGINAL-URL:https://lake-sunapee-living.com
X-WR-CALDESC:Events for Lake Sunapee Living
REFRESH-INTERVAL;VALUE=DURATION:PT1H
X-Robots-Tag:noindex
X-PUBLISHED-TTL:PT1H
BEGIN:VTIMEZONE
TZID:America/New_York
BEGIN:DAYLIGHT
TZOFFSETFROM:-0500
TZOFFSETTO:-0400
TZNAME:EDT
DTSTART:20240310T070000
END:DAYLIGHT
BEGIN:STANDARD
TZOFFSETFROM:-0400
TZOFFSETTO:-0500
TZNAME:EST
DTSTART:20241103T060000
END:STANDARD
BEGIN:DAYLIGHT
TZOFFSETFROM:-0500
TZOFFSETTO:-0400
TZNAME:EDT
DTSTART:20250309T070000
END:DAYLIGHT
BEGIN:STANDARD
TZOFFSETFROM:-0400
TZOFFSETTO:-0500
TZNAME:EST
DTSTART:20251102T060000
END:STANDARD
BEGIN:DAYLIGHT
TZOFFSETFROM:-0500
TZOFFSETTO:-0400
TZNAME:EDT
DTSTART:20260308T070000
END:DAYLIGHT
BEGIN:STANDARD
TZOFFSETFROM:-0400
TZOFFSETTO:-0500
TZNAME:EST
DTSTART:20261101T060000
END:STANDARD
END:VTIMEZONE
BEGIN:VEVENT
DTSTART;TZID=America/New_York:20250801T170000
DTEND;TZID=America/New_York:20250801T190000
DTSTAMP:20260425T063325
CREATED:20250728T130504Z
LAST-MODIFIED:20250728T130558Z
UID:10004618-1754067600-1754074800@lake-sunapee-living.com
SUMMARY:Opening Night of Summer Art Show Exhibition by Gary Milek
DESCRIPTION:Celebrate the beauty of the season through an inspiring collection of floral and landscape paintings by acclaimed Vermont artist Gary Milek. \nEach piece captures the vibrant colors\, gentle light\, and natural serenity of summer. \nThe event is at Cicely Beston Interior Designs\, LLC showroom. \nThe opening night is Friday\, August 1st from 5:00 – 7:00 PM and the show is open Saturday August 2nd through Saturday August 9th daily from 10:00 – 4:00 PM. \nCicely Beston Interior Designs\, LLC\n468 Main Street\, New London\, NH 03257\nOffice: 603-526-2657Gary Milek\nwww.cbestoninteriordesigns.com
URL:https://lake-sunapee-living.com/event/opening-night-of-summer-art-show-exhibition-by-gary-milek/
LOCATION:Cicely Beston Interior Designs\, 468 Main Street\, New London\, 03257\, United States
CATEGORIES:Art Exhibition
GEO:43.4120228;-71.9800303
X-APPLE-STRUCTURED-LOCATION;VALUE=URI;X-ADDRESS=Cicely Beston Interior Designs 468 Main Street New London 03257 United States;X-APPLE-RADIUS=500;X-TITLE=468 Main Street:geo:-71.9800303,43.4120228
END:VEVENT
BEGIN:VEVENT
DTSTART;TZID=America/New_York:20250801T193000
DTEND;TZID=America/New_York:20250801T210000
DTSTAMP:20260425T063325
CREATED:20250617T120033Z
LAST-MODIFIED:20250617T120033Z
UID:10004595-1754076600-1754082000@lake-sunapee-living.com
SUMMARY:Live Music: Friday Nights at The Livery with NewFound Grass
DESCRIPTION:NewFound Grass is a New Hampshire-based bluegrass band blending traditional roots with progressive flair\, drawing inspiration from legends like Alison Krauss and Ricky Skaggs. Featuring seasoned musicians Ben West\, Dave Shaw\, Craig Engel\, and Ron Swisher\, the group delivers tight harmonies and dynamic instrumentation. Their performances have graced stages at the Pemi Valley Bluegrass Festival in Thornton\, NH \, the Danby Bluegrass Festival in Danby\, VT \, and the Belknap County Fair in Belmont\, NH. Known for their energetic live shows\, NewFound Grass continues to captivate audiences across New England. \nFriday\, August 1st\n7:30 pm. Doors open at 7:00 pm. BYOB\nCost: $20 per person \nPURCHASE TICKETS: Click Here \nWebsite: www.newfoundgrass.com\nFacebook: facebook.com/NewFoundGrass
URL:https://lake-sunapee-living.com/event/live-music-friday-nights-at-the-livery-with-newfound-grass/
LOCATION:The Livery\, 58 Main St.\, Sunapee\, NH\, 03782\, United States
CATEGORIES:Live Music
GEO:43.3860983;-72.0826955
X-APPLE-STRUCTURED-LOCATION;VALUE=URI;X-ADDRESS=The Livery 58 Main St. Sunapee NH 03782 United States;X-APPLE-RADIUS=500;X-TITLE=58 Main St.:geo:-72.0826955,43.3860983
END:VEVENT
BEGIN:VEVENT
DTSTART;TZID=America/New_York:20250802T090000
DTEND;TZID=America/New_York:20250802T120000
DTSTAMP:20260425T063325
CREATED:20250510T235206Z
LAST-MODIFIED:20250510T235912Z
UID:10004372-1754125200-1754136000@lake-sunapee-living.com
SUMMARY:Sunapee Farmer’s Market
DESCRIPTION:Our vendors sell only items grown\, raised\, baked\, created\, or prepared within 75 miles of Sunapee. Our farm vendors offer their own fresh fruits and vegetables\, cheeses\, meats\, eggs\, honey and maple syrup. You’ll find all manner of baked goods\, sweet and savory\, from our prepared food vendors. There are items to stock your pantry\, like jams\, mustards and sauces. Each week we have a new artisan to offer a rich assortment of pottery\, jewelry\, wooden bowls\, and much more. \nSunapee Farmers Market\, every Saturday Memorial Day weekend until Labor Day weekend
URL:https://lake-sunapee-living.com/event/sunapee-farmers-market-3/2025-08-02/
LOCATION:NH
CATEGORIES:Farmers Market
END:VEVENT
END:VCALENDAR