BEGIN:VCALENDAR
VERSION:2.0
PRODID:-//Lake Sunapee Living - ECPv6.15.13//NONSGML v1.0//EN
CALSCALE:GREGORIAN
METHOD:PUBLISH
X-ORIGINAL-URL:https://lake-sunapee-living.com
X-WR-CALDESC:Events for Lake Sunapee Living
REFRESH-INTERVAL;VALUE=DURATION:PT1H
X-Robots-Tag:noindex
X-PUBLISHED-TTL:PT1H
BEGIN:VTIMEZONE
TZID:America/New_York
BEGIN:DAYLIGHT
TZOFFSETFROM:-0500
TZOFFSETTO:-0400
TZNAME:EDT
DTSTART:20240310T070000
END:DAYLIGHT
BEGIN:STANDARD
TZOFFSETFROM:-0400
TZOFFSETTO:-0500
TZNAME:EST
DTSTART:20241103T060000
END:STANDARD
BEGIN:DAYLIGHT
TZOFFSETFROM:-0500
TZOFFSETTO:-0400
TZNAME:EDT
DTSTART:20250309T070000
END:DAYLIGHT
BEGIN:STANDARD
TZOFFSETFROM:-0400
TZOFFSETTO:-0500
TZNAME:EST
DTSTART:20251102T060000
END:STANDARD
BEGIN:DAYLIGHT
TZOFFSETFROM:-0500
TZOFFSETTO:-0400
TZNAME:EDT
DTSTART:20260308T070000
END:DAYLIGHT
BEGIN:STANDARD
TZOFFSETFROM:-0400
TZOFFSETTO:-0500
TZNAME:EST
DTSTART:20261101T060000
END:STANDARD
END:VTIMEZONE
BEGIN:VEVENT
DTSTART;TZID=America/New_York:20250704T183000
DTEND;TZID=America/New_York:20250704T200000
DTSTAMP:20260425T215603
CREATED:20250702T233332Z
LAST-MODIFIED:20250702T233332Z
UID:10004601-1751653800-1751659200@lake-sunapee-living.com
SUMMARY:Free Live Music: Concerts on Sargent Common: The East Bay Jazz Ensemble
DESCRIPTION:Music from the big band era with a modern twist; a great jazz group. \nFRIDAYS\, 6:30-8:00 pm\nMary D. Haddad Bandstand\nSargent Common\,\nNew London\, NH\nIn the event of inclement weather\, concerts\nwill be held in Whipple Town Hall.
URL:https://lake-sunapee-living.com/event/free-live-music-concerts-on-sargent-common-the-east-bay-jazz-ensemble/
LOCATION:Haddad Bandstand\, 401 Main Street\, New London\, NH\, 03257\, United States
CATEGORIES:Live Music
GEO:43.4406908;-72.0244582
X-APPLE-STRUCTURED-LOCATION;VALUE=URI;X-ADDRESS=Haddad Bandstand 401 Main Street New London NH 03257 United States;X-APPLE-RADIUS=500;X-TITLE=401 Main Street:geo:-72.0244582,43.4406908
END:VEVENT
BEGIN:VEVENT
DTSTART;TZID=America/New_York:20250704T193000
DTEND;TZID=America/New_York:20250704T210000
DTSTAMP:20260425T215603
CREATED:20250617T115435Z
LAST-MODIFIED:20250617T115435Z
UID:10004591-1751657400-1751662800@lake-sunapee-living.com
SUMMARY:Live Music: Friday Nights at The Livery with Martin and Kelly
DESCRIPTION:Martin and Kelly bring a fresh take to country music\, blending heartfelt songwriting\, rich harmonies\, and high-energy performances. Based in southern New Hampshire\, the duo has shared stages with national acts like Willie Nelson\, Miranda Lambert\, and Dwight Yoakam\, earning praise for their authenticity and dynamic sound. Whether performing as a full band or stripped-down duo\, their music seamlessly bridges contemporary and classic country styles. With loyal fans throughout New England and beyond\, Martin and Kelly continue to make their mark with unforgettable live shows and songs that resonate long after the last note. \nFriday\, July 4th\n7:30 pm. Doors open at 7:00 pm. BYOB\nCost: $20 per person \nPURCHASE TICKETS: Click Here \nWebsite: www.martinkellymusic.com\nFacebook: facebook.com/martinandkelly\nInstagram: instagram.com/martinandkelly
URL:https://lake-sunapee-living.com/event/live-music-friday-nights-at-the-livery-with-martin-and-kelly/
LOCATION:The Livery\, 58 Main St.\, Sunapee\, NH\, 03782\, United States
CATEGORIES:Live Music
GEO:43.3860983;-72.0826955
X-APPLE-STRUCTURED-LOCATION;VALUE=URI;X-ADDRESS=The Livery 58 Main St. Sunapee NH 03782 United States;X-APPLE-RADIUS=500;X-TITLE=58 Main St.:geo:-72.0826955,43.3860983
END:VEVENT
BEGIN:VEVENT
DTSTART;TZID=America/New_York:20250705T090000
DTEND;TZID=America/New_York:20250705T120000
DTSTAMP:20260425T215603
CREATED:20250510T235206Z
LAST-MODIFIED:20250510T235912Z
UID:10004368-1751706000-1751716800@lake-sunapee-living.com
SUMMARY:Sunapee Farmer’s Market
DESCRIPTION:Our vendors sell only items grown\, raised\, baked\, created\, or prepared within 75 miles of Sunapee. Our farm vendors offer their own fresh fruits and vegetables\, cheeses\, meats\, eggs\, honey and maple syrup. You’ll find all manner of baked goods\, sweet and savory\, from our prepared food vendors. There are items to stock your pantry\, like jams\, mustards and sauces. Each week we have a new artisan to offer a rich assortment of pottery\, jewelry\, wooden bowls\, and much more. \nSunapee Farmers Market\, every Saturday Memorial Day weekend until Labor Day weekend
URL:https://lake-sunapee-living.com/event/sunapee-farmers-market-3/2025-07-05/
LOCATION:NH
CATEGORIES:Farmers Market
END:VEVENT
BEGIN:VEVENT
DTSTART;TZID=America/New_York:20250705T210000
DTEND;TZID=America/New_York:20250705T213000
DTSTAMP:20260425T215603
CREATED:20250629T114229Z
LAST-MODIFIED:20250629T114229Z
UID:10004600-1751749200-1751751000@lake-sunapee-living.com
SUMMARY:Town of Sunapee Fourth of July Fireworks
DESCRIPTION:Town of Sunapee Fourth of July Fireworks\n\nSat\, Jul 5 2025\, 9 – 9:30pm
URL:https://lake-sunapee-living.com/event/town-of-sunapee-fourth-of-july-fireworks/
LOCATION:Sunapee Harbor\, 67 Main Street\, Sunapee\, NH\, 03782\, United States
CATEGORIES:Fireworks
GEO:43.3856379;-72.0816099
X-APPLE-STRUCTURED-LOCATION;VALUE=URI;X-ADDRESS=Sunapee Harbor 67 Main Street Sunapee NH 03782 United States;X-APPLE-RADIUS=500;X-TITLE=67 Main Street:geo:-72.0816099,43.3856379
END:VEVENT
END:VCALENDAR