BEGIN:VCALENDAR
VERSION:2.0
PRODID:-//Lake Sunapee Living - ECPv6.15.13//NONSGML v1.0//EN
CALSCALE:GREGORIAN
METHOD:PUBLISH
X-ORIGINAL-URL:https://lake-sunapee-living.com
X-WR-CALDESC:Events for Lake Sunapee Living
REFRESH-INTERVAL;VALUE=DURATION:PT1H
X-Robots-Tag:noindex
X-PUBLISHED-TTL:PT1H
BEGIN:VTIMEZONE
TZID:America/New_York
BEGIN:DAYLIGHT
TZOFFSETFROM:-0500
TZOFFSETTO:-0400
TZNAME:EDT
DTSTART:20170312T070000
END:DAYLIGHT
BEGIN:STANDARD
TZOFFSETFROM:-0400
TZOFFSETTO:-0500
TZNAME:EST
DTSTART:20171105T060000
END:STANDARD
BEGIN:DAYLIGHT
TZOFFSETFROM:-0500
TZOFFSETTO:-0400
TZNAME:EDT
DTSTART:20180311T070000
END:DAYLIGHT
BEGIN:STANDARD
TZOFFSETFROM:-0400
TZOFFSETTO:-0500
TZNAME:EST
DTSTART:20181104T060000
END:STANDARD
BEGIN:DAYLIGHT
TZOFFSETFROM:-0500
TZOFFSETTO:-0400
TZNAME:EDT
DTSTART:20190310T070000
END:DAYLIGHT
BEGIN:STANDARD
TZOFFSETFROM:-0400
TZOFFSETTO:-0500
TZNAME:EST
DTSTART:20191103T060000
END:STANDARD
END:VTIMEZONE
BEGIN:VEVENT
DTSTART;TZID=America/New_York:20181205T193000
DTEND;TZID=America/New_York:20181205T203000
DTSTAMP:20260425T093815
CREATED:20181202T151927Z
LAST-MODIFIED:20181202T151927Z
UID:10003688-1544038200-1544041800@lake-sunapee-living.com
SUMMARY:Winter Song Night at The Fells
DESCRIPTION:Come to the Gatehouse at The Fells to join in a sing-along.  \nBring a song to sing\, bring an instrument\, or just come to listen.  \nFree.
URL:https://lake-sunapee-living.com/event/winter-song-night-at-the-fells/
LOCATION:The Fells\, 456 Route 103A\, Newbury\, 03255\, United States
CATEGORIES:Sing-a-long
GEO:43.3526822;-72.0460611
X-APPLE-STRUCTURED-LOCATION;VALUE=URI;X-ADDRESS=The Fells 456 Route 103A Newbury 03255 United States;X-APPLE-RADIUS=500;X-TITLE=456 Route 103A:geo:-72.0460611,43.3526822
END:VEVENT
END:VCALENDAR