BEGIN:VCALENDAR
VERSION:2.0
PRODID:-//Lake Sunapee Living - ECPv6.15.13//NONSGML v1.0//EN
CALSCALE:GREGORIAN
METHOD:PUBLISH
X-ORIGINAL-URL:https://lake-sunapee-living.com
X-WR-CALDESC:Events for Lake Sunapee Living
REFRESH-INTERVAL;VALUE=DURATION:PT1H
X-Robots-Tag:noindex
X-PUBLISHED-TTL:PT1H
BEGIN:VTIMEZONE
TZID:America/New_York
BEGIN:DAYLIGHT
TZOFFSETFROM:-0500
TZOFFSETTO:-0400
TZNAME:EDT
DTSTART:20190310T070000
END:DAYLIGHT
BEGIN:STANDARD
TZOFFSETFROM:-0400
TZOFFSETTO:-0500
TZNAME:EST
DTSTART:20191103T060000
END:STANDARD
BEGIN:DAYLIGHT
TZOFFSETFROM:-0500
TZOFFSETTO:-0400
TZNAME:EDT
DTSTART:20200308T070000
END:DAYLIGHT
BEGIN:STANDARD
TZOFFSETFROM:-0400
TZOFFSETTO:-0500
TZNAME:EST
DTSTART:20201101T060000
END:STANDARD
BEGIN:DAYLIGHT
TZOFFSETFROM:-0500
TZOFFSETTO:-0400
TZNAME:EDT
DTSTART:20210314T070000
END:DAYLIGHT
BEGIN:STANDARD
TZOFFSETFROM:-0400
TZOFFSETTO:-0500
TZNAME:EST
DTSTART:20211107T060000
END:STANDARD
END:VTIMEZONE
BEGIN:VEVENT
DTSTART;VALUE=DATE:20200125
DTEND;VALUE=DATE:20200127
DTSTAMP:20260424T192427
CREATED:20191105T235539Z
LAST-MODIFIED:20191106T001352Z
UID:10003851-1579910400-1580083199@lake-sunapee-living.com
SUMMARY:SOLO Wilderness First Aid Course Hosted by the SRKG
DESCRIPTION:The Wilderness First Aid (WFA) is the perfect course for the outdoor enthusiast or trip leader who wants a basic level of first aid training for short trips with family\, friends\, and outdoor groups. The WFA is 16 hours long (two full days). This course is open to anyone over 16 years old. \nThe SRK Greenway is proud to bring this SOLO WFA course to the community. This 16-hour Wilderness First Aid course provides students with an introductory understanding of wilderness first aid. Hands-on course labs\, scenarios\, and repetition ensure students are engaged and learning for the duration of the course. SOLO courses combine multiple styles of learning to help you learn and remember course information after the course is complete. \nSOLO WFA is a 2-year certification. This also counts as a refresher course and recertification for the Wilderness First Responder (WFR) level certification. Only students holding current SOLO WFR cards will be allowed to recertify in the 2-day Wilderness First Aid program. In order to receive any certification\, the student will need to pass the ongoing evaluation of practical skills and written assessments throughout the course. This course does not include a CPR component. \nMore info at srkg.com
URL:https://lake-sunapee-living.com/event/solo-wilderness-first-aid-course-hosted-by-the-srkg/
LOCATION:Colby–Sawyer College\, 541 Main St\, New London\,\, NH\, 03257\, United States
CATEGORIES:Outdoor learning
GEO:43.4122613;-71.977968
X-APPLE-STRUCTURED-LOCATION;VALUE=URI;X-ADDRESS=Colby–Sawyer College 541 Main St New London NH 03257 United States;X-APPLE-RADIUS=500;X-TITLE=541 Main St:geo:-71.977968,43.4122613
END:VEVENT
END:VCALENDAR