BEGIN:VCALENDAR
VERSION:2.0
PRODID:-//Lake Sunapee Living - ECPv6.15.13//NONSGML v1.0//EN
CALSCALE:GREGORIAN
METHOD:PUBLISH
X-ORIGINAL-URL:https://lake-sunapee-living.com
X-WR-CALDESC:Events for Lake Sunapee Living
REFRESH-INTERVAL;VALUE=DURATION:PT1H
X-Robots-Tag:noindex
X-PUBLISHED-TTL:PT1H
BEGIN:VTIMEZONE
TZID:America/New_York
BEGIN:DAYLIGHT
TZOFFSETFROM:-0500
TZOFFSETTO:-0400
TZNAME:EDT
DTSTART:20160313T070000
END:DAYLIGHT
BEGIN:STANDARD
TZOFFSETFROM:-0400
TZOFFSETTO:-0500
TZNAME:EST
DTSTART:20161106T060000
END:STANDARD
BEGIN:DAYLIGHT
TZOFFSETFROM:-0500
TZOFFSETTO:-0400
TZNAME:EDT
DTSTART:20170312T070000
END:DAYLIGHT
BEGIN:STANDARD
TZOFFSETFROM:-0400
TZOFFSETTO:-0500
TZNAME:EST
DTSTART:20171105T060000
END:STANDARD
BEGIN:DAYLIGHT
TZOFFSETFROM:-0500
TZOFFSETTO:-0400
TZNAME:EDT
DTSTART:20180311T070000
END:DAYLIGHT
BEGIN:STANDARD
TZOFFSETFROM:-0400
TZOFFSETTO:-0500
TZNAME:EST
DTSTART:20181104T060000
END:STANDARD
BEGIN:DAYLIGHT
TZOFFSETFROM:-0500
TZOFFSETTO:-0400
TZNAME:EDT
DTSTART:20190310T070000
END:DAYLIGHT
BEGIN:STANDARD
TZOFFSETFROM:-0400
TZOFFSETTO:-0500
TZNAME:EST
DTSTART:20191103T060000
END:STANDARD
END:VTIMEZONE
BEGIN:VEVENT
DTSTART;TZID=America/New_York:20171202T090000
DTEND;TZID=America/New_York:20171202T150000
DTSTAMP:20260424T214359
CREATED:20171127T014616Z
LAST-MODIFIED:20171127T014616Z
UID:10000037-1512205200-1512226800@lake-sunapee-living.com
SUMMARY:WCA Holiday Craft Fair in Andover\, NH
DESCRIPTION:Date: December\, 2nd 2017 9:00 am – 3:00 pm\nWCA HOLIDAY CRAFT FAIR 2017 \nSaturday\, December 2nd\, 9 AM – 3 PM \nLOCATION: Andover Elementary/Middle School Gym – 20 School Street in Andover
URL:https://lake-sunapee-living.com/event/wca-holiday-craft-fair-andover-nh/
CATEGORIES:Crafts
END:VEVENT
BEGIN:VEVENT
DTSTART;TZID=America/New_York:20180120T130000
DTEND;TZID=America/New_York:20180120T153000
DTSTAMP:20260424T214359
CREATED:20180106T010206Z
LAST-MODIFIED:20180106T010206Z
UID:10000199-1516453200-1516462200@lake-sunapee-living.com
SUMMARY:Wilmot Community Association Annual Meeting
DESCRIPTION:WCA Annual Meeting and special presentation for dog lovers \nJoin the board of directors of the Wilmot Community Association (WCA) for an action-packed Annual Meeting at 1 p.m. on Saturday\, January 20. The meeting will take place at the WCA’s  Red Barn at 64 Village Road in Wilmot. All are welcome and WCA members are encouraged to attend. Meet with friends and neighbors\, cheer 2017 successes and learn about plans for 2018. Make sure you stick around for refreshments and a great presentation on New Hampshire’s state dog by Bob Cottrell. \nmore info: \nhttp://www.WilmotWCA.org
URL:https://lake-sunapee-living.com/event/wilmot-community-association-annual-meeting/
CATEGORIES:Community Event
ATTACH;FMTTYPE=image/jpeg:https://lake-sunapee-living.com/wp-content/uploads/2018/01/chinook.jpg
END:VEVENT
END:VCALENDAR