BEGIN:VCALENDAR
VERSION:2.0
PRODID:-//Lake Sunapee Living - ECPv6.15.13//NONSGML v1.0//EN
CALSCALE:GREGORIAN
METHOD:PUBLISH
X-ORIGINAL-URL:https://lake-sunapee-living.com
X-WR-CALDESC:Events for Lake Sunapee Living
REFRESH-INTERVAL;VALUE=DURATION:PT1H
X-Robots-Tag:noindex
X-PUBLISHED-TTL:PT1H
BEGIN:VTIMEZONE
TZID:America/New_York
BEGIN:DAYLIGHT
TZOFFSETFROM:-0500
TZOFFSETTO:-0400
TZNAME:EDT
DTSTART:20160313T070000
END:DAYLIGHT
BEGIN:STANDARD
TZOFFSETFROM:-0400
TZOFFSETTO:-0500
TZNAME:EST
DTSTART:20161106T060000
END:STANDARD
BEGIN:DAYLIGHT
TZOFFSETFROM:-0500
TZOFFSETTO:-0400
TZNAME:EDT
DTSTART:20170312T070000
END:DAYLIGHT
BEGIN:STANDARD
TZOFFSETFROM:-0400
TZOFFSETTO:-0500
TZNAME:EST
DTSTART:20171105T060000
END:STANDARD
BEGIN:DAYLIGHT
TZOFFSETFROM:-0500
TZOFFSETTO:-0400
TZNAME:EDT
DTSTART:20180311T070000
END:DAYLIGHT
BEGIN:STANDARD
TZOFFSETFROM:-0400
TZOFFSETTO:-0500
TZNAME:EST
DTSTART:20181104T060000
END:STANDARD
BEGIN:DAYLIGHT
TZOFFSETFROM:-0500
TZOFFSETTO:-0400
TZNAME:EDT
DTSTART:20190310T070000
END:DAYLIGHT
BEGIN:STANDARD
TZOFFSETFROM:-0400
TZOFFSETTO:-0500
TZNAME:EST
DTSTART:20191103T060000
END:STANDARD
BEGIN:DAYLIGHT
TZOFFSETFROM:-0500
TZOFFSETTO:-0400
TZNAME:EDT
DTSTART:20200308T070000
END:DAYLIGHT
BEGIN:STANDARD
TZOFFSETFROM:-0400
TZOFFSETTO:-0500
TZNAME:EST
DTSTART:20201101T060000
END:STANDARD
BEGIN:DAYLIGHT
TZOFFSETFROM:-0500
TZOFFSETTO:-0400
TZNAME:EDT
DTSTART:20210314T070000
END:DAYLIGHT
BEGIN:STANDARD
TZOFFSETFROM:-0400
TZOFFSETTO:-0500
TZNAME:EST
DTSTART:20211107T060000
END:STANDARD
BEGIN:DAYLIGHT
TZOFFSETFROM:-0500
TZOFFSETTO:-0400
TZNAME:EDT
DTSTART:20220313T070000
END:DAYLIGHT
BEGIN:STANDARD
TZOFFSETFROM:-0400
TZOFFSETTO:-0500
TZNAME:EST
DTSTART:20221106T060000
END:STANDARD
BEGIN:DAYLIGHT
TZOFFSETFROM:-0500
TZOFFSETTO:-0400
TZNAME:EDT
DTSTART:20230312T070000
END:DAYLIGHT
BEGIN:STANDARD
TZOFFSETFROM:-0400
TZOFFSETTO:-0500
TZNAME:EST
DTSTART:20231105T060000
END:STANDARD
END:VTIMEZONE
BEGIN:VEVENT
DTSTART;TZID=America/New_York:20171006T180000
DTEND;TZID=America/New_York:20171006T220000
DTSTAMP:20260424T153219
CREATED:20171003T000330Z
LAST-MODIFIED:20171003T000330Z
UID:10000167-1507312800-1507327200@lake-sunapee-living.com
SUMMARY:Warner Fall Foliage Festival: Day 1
DESCRIPTION:Save the Date for our 70th Festival Celebration\n Main Street\, Warner\, NH\n OCTOBER 6TH – 8TH\, 2017 \nCome celebrate rural life and vibrant foliage at our free\, family-oriented community festival in the village of Warner\, NH. Three days of events include a full lineup of open-air concerts\, 2 parades\, a 5-mile road race\, kids’ fun run and dance party\, oxen and woodsmen’s contests\, fresh lobster and chicken BBQ\, amusement rides\, street performers\, and a host of artisans\, farmer’s market\, and food vendors. \nhttp://wfff.org
URL:https://lake-sunapee-living.com/event/warner-fall-foliage-festival-day-1/
LOCATION:NH
CATEGORIES:Harvest Festival
END:VEVENT
BEGIN:VEVENT
DTSTART;TZID=America/New_York:20171007T070000
DTEND;TZID=America/New_York:20171007T220000
DTSTAMP:20260424T153219
CREATED:20171003T000444Z
LAST-MODIFIED:20171003T000444Z
UID:10000168-1507359600-1507413600@lake-sunapee-living.com
SUMMARY:Warner Fall Foliage Festival: Day 2
DESCRIPTION:Save the Date for our 70th Festival Celebration\n Main Street\, Warner\, NH\n OCTOBER 6TH – 8TH\, 2017 \nCome celebrate rural life and vibrant foliage at our free\, family-oriented community festival in the village of Warner\, NH. Three days of events include a full lineup of open-air concerts\, 2 parades\, a 5-mile road race\, kids’ fun run and dance party\, oxen and woodsmen’s contests\, fresh lobster and chicken BBQ\, amusement rides\, street performers\, and a host of artisans\, farmer’s market\, and food vendors. \nhttp://wfff.org
URL:https://lake-sunapee-living.com/event/warner-fall-foliage-festival-day-2/
LOCATION:NH
CATEGORIES:Harvest Festival
END:VEVENT
BEGIN:VEVENT
DTSTART;TZID=America/New_York:20171008T070000
DTEND;TZID=America/New_York:20171008T180000
DTSTAMP:20260424T153219
CREATED:20171003T000545Z
LAST-MODIFIED:20171003T000545Z
UID:10000170-1507446000-1507485600@lake-sunapee-living.com
SUMMARY:Warner Fall Foliage Festival: Day 3
DESCRIPTION:Save the Date for our 70th Festival Celebration\n Main Street\, Warner\, NH\n OCTOBER 6TH – 8TH\, 2017 \nCome celebrate rural life and vibrant foliage at our free\, family-oriented community festival in the village of Warner\, NH. Three days of events include a full lineup of open-air concerts\, 2 parades\, a 5-mile road race\, kids’ fun run and dance party\, oxen and woodsmen’s contests\, fresh lobster and chicken BBQ\, amusement rides\, street performers\, and a host of artisans\, farmer’s market\, and food vendors. \nhttp://wfff.org
URL:https://lake-sunapee-living.com/event/warner-fall-foliage-festival-day-3/
LOCATION:NH
CATEGORIES:Harvest Festival
END:VEVENT
BEGIN:VEVENT
DTSTART;VALUE=DATE:20191011
DTEND;VALUE=DATE:20191014
DTSTAMP:20260424T153219
CREATED:20191006T230023Z
LAST-MODIFIED:20191006T230023Z
UID:10003848-1570752000-1571011199@lake-sunapee-living.com
SUMMARY:72nd Warner Fall Foliage Festival
DESCRIPTION:Join us Oct 11-13 for the 72nd Annual Warner Fall Foliage Festival in Downtown Warner\, NH \nCome celebrate rural life and vibrant foliage at our free\, family-oriented community festival in the village of Warner\, NH. Three days of events include a full lineup of open-air concerts\, 2 parades\, a 5K road race\, kids’ fun run and dance party\, oxen and woodsmen’s contests\, fresh lobster and chicken BBQ\, amusement rides\, street performers\, and a host of artisans\, farmer’s market\, and food vendors. \nVisit wfff.org for more information
URL:https://lake-sunapee-living.com/event/72nd-warner-fall-foliage-festival/
LOCATION:MainStreet Warner Stage\, 16 E Main St\, Warner\, NH\, 03278\, United States
CATEGORIES:Fall Festival
GEO:43.2803256;-71.815822
X-APPLE-STRUCTURED-LOCATION;VALUE=URI;X-ADDRESS=MainStreet Warner Stage 16 E Main St Warner NH 03278 United States;X-APPLE-RADIUS=500;X-TITLE=16 E Main St:geo:-71.815822,43.2803256
END:VEVENT
BEGIN:VEVENT
DTSTART;TZID=America/New_York:20221023T090000
DTEND;TZID=America/New_York:20221024T210000
DTSTAMP:20260424T153219
CREATED:20180910T001713Z
LAST-MODIFIED:20180910T001713Z
UID:10002106-1666515600-1666645200@lake-sunapee-living.com
SUMMARY:71st Annual Warner Fall Foliage Festival
DESCRIPTION:The 71st Annual Warner Fall Foliage Festival is scheduled during the upcoming Columbus Day Weekend. The festival begins on Friday\, October 5\, when the midway opens from 6 to 9 PM. The DoBros\, a local folkgrass/rock band\, are scheduled to play on the MainStreet Warner Stage from 7:30 to 10 PM. There will be numerous activities and entertainment throughout downtown on Saturday\, October 6\, from 9 AM to 9 PM\, and Sunday\, October 7\, from 9 AM to 5 PM. Parking is $5 and will be at the west end of town\, with free shuttle bus service to and from the festival. \nThe festival’s center will be located downtown Warner around Main Street\, and there will be easy access to the midway\, food tents and outdoors picnicking. As always\, there will be crafters\, a farmers market\, rides\, food\, parades\, road races\, raffles\, music\, country breakfasts and dinners…and much more. \nA renovated location behind The Foothills restaurant will host an Oxen Pull competition on Saturday starting at 9:30 AM. In this same location\, our very popular Woodsmen competition begins on Sunday at 11 AM. \nThe festival is organized by hundreds of local volunteers. All proceeds from the festival go directly back into the community to support the growth and enrichment of local culture\, music\, art\, sports\, town and school programs\, parks and facilities. \nEvent date\n2018-10-05
URL:https://lake-sunapee-living.com/event/71st-annual-warner-fall-foliage-festival/2022-10-23/
LOCATION:Warner Town Hall\, 5 E. Main St.\, Warner\, NH\, 03278\, United States
CATEGORIES:Fall Festival
GEO:43.281051;-71.815856
X-APPLE-STRUCTURED-LOCATION;VALUE=URI;X-ADDRESS=Warner Town Hall 5 E. Main St. Warner NH 03278 United States;X-APPLE-RADIUS=500;X-TITLE=5 E. Main St.:geo:-71.815856,43.281051
END:VEVENT
END:VCALENDAR