BEGIN:VCALENDAR
VERSION:2.0
PRODID:-//Lake Sunapee Living - ECPv6.15.13//NONSGML v1.0//EN
CALSCALE:GREGORIAN
METHOD:PUBLISH
X-ORIGINAL-URL:https://lake-sunapee-living.com
X-WR-CALDESC:Events for Lake Sunapee Living
REFRESH-INTERVAL;VALUE=DURATION:PT1H
X-Robots-Tag:noindex
X-PUBLISHED-TTL:PT1H
BEGIN:VTIMEZONE
TZID:America/New_York
BEGIN:DAYLIGHT
TZOFFSETFROM:-0500
TZOFFSETTO:-0400
TZNAME:EDT
DTSTART:20210314T070000
END:DAYLIGHT
BEGIN:STANDARD
TZOFFSETFROM:-0400
TZOFFSETTO:-0500
TZNAME:EST
DTSTART:20211107T060000
END:STANDARD
BEGIN:DAYLIGHT
TZOFFSETFROM:-0500
TZOFFSETTO:-0400
TZNAME:EDT
DTSTART:20220313T070000
END:DAYLIGHT
BEGIN:STANDARD
TZOFFSETFROM:-0400
TZOFFSETTO:-0500
TZNAME:EST
DTSTART:20221106T060000
END:STANDARD
BEGIN:DAYLIGHT
TZOFFSETFROM:-0500
TZOFFSETTO:-0400
TZNAME:EDT
DTSTART:20230312T070000
END:DAYLIGHT
BEGIN:STANDARD
TZOFFSETFROM:-0400
TZOFFSETTO:-0500
TZNAME:EST
DTSTART:20231105T060000
END:STANDARD
END:VTIMEZONE
BEGIN:VEVENT
DTSTART;TZID=America/New_York:20220723T190000
DTEND;TZID=America/New_York:20220723T203000
DTSTAMP:20260424T204209
CREATED:20220605T134217Z
LAST-MODIFIED:20220605T134311Z
UID:10000593-1658602800-1658608200@lake-sunapee-living.com
SUMMARY:Live Opera at Colby Sawyer Theater: Wagner's Ring in One Evening
DESCRIPTION:Wagner’s Ring in One Evening\nWitness the exuberance and thrill of Wagner’s masterpiece on gods\, heroes\, and mythical love…all in one unforgettably epic evening! \nberlinwagnergroup.org/tickets.html \n 
URL:https://lake-sunapee-living.com/event/live-music-at-colby-sawyer-theater-wagners-ring-in-one-evening/
LOCATION:Colby–Sawyer College\, 541 Main St\, New London\,\, NH\, 03257\, United States
CATEGORIES:Live Music
GEO:43.4122613;-71.977968
X-APPLE-STRUCTURED-LOCATION;VALUE=URI;X-ADDRESS=Colby–Sawyer College 541 Main St New London NH 03257 United States;X-APPLE-RADIUS=500;X-TITLE=541 Main St:geo:-71.977968,43.4122613
END:VEVENT
END:VCALENDAR