BEGIN:VCALENDAR
VERSION:2.0
PRODID:-//Lake Sunapee Living - ECPv6.15.13//NONSGML v1.0//EN
CALSCALE:GREGORIAN
METHOD:PUBLISH
X-ORIGINAL-URL:https://lake-sunapee-living.com
X-WR-CALDESC:Events for Lake Sunapee Living
REFRESH-INTERVAL;VALUE=DURATION:PT1H
X-Robots-Tag:noindex
X-PUBLISHED-TTL:PT1H
BEGIN:VTIMEZONE
TZID:America/New_York
BEGIN:DAYLIGHT
TZOFFSETFROM:-0500
TZOFFSETTO:-0400
TZNAME:EDT
DTSTART:20160313T070000
END:DAYLIGHT
BEGIN:STANDARD
TZOFFSETFROM:-0400
TZOFFSETTO:-0500
TZNAME:EST
DTSTART:20161106T060000
END:STANDARD
BEGIN:DAYLIGHT
TZOFFSETFROM:-0500
TZOFFSETTO:-0400
TZNAME:EDT
DTSTART:20170312T070000
END:DAYLIGHT
BEGIN:STANDARD
TZOFFSETFROM:-0400
TZOFFSETTO:-0500
TZNAME:EST
DTSTART:20171105T060000
END:STANDARD
BEGIN:DAYLIGHT
TZOFFSETFROM:-0500
TZOFFSETTO:-0400
TZNAME:EDT
DTSTART:20180311T070000
END:DAYLIGHT
BEGIN:STANDARD
TZOFFSETFROM:-0400
TZOFFSETTO:-0500
TZNAME:EST
DTSTART:20181104T060000
END:STANDARD
END:VTIMEZONE
BEGIN:VEVENT
DTSTART;TZID=America/New_York:20170921T190000
DTEND;TZID=America/New_York:20170921T210000
DTSTAMP:20260424T232217
CREATED:20170907T224452Z
LAST-MODIFIED:20170907T224452Z
UID:10000123-1506020400-1506027600@lake-sunapee-living.com
SUMMARY:Tim Kelly Jazz piano-vocal concert to benefit the Library Arts Center
DESCRIPTION:Jazz piano-vocal concert by Tim Kelly to benefit the Library Arts Center \nOn the evening of September 21st from 7 to 9 p.m. there will be a very special performance indeed! Internationally traveled jazz pianist-vocalist Tim Kelly will be performing classic Jazz standards as well as Modern Jazz and Originals. \nAll proceeds go to the Newport Library Arts Center and the tickets are $10 per person.
URL:https://lake-sunapee-living.com/event/tim-kelly-jazz-piano-vocal-concert-benefit-library-arts-center/
CATEGORIES:Concert
END:VEVENT
END:VCALENDAR