BEGIN:VCALENDAR
VERSION:2.0
PRODID:-//Lake Sunapee Living - ECPv6.15.13//NONSGML v1.0//EN
CALSCALE:GREGORIAN
METHOD:PUBLISH
X-ORIGINAL-URL:https://lake-sunapee-living.com
X-WR-CALDESC:Events for Lake Sunapee Living
REFRESH-INTERVAL;VALUE=DURATION:PT1H
X-Robots-Tag:noindex
X-PUBLISHED-TTL:PT1H
BEGIN:VTIMEZONE
TZID:America/New_York
BEGIN:DAYLIGHT
TZOFFSETFROM:-0500
TZOFFSETTO:-0400
TZNAME:EDT
DTSTART:20160313T070000
END:DAYLIGHT
BEGIN:STANDARD
TZOFFSETFROM:-0400
TZOFFSETTO:-0500
TZNAME:EST
DTSTART:20161106T060000
END:STANDARD
BEGIN:DAYLIGHT
TZOFFSETFROM:-0500
TZOFFSETTO:-0400
TZNAME:EDT
DTSTART:20170312T070000
END:DAYLIGHT
BEGIN:STANDARD
TZOFFSETFROM:-0400
TZOFFSETTO:-0500
TZNAME:EST
DTSTART:20171105T060000
END:STANDARD
BEGIN:DAYLIGHT
TZOFFSETFROM:-0500
TZOFFSETTO:-0400
TZNAME:EDT
DTSTART:20180311T070000
END:DAYLIGHT
BEGIN:STANDARD
TZOFFSETFROM:-0400
TZOFFSETTO:-0500
TZNAME:EST
DTSTART:20181104T060000
END:STANDARD
BEGIN:DAYLIGHT
TZOFFSETFROM:-0500
TZOFFSETTO:-0400
TZNAME:EDT
DTSTART:20190310T070000
END:DAYLIGHT
BEGIN:STANDARD
TZOFFSETFROM:-0400
TZOFFSETTO:-0500
TZNAME:EST
DTSTART:20191103T060000
END:STANDARD
BEGIN:DAYLIGHT
TZOFFSETFROM:-0500
TZOFFSETTO:-0400
TZNAME:EDT
DTSTART:20200308T070000
END:DAYLIGHT
BEGIN:STANDARD
TZOFFSETFROM:-0400
TZOFFSETTO:-0500
TZNAME:EST
DTSTART:20201101T060000
END:STANDARD
BEGIN:DAYLIGHT
TZOFFSETFROM:-0500
TZOFFSETTO:-0400
TZNAME:EDT
DTSTART:20210314T070000
END:DAYLIGHT
BEGIN:STANDARD
TZOFFSETFROM:-0400
TZOFFSETTO:-0500
TZNAME:EST
DTSTART:20211107T060000
END:STANDARD
BEGIN:DAYLIGHT
TZOFFSETFROM:-0500
TZOFFSETTO:-0400
TZNAME:EDT
DTSTART:20220313T070000
END:DAYLIGHT
BEGIN:STANDARD
TZOFFSETFROM:-0400
TZOFFSETTO:-0500
TZNAME:EST
DTSTART:20221106T060000
END:STANDARD
BEGIN:DAYLIGHT
TZOFFSETFROM:-0500
TZOFFSETTO:-0400
TZNAME:EDT
DTSTART:20230312T070000
END:DAYLIGHT
BEGIN:STANDARD
TZOFFSETFROM:-0400
TZOFFSETTO:-0500
TZNAME:EST
DTSTART:20231105T060000
END:STANDARD
BEGIN:DAYLIGHT
TZOFFSETFROM:-0500
TZOFFSETTO:-0400
TZNAME:EDT
DTSTART:20240310T070000
END:DAYLIGHT
BEGIN:STANDARD
TZOFFSETFROM:-0400
TZOFFSETTO:-0500
TZNAME:EST
DTSTART:20241103T060000
END:STANDARD
BEGIN:DAYLIGHT
TZOFFSETFROM:-0500
TZOFFSETTO:-0400
TZNAME:EDT
DTSTART:20250309T070000
END:DAYLIGHT
BEGIN:STANDARD
TZOFFSETFROM:-0400
TZOFFSETTO:-0500
TZNAME:EST
DTSTART:20251102T060000
END:STANDARD
END:VTIMEZONE
BEGIN:VEVENT
DTSTART;TZID=America/New_York:20171008T110000
DTEND;TZID=America/New_York:20171008T160000
DTSTAMP:20260424T152459
CREATED:20170921T235437Z
LAST-MODIFIED:20170921T235437Z
UID:10000016-1507460400-1507478400@lake-sunapee-living.com
SUMMARY:Fine Arts & Crafts Exhibit & Sale at The Livery
DESCRIPTION:6th Annual Columbus Day Fine Arts & Crafts Exhibit & Sale at The Livery in Sunapee Harbor
URL:https://lake-sunapee-living.com/event/fine-arts-crafts-exhibit-sale-livery/
LOCATION:NH
CATEGORIES:Crafts
END:VEVENT
BEGIN:VEVENT
DTSTART;VALUE=DATE:20180817
DTEND;VALUE=DATE:20180820
DTSTAMP:20260424T152459
CREATED:20180508T232820Z
LAST-MODIFIED:20180508T232852Z
UID:10000248-1534464000-1534723199@lake-sunapee-living.com
SUMMARY:Art Exhibit: Scenes of Sunapee Through the Years
DESCRIPTION:Sunapee’s 250th Celebration Art Exhibit Scenes of Sunapee Through the Years At The Livery (Annex)\, Sunapee Harbor\, August 17 – 19\, 2018  \nSubmission applications due by July 20\, 2018  \nFor Info: www.SunapeeHistoricalSociety.org  \n603-763-9872  \nSponsored by the Sunapee Historical Society & Sunapee Heritage Alliance \n 
URL:https://lake-sunapee-living.com/event/art-exhibit-scenes-of-sunapee-through-the-years/
LOCATION:NH
CATEGORIES:Art Exhibition
END:VEVENT
BEGIN:VEVENT
DTSTART;TZID=America/New_York:20181019T180000
DTEND;TZID=America/New_York:20181019T220000
DTSTAMP:20260424T152459
CREATED:20181010T020051Z
LAST-MODIFIED:20181010T020152Z
UID:10003595-1539972000-1539986400@lake-sunapee-living.com
SUMMARY:Fall Community Dinner & Dance At the Livery
DESCRIPTION:FALL COMMUNITY DINNER & DANCE \nAt the Livery – $25 Per Person \nPlease come and enjoy a casual fun evening featuring local foods and great music.\nBring any hot dishes ready to eat and we will keep them warm.\nAttendance  limited to 60 people – buy your tickets now! \nSunapee Heritage Alliance invites you to a Fundraiser to support the Livery in Sunapee Harbor  \nARRIVE 6PM – DINNER 7PM – DANCING 8PM \nTo purchase tickets: sunapeeheritage.org \nWe are providing: Appetizers – Organic Free Range Roast Chicken – Beer & Wine \nNeighbors and friends are bringing Salads – Side Dishes – Desserts to Share \n  \n 
URL:https://lake-sunapee-living.com/event/fall-community-dinner-dance-at-the-livery/
LOCATION:The Livery\, 58 Main St.\, Sunapee\, NH\, 03782\, United States
CATEGORIES:Fall Festival
GEO:43.3860983;-72.0826955
X-APPLE-STRUCTURED-LOCATION;VALUE=URI;X-ADDRESS=The Livery 58 Main St. Sunapee NH 03782 United States;X-APPLE-RADIUS=500;X-TITLE=58 Main St.:geo:-72.0826955,43.3860983
END:VEVENT
BEGIN:VEVENT
DTSTART;VALUE=DATE:20210717
DTEND;VALUE=DATE:20210726
DTSTAMP:20260424T152459
CREATED:20210607T230141Z
LAST-MODIFIED:20210607T230251Z
UID:10004016-1626480000-1627257599@lake-sunapee-living.com
SUMMARY:“Naturally New England” - Summer Fine Art Show at The Livery
DESCRIPTION:“Naturally New England” – Annual Summer Fine Art Show \nFifty Juried Artists Show and Sell their work at The Livery\, Sunapee Harbor \nJuly 16th Friday\, show opens 3:00 PM- 7:00 PM\nJuly 17th Saturday Show open 11:00-7:00\nJuly 17th Opening Reception 5:00-7:00 PM\nJuly18th – Sunday Show open 11:00-7:00 PM\nJuly 19th- Monday Show open 2:00-6:00 PM\nJuly 20th- Tuesday Show open 2:00-6:00 PM\nJuly 21st – Wednesday Show open 2:00-6:00 PM\nJuly 22nd- Thursday Show open 2:00-6:00 PM\nJuly 23rd- Friday Show open 2:00-6:00 PM\nJuly 24th- Saturday Show open 11:00-8:00 PM\nJuly 24th- Closing Reception 5:00-7:30 PM\nJuly 25th- Sunday Show open 11:00-7:00 PM \ncenterfortheartsnh.org/naturally-new-england
URL:https://lake-sunapee-living.com/event/naturally-new-england-summer-fine-art-show-at-the-livery/
LOCATION:Sunapee Harbor\, 67 Main Street\, Sunapee\, NH\, 03782\, United States
CATEGORIES:Art Exhibition
GEO:43.3856379;-72.0816099
X-APPLE-STRUCTURED-LOCATION;VALUE=URI;X-ADDRESS=Sunapee Harbor 67 Main Street Sunapee NH 03782 United States;X-APPLE-RADIUS=500;X-TITLE=67 Main Street:geo:-72.0816099,43.3856379
END:VEVENT
BEGIN:VEVENT
DTSTART;TZID=America/New_York:20240730T190000
DTEND;TZID=America/New_York:20240730T210000
DTSTAMP:20260424T152459
CREATED:20240724T151705Z
LAST-MODIFIED:20240728T200757Z
UID:10004307-1722366000-1722373200@lake-sunapee-living.com
SUMMARY:Live Music: Friday Night Music Series at The Livery
DESCRIPTION:Join us for the Friday Night Music Series \nTickets: $20 | Season Pass: $175.\ninfo@thelivery.org thelivery.org
URL:https://lake-sunapee-living.com/event/live-music-friday-night-music-series-at-the-livery/
LOCATION:The Livery\, 58 Main St.\, Sunapee\, NH\, 03782\, United States
CATEGORIES:Live Music
GEO:43.3860983;-72.0826955
X-APPLE-STRUCTURED-LOCATION;VALUE=URI;X-ADDRESS=The Livery 58 Main St. Sunapee NH 03782 United States;X-APPLE-RADIUS=500;X-TITLE=58 Main St.:geo:-72.0826955,43.3860983
END:VEVENT
END:VCALENDAR