BEGIN:VCALENDAR
VERSION:2.0
PRODID:-//Lake Sunapee Living - ECPv6.15.13//NONSGML v1.0//EN
CALSCALE:GREGORIAN
METHOD:PUBLISH
X-ORIGINAL-URL:https://lake-sunapee-living.com
X-WR-CALDESC:Events for Lake Sunapee Living
REFRESH-INTERVAL;VALUE=DURATION:PT1H
X-Robots-Tag:noindex
X-PUBLISHED-TTL:PT1H
BEGIN:VTIMEZONE
TZID:America/New_York
BEGIN:DAYLIGHT
TZOFFSETFROM:-0500
TZOFFSETTO:-0400
TZNAME:EDT
DTSTART:20170312T070000
END:DAYLIGHT
BEGIN:STANDARD
TZOFFSETFROM:-0400
TZOFFSETTO:-0500
TZNAME:EST
DTSTART:20171105T060000
END:STANDARD
BEGIN:DAYLIGHT
TZOFFSETFROM:-0500
TZOFFSETTO:-0400
TZNAME:EDT
DTSTART:20180311T070000
END:DAYLIGHT
BEGIN:STANDARD
TZOFFSETFROM:-0400
TZOFFSETTO:-0500
TZNAME:EST
DTSTART:20181104T060000
END:STANDARD
BEGIN:DAYLIGHT
TZOFFSETFROM:-0500
TZOFFSETTO:-0400
TZNAME:EDT
DTSTART:20190310T070000
END:DAYLIGHT
BEGIN:STANDARD
TZOFFSETFROM:-0400
TZOFFSETTO:-0500
TZNAME:EST
DTSTART:20191103T060000
END:STANDARD
BEGIN:DAYLIGHT
TZOFFSETFROM:-0500
TZOFFSETTO:-0400
TZNAME:EDT
DTSTART:20200308T070000
END:DAYLIGHT
BEGIN:STANDARD
TZOFFSETFROM:-0400
TZOFFSETTO:-0500
TZNAME:EST
DTSTART:20201101T060000
END:STANDARD
BEGIN:DAYLIGHT
TZOFFSETFROM:-0500
TZOFFSETTO:-0400
TZNAME:EDT
DTSTART:20210314T070000
END:DAYLIGHT
BEGIN:STANDARD
TZOFFSETFROM:-0400
TZOFFSETTO:-0500
TZNAME:EST
DTSTART:20211107T060000
END:STANDARD
BEGIN:DAYLIGHT
TZOFFSETFROM:-0500
TZOFFSETTO:-0400
TZNAME:EDT
DTSTART:20220313T070000
END:DAYLIGHT
BEGIN:STANDARD
TZOFFSETFROM:-0400
TZOFFSETTO:-0500
TZNAME:EST
DTSTART:20221106T060000
END:STANDARD
END:VTIMEZONE
BEGIN:VEVENT
DTSTART;TZID=America/New_York:20180714T180000
DTEND;TZID=America/New_York:20180714T193000
DTSTAMP:20260424T180720
CREATED:20180705T162042Z
LAST-MODIFIED:20180705T162042Z
UID:10000193-1531591200-1531596600@lake-sunapee-living.com
SUMMARY:Live Music at the Wilmot Bandstand: The Bel Airs
DESCRIPTION:The Bel Airs\, doo wop \nMore information is available at www.wilmotWCA.org\, at 526-7934 or follow the WCA on Facebook.
URL:https://lake-sunapee-living.com/event/live-music-at-the-wilmot-bandstand-the-bel-airs/
LOCATION:Wilmot Bandstand\, 1 Kearsarge Valley Road\, Wilmot\, NH\, 03287\, United States
CATEGORIES:Free Outdoor Concert
GEO:43.3535433;-71.9151439
X-APPLE-STRUCTURED-LOCATION;VALUE=URI;X-ADDRESS=Wilmot Bandstand 1 Kearsarge Valley Road Wilmot NH 03287 United States;X-APPLE-RADIUS=500;X-TITLE=1 Kearsarge Valley Road:geo:-71.9151439,43.3535433
END:VEVENT
BEGIN:VEVENT
DTSTART;TZID=America/New_York:20180829T183000
DTEND;TZID=America/New_York:20180829T203000
DTSTAMP:20260424T180720
CREATED:20180606T150205Z
LAST-MODIFIED:20180606T150205Z
UID:10000396-1535567400-1535574600@lake-sunapee-living.com
SUMMARY:Live Music: The Bel Airs at the Ben Mere Bandstand
DESCRIPTION:Take a ride on a musical time machine back to the days of shiny metal diners\, beehive hairdoos\, big fins on cars\, with street corner harmony. \nThis five member doo wop vocal group will whisk you back to those simple days of late 50s and early 60s with exquisite five part harmonies.
URL:https://lake-sunapee-living.com/event/live-music-the-bel-airs-at-the-ben-mere-bandstand/
LOCATION:Ben Mere Bandstand\, 2 Lake Ave\, Sunapee\, NH\, 03782\, United States
CATEGORIES:Concert
GEO:43.3849832;-72.0801034
X-APPLE-STRUCTURED-LOCATION;VALUE=URI;X-ADDRESS=Ben Mere Bandstand 2 Lake Ave Sunapee NH 03782 United States;X-APPLE-RADIUS=500;X-TITLE=2 Lake Ave:geo:-72.0801034,43.3849832
END:VEVENT
BEGIN:VEVENT
DTSTART;TZID=America/New_York:20210725T180000
DTEND;TZID=America/New_York:20210725T200000
DTSTAMP:20260424T180720
CREATED:20210625T002717Z
LAST-MODIFIED:20210625T002717Z
UID:10004046-1627236000-1627243200@lake-sunapee-living.com
SUMMARY:Free Live Music:  The Bel Airs at The Newport Town Common
DESCRIPTION:The Newport Area Chamber of Commerce presents our annual Concerts On The Newport Common. \nThese are FREE to the public. \nBring your lawn chair\, blanket\, and your entire family for this wonderful summer tradition every Sunday from 6-8pm. \nIn the event of rain\, the concerts will be canceled.
URL:https://lake-sunapee-living.com/event/free-live-music-the-bel-airs-at-the-newport-town-common/
LOCATION:Newport Town Common\, 15 Park St\, Newport\, NH\, 03773\, United States
CATEGORIES:Free Outdoor Concert
GEO:43.3659042;-72.1734984
X-APPLE-STRUCTURED-LOCATION;VALUE=URI;X-ADDRESS=Newport Town Common 15 Park St Newport NH 03773 United States;X-APPLE-RADIUS=500;X-TITLE=15 Park St:geo:-72.1734984,43.3659042
END:VEVENT
END:VCALENDAR