BEGIN:VCALENDAR
VERSION:2.0
PRODID:-//Lake Sunapee Living - ECPv6.15.13//NONSGML v1.0//EN
CALSCALE:GREGORIAN
METHOD:PUBLISH
X-ORIGINAL-URL:https://lake-sunapee-living.com
X-WR-CALDESC:Events for Lake Sunapee Living
REFRESH-INTERVAL;VALUE=DURATION:PT1H
X-Robots-Tag:noindex
X-PUBLISHED-TTL:PT1H
BEGIN:VTIMEZONE
TZID:America/New_York
BEGIN:DAYLIGHT
TZOFFSETFROM:-0500
TZOFFSETTO:-0400
TZNAME:EDT
DTSTART:20210314T070000
END:DAYLIGHT
BEGIN:STANDARD
TZOFFSETFROM:-0400
TZOFFSETTO:-0500
TZNAME:EST
DTSTART:20211107T060000
END:STANDARD
BEGIN:DAYLIGHT
TZOFFSETFROM:-0500
TZOFFSETTO:-0400
TZNAME:EDT
DTSTART:20220313T070000
END:DAYLIGHT
BEGIN:STANDARD
TZOFFSETFROM:-0400
TZOFFSETTO:-0500
TZNAME:EST
DTSTART:20221106T060000
END:STANDARD
BEGIN:DAYLIGHT
TZOFFSETFROM:-0500
TZOFFSETTO:-0400
TZNAME:EDT
DTSTART:20230312T070000
END:DAYLIGHT
BEGIN:STANDARD
TZOFFSETFROM:-0400
TZOFFSETTO:-0500
TZNAME:EST
DTSTART:20231105T060000
END:STANDARD
END:VTIMEZONE
BEGIN:VEVENT
DTSTART;TZID=America/New_York:20220719T173000
DTEND;TZID=America/New_York:20220719T190000
DTSTAMP:20260425T180615
CREATED:20220426T231022Z
LAST-MODIFIED:20220426T231022Z
UID:10004119-1658251800-1658257200@lake-sunapee-living.com
SUMMARY:Tapestry Tuesdays at the New London Inn - Amber Crowtree
DESCRIPTION:Tapestry Tuesdays at the New London Inn -Amber Crowtree “Poetry Endures: A Reading of Life and Meaning.” \nwww.centerfortheartsnh.org/tapestry-tuesdays
URL:https://lake-sunapee-living.com/event/tapestry-tuesdays-at-the-new-london-inn-amber-crowtree/
LOCATION:New London Inn\, 353 Main St\, New London\, 03257
CATEGORIES:Book Reading
GEO:43.4140695;-71.9837098
X-APPLE-STRUCTURED-LOCATION;VALUE=URI;X-ADDRESS=New London Inn 353 Main St New London 03257;X-APPLE-RADIUS=500;X-TITLE=353 Main St:geo:-71.9837098,43.4140695
END:VEVENT
BEGIN:VEVENT
DTSTART;TZID=America/New_York:20221018T173000
DTEND;TZID=America/New_York:20221018T190000
DTSTAMP:20260425T180615
CREATED:20220506T011045Z
LAST-MODIFIED:20220506T011045Z
UID:10000603-1666114200-1666119600@lake-sunapee-living.com
SUMMARY:Tapestry Tuesdays at the New London Inn – Visual Arts Evening
DESCRIPTION:Tapestry Tuesdays at the New London Inn –Visual Arts Evening \nwww.centerfortheartsnh.org/tapestry-tuesdays
URL:https://lake-sunapee-living.com/event/tapestry-tuesdays-at-the-new-london-inn-visual-arts-evening/
LOCATION:New London Inn\, 353 Main St\, New London\, 03257
CATEGORIES:Art Exhibition
GEO:43.4140695;-71.9837098
X-APPLE-STRUCTURED-LOCATION;VALUE=URI;X-ADDRESS=New London Inn 353 Main St New London 03257;X-APPLE-RADIUS=500;X-TITLE=353 Main St:geo:-71.9837098,43.4140695
END:VEVENT
END:VCALENDAR