BEGIN:VCALENDAR
VERSION:2.0
PRODID:-//Lake Sunapee Living - ECPv6.15.13//NONSGML v1.0//EN
CALSCALE:GREGORIAN
METHOD:PUBLISH
X-ORIGINAL-URL:https://lake-sunapee-living.com
X-WR-CALDESC:Events for Lake Sunapee Living
REFRESH-INTERVAL;VALUE=DURATION:PT1H
X-Robots-Tag:noindex
X-PUBLISHED-TTL:PT1H
BEGIN:VTIMEZONE
TZID:America/New_York
BEGIN:DAYLIGHT
TZOFFSETFROM:-0500
TZOFFSETTO:-0400
TZNAME:EDT
DTSTART:20180311T070000
END:DAYLIGHT
BEGIN:STANDARD
TZOFFSETFROM:-0400
TZOFFSETTO:-0500
TZNAME:EST
DTSTART:20181104T060000
END:STANDARD
BEGIN:DAYLIGHT
TZOFFSETFROM:-0500
TZOFFSETTO:-0400
TZNAME:EDT
DTSTART:20190310T070000
END:DAYLIGHT
BEGIN:STANDARD
TZOFFSETFROM:-0400
TZOFFSETTO:-0500
TZNAME:EST
DTSTART:20191103T060000
END:STANDARD
BEGIN:DAYLIGHT
TZOFFSETFROM:-0500
TZOFFSETTO:-0400
TZNAME:EDT
DTSTART:20200308T070000
END:DAYLIGHT
BEGIN:STANDARD
TZOFFSETFROM:-0400
TZOFFSETTO:-0500
TZNAME:EST
DTSTART:20201101T060000
END:STANDARD
END:VTIMEZONE
BEGIN:VEVENT
DTSTART;TZID=America/New_York:20190511T170000
DTEND;TZID=America/New_York:20190511T200000
DTSTAMP:20260424T212213
CREATED:20190505T133417Z
LAST-MODIFIED:20190505T133435Z
UID:10003707-1557594000-1557604800@lake-sunapee-living.com
SUMMARY:Sunshine Town Social at the Newport Opera House
DESCRIPTION:Join us for a fun-filled tropical evening that raises money for local arts organizations! Silent auction\, live auction\, games\, cash bar\, and a delicious dinner catered by The Old Courthouse Restaurant! Ticket options include dinner tickets; bistro tickets (dessert and auctions\, games\, etc.) and the Paradise Package\, which includes games\, dinner\, drinks and more. Tickets available by calling 863-2412 or here: https://squareup.com/market/newport-opera-house-association
URL:https://lake-sunapee-living.com/event/sunshine-town-social/
LOCATION:Newport Opera House\, 20 Main St\, Newport\, NH\, 03773\, United States
CATEGORIES:Charity Benefit
GEO:43.3645861;-72.1725729
X-APPLE-STRUCTURED-LOCATION;VALUE=URI;X-ADDRESS=Newport Opera House 20 Main St Newport NH 03773 United States;X-APPLE-RADIUS=500;X-TITLE=20 Main St:geo:-72.1725729,43.3645861
END:VEVENT
END:VCALENDAR