BEGIN:VCALENDAR
VERSION:2.0
PRODID:-//Lake Sunapee Living - ECPv6.15.13//NONSGML v1.0//EN
CALSCALE:GREGORIAN
METHOD:PUBLISH
X-ORIGINAL-URL:https://lake-sunapee-living.com
X-WR-CALDESC:Events for Lake Sunapee Living
REFRESH-INTERVAL;VALUE=DURATION:PT1H
X-Robots-Tag:noindex
X-PUBLISHED-TTL:PT1H
BEGIN:VTIMEZONE
TZID:America/New_York
BEGIN:DAYLIGHT
TZOFFSETFROM:-0500
TZOFFSETTO:-0400
TZNAME:EDT
DTSTART:20170312T070000
END:DAYLIGHT
BEGIN:STANDARD
TZOFFSETFROM:-0400
TZOFFSETTO:-0500
TZNAME:EST
DTSTART:20171105T060000
END:STANDARD
BEGIN:DAYLIGHT
TZOFFSETFROM:-0500
TZOFFSETTO:-0400
TZNAME:EDT
DTSTART:20180311T070000
END:DAYLIGHT
BEGIN:STANDARD
TZOFFSETFROM:-0400
TZOFFSETTO:-0500
TZNAME:EST
DTSTART:20181104T060000
END:STANDARD
BEGIN:DAYLIGHT
TZOFFSETFROM:-0500
TZOFFSETTO:-0400
TZNAME:EDT
DTSTART:20190310T070000
END:DAYLIGHT
BEGIN:STANDARD
TZOFFSETFROM:-0400
TZOFFSETTO:-0500
TZNAME:EST
DTSTART:20191103T060000
END:STANDARD
END:VTIMEZONE
BEGIN:VEVENT
DTSTART;TZID=America/New_York:20180623T193000
DTEND;TZID=America/New_York:20180623T210000
DTSTAMP:20260425T113325
CREATED:20180509T003749Z
LAST-MODIFIED:20180509T003749Z
UID:10000252-1529782200-1529787600@lake-sunapee-living.com
SUMMARY:Summer Music Associates Concert: Boston Civic Symphony
DESCRIPTION:BOSTON CIVIC SYMPHONY – SATURDAY\, JUNE  23 \nFRANCISCO NOYA\, Musical Director \nCHRIS BRUBECK\, Trombone Soloist \n75-Piece Orchestra \nGrieg Piano Concerto\, Op. 16 in A Minor\, Andrew Li\, Soloist \nSelections from Prokofiev’s Romeo and Juliet \nChris Brubeck’s Trombone Concerto \nMore information 
URL:https://lake-sunapee-living.com/event/summer-music-associates-concert-boston-civic-symphony/
LOCATION:Colby–Sawyer College\, 541 Main St\, New London\,\, NH\, 03257\, United States
CATEGORIES:Concert
GEO:43.4122613;-71.977968
X-APPLE-STRUCTURED-LOCATION;VALUE=URI;X-ADDRESS=Colby–Sawyer College 541 Main St New London NH 03257 United States;X-APPLE-RADIUS=500;X-TITLE=541 Main St:geo:-71.977968,43.4122613
END:VEVENT
END:VCALENDAR