BEGIN:VCALENDAR
VERSION:2.0
PRODID:-//Lake Sunapee Living - ECPv6.15.13//NONSGML v1.0//EN
CALSCALE:GREGORIAN
METHOD:PUBLISH
X-ORIGINAL-URL:https://lake-sunapee-living.com
X-WR-CALDESC:Events for Lake Sunapee Living
REFRESH-INTERVAL;VALUE=DURATION:PT1H
X-Robots-Tag:noindex
X-PUBLISHED-TTL:PT1H
BEGIN:VTIMEZONE
TZID:America/New_York
BEGIN:DAYLIGHT
TZOFFSETFROM:-0500
TZOFFSETTO:-0400
TZNAME:EDT
DTSTART:20220313T070000
END:DAYLIGHT
BEGIN:STANDARD
TZOFFSETFROM:-0400
TZOFFSETTO:-0500
TZNAME:EST
DTSTART:20221106T060000
END:STANDARD
BEGIN:DAYLIGHT
TZOFFSETFROM:-0500
TZOFFSETTO:-0400
TZNAME:EDT
DTSTART:20230312T070000
END:DAYLIGHT
BEGIN:STANDARD
TZOFFSETFROM:-0400
TZOFFSETTO:-0500
TZNAME:EST
DTSTART:20231105T060000
END:STANDARD
BEGIN:DAYLIGHT
TZOFFSETFROM:-0500
TZOFFSETTO:-0400
TZNAME:EDT
DTSTART:20240310T070000
END:DAYLIGHT
BEGIN:STANDARD
TZOFFSETFROM:-0400
TZOFFSETTO:-0500
TZNAME:EST
DTSTART:20241103T060000
END:STANDARD
END:VTIMEZONE
BEGIN:VEVENT
DTSTART;TZID=America/New_York:20230420T193000
DTEND;TZID=America/New_York:20230420T210000
DTSTAMP:20260424T175424
CREATED:20230122T224144Z
LAST-MODIFIED:20230122T224144Z
UID:10004161-1682019000-1682024400@lake-sunapee-living.com
SUMMARY:Live Music: Stillhouse Junkies at the Flying Goose Brew Pub
DESCRIPTION:Stillhouse Junkies is a one-of-a-kind creative project born out of the collective passions of three individuals with very different musical backgrounds. With chops and stylistic leanings ranging from classical to West African\, blues\, bluegrass\, and swing\, Fred Kosak\, Alissa Wolf\, and Cody Tinnin came together around a shared goal of bringing sounds and grooves to their fans that fall outside of easy genre distinctions. With all three band members trading lead vocal\, songwriting\, and arranging duties\, Stillhouse Junkies paint with a rich tonal palette that pays homage to their musical heroes while forging a unique artistic path. \nBorn out of a long-standing weekly residency at a local distillery in Durango\, CO\, Stillhouse Junkies have quickly become a staple of Colorado and the Four Corners region’s vibrant music scene and a nationally recognized touring act\, establishing a solid fan base through multi-hour performances that feature soaring group improvisations\, novel re-imaginings of covers from the likes of Asia\, Caleb Klauder\, and Bill Withers\, and intimate vocal-driven ballads. \nflyinggoose.com/events/stillhouse-junkies/
URL:https://lake-sunapee-living.com/event/live-music-stillhouse-junkies-at-the-flying-goose-brew-pub/
LOCATION:The Flying Goose Pub\, 40 Andover Road\, New London\, NH\, 03257\, United States
CATEGORIES:Live Music
GEO:43.3994758;-71.9603714
X-APPLE-STRUCTURED-LOCATION;VALUE=URI;X-ADDRESS=The Flying Goose Pub 40 Andover Road New London NH 03257 United States;X-APPLE-RADIUS=500;X-TITLE=40 Andover Road:geo:-71.9603714,43.3994758
END:VEVENT
END:VCALENDAR