BEGIN:VCALENDAR
VERSION:2.0
PRODID:-//Lake Sunapee Living - ECPv6.15.13//NONSGML v1.0//EN
CALSCALE:GREGORIAN
METHOD:PUBLISH
X-ORIGINAL-URL:https://lake-sunapee-living.com
X-WR-CALDESC:Events for Lake Sunapee Living
REFRESH-INTERVAL;VALUE=DURATION:PT1H
X-Robots-Tag:noindex
X-PUBLISHED-TTL:PT1H
BEGIN:VTIMEZONE
TZID:America/New_York
BEGIN:DAYLIGHT
TZOFFSETFROM:-0500
TZOFFSETTO:-0400
TZNAME:EDT
DTSTART:20170312T070000
END:DAYLIGHT
BEGIN:STANDARD
TZOFFSETFROM:-0400
TZOFFSETTO:-0500
TZNAME:EST
DTSTART:20171105T060000
END:STANDARD
BEGIN:DAYLIGHT
TZOFFSETFROM:-0500
TZOFFSETTO:-0400
TZNAME:EDT
DTSTART:20180311T070000
END:DAYLIGHT
BEGIN:STANDARD
TZOFFSETFROM:-0400
TZOFFSETTO:-0500
TZNAME:EST
DTSTART:20181104T060000
END:STANDARD
BEGIN:DAYLIGHT
TZOFFSETFROM:-0500
TZOFFSETTO:-0400
TZNAME:EDT
DTSTART:20190310T070000
END:DAYLIGHT
BEGIN:STANDARD
TZOFFSETFROM:-0400
TZOFFSETTO:-0500
TZNAME:EST
DTSTART:20191103T060000
END:STANDARD
END:VTIMEZONE
BEGIN:VEVENT
DTSTART;TZID=America/New_York:20181223T110000
DTEND;TZID=America/New_York:20181223T130000
DTSTAMP:20260425T164759
CREATED:20181215T165304Z
LAST-MODIFIED:20181215T165518Z
UID:10000258-1545562800-1545570000@lake-sunapee-living.com
SUMMARY:Live Music: Senie Hunt-Stewart at The Village Cafe
DESCRIPTION:Join us for some music by the wonderful Senie Hunt-Stewart. \nOur last day before the holidays.
URL:https://lake-sunapee-living.com/event/live-music-senie-hunt-stewart-at-the-village-cafe-with/
LOCATION:The Village Café\, 11 West Main Street\, Bradford\, NH\, 03221\, United States
CATEGORIES:Live Music
GEO:43.2697322;-71.9665766
X-APPLE-STRUCTURED-LOCATION;VALUE=URI;X-ADDRESS=The Village Café 11 West Main Street Bradford NH 03221 United States;X-APPLE-RADIUS=500;X-TITLE=11 West Main Street:geo:-71.9665766,43.2697322
END:VEVENT
END:VCALENDAR